{"text_format":"2","workbook":"xlsx","n_sheets":2,"sheets":["基本版 (2)","Basic Information"],"not_rendered":{"charts":0,"images":43,"macros":0,"external_links":1,"defined_names":4,"comments":0,"pivot_tables":0},"unopened":[],"bounds":{"document_bytes":16777216,"sheet_cells":100000,"run_cost":"one","rows_first":2000,"rows_last":500,"rows_between":2000,"halvings":0,"cell_chars":16384,"cell_head_chars":4096},"cells_cut":0,"cells_raw":0,"read":"whole","date_system":"1900"}

{"sheet":"基本版 (2)","index":0,"n_rows":481,"n_cols":8,"rows_kept":481,"cut":false,"hidden":true,"merged":[[0,2,0,3]]}
["序号","编码","中/英文品名及规格",null,"单位","数量","零售价  （不含税）"]
[1,null,null,null,"件"]
[2,"380700-T501-00000","转向阻尼器",null,"件",1,null,{"$f":"VLOOKUP(B3,[1]Sheet1!$B$2:$C$394,1,0)","v":"380700-T501-00000"}]
[3,"5021-06016-BS00","内六花六角法兰面螺栓M6x16(盘11)",null,"件",2,"方向阻力器支架与车架",{"$f":"VLOOKUP(B4,[1]Sheet1!$B$2:$C$394,1,0)","v":"5021-06016-BS00"}]
[4,"380800-T501-00000","转向阻尼器调节座",null,"件",1,null,{"$f":"VLOOKUP(B5,[1]Sheet1!$B$2:$C$394,1,0)","v":"380800-T501-00000"}]
[5,"360006-T501-00000","车架焊接总成",null,"件",1,null,{"$f":"VLOOKUP(B6,[1]Sheet1!$B$2:$C$394,1,0)","v":"360006-T501-00000"}]
[6,"900001-R100-000","车架铭牌85*25",null,"件",1,null,{"$f":"VLOOKUP(B7,[1]Sheet1!$B$2:$C$394,1,0)","v":"900001-R100-000"}]
[7,"5015-03010-SC00","铆钉3.2*10",null,"件",2,"铭牌与车架",{"$f":"VLOOKUP(B8,[1]Sheet1!$B$2:$C$394,1,0)","v":"5015-03010-SC00"}]
[8,"5008-08085-SC00","六角法兰面自锁螺母M8*1.25",null,"件",2,"发动机前悬挂与车架",{"$f":"VLOOKUP(B9,[1]Sheet1!$B$2:$C$394,1,0)","v":"5008-08085-SC00"}]
[9,"360077-T501-00000","喇叭支架",null,"件",1,null,{"$f":"VLOOKUP(B10,[1]Sheet1!$B$2:$C$394,1,0)","v":"360077-T501-00000"}]
[10,"360037-T501-00000","发动机前悬挂-左",null,"件",1,null,{"$f":"VLOOKUP(B11,[1]Sheet1!$B$2:$C$394,1,0)","v":"360037-T501-00000"}]
[11,"5021-08016-BS00","内六花六角法兰面螺栓M8x16(盘16)",null,"件",4,"发动机上悬挂板安装",{"$f":"VLOOKUP(B12,[1]Sheet1!$B$2:$C$394,1,0)","v":"5021-08016-BS00"}]
[12,"360039-T501-00000","发动机上悬挂-左",null,"件",1,null,{"$f":"VLOOKUP(B13,[1]Sheet1!$B$2:$C$394,1,0)","v":"360039-T501-00000"}]
[13,"910004-T501-00003","发动机下悬挂衬套-左∮10.5*∮24*5",null,"件",1,"系统",{"$f":"VLOOKUP(B14,[1]Sheet1!$B$2:$C$394,1,0)","v":{"$error":"#N/A"}}]
[14,"360040-T501-00000","发动机上悬挂-右",null,"件",1,null,{"$f":"VLOOKUP(B15,[1]Sheet1!$B$2:$C$394,1,0)","v":"360040-T501-00000"}]
[15,"360038-T501-00000","发动机前悬挂-右",null,"件",1,null,{"$f":"VLOOKUP(B16,[1]Sheet1!$B$2:$C$394,1,0)","v":"360038-T501-00000"}]
[16,"5021-08115-BS00","内六花六角法兰面螺栓M8x115(盘16)",null,"件",2,"发动机前悬挂",{"$f":"VLOOKUP(B17,[1]Sheet1!$B$2:$C$394,1,0)","v":"5021-08115-BS00"}]
[17,"910004-T501-00002","发动机下悬挂衬套-右∮10.5*∮20*26.5",null,"件",1,null,{"$f":"VLOOKUP(B18,[1]Sheet1!$B$2:$C$394,1,0)","v":"910004-T501-00002"}]
[18,"5008-10115-SC00","六角法兰面自锁螺母M10*1.25",null,"件",1,"侧支架与车架",{"$f":"VLOOKUP(B19,[1]Sheet1!$B$2:$C$394,1,0)","v":"5008-10115-SC00"}]
[19,"370013-T501-00000","侧支架",null,"件",1,null,{"$f":"VLOOKUP(B20,[1]Sheet1!$B$2:$C$394,1,0)","v":"370013-T501-00000"}]
[20,"5007-10042-BS00","侧支架专用螺栓M10×42.3 ",null,"件",1,"侧支架安装",{"$f":"VLOOKUP(B21,[1]Sheet1!$B$2:$C$394,1,0)","v":"5007-10042-BS00"}]
[21,"360057-T501-00000","侧支架安装挂板",null,"件",1,null,{"$f":"VLOOKUP(B22,[1]Sheet1!$B$2:$C$394,1,0)","v":"360057-T501-00000"}]
[22,"360020-T501-00001","侧支架簧∮9.5,线径1.6mm",null,"件",1,null,{"$f":"VLOOKUP(B23,[1]Sheet1!$B$2:$C$394,1,0)","v":"360020-T501-00001"}]
[23,"360020-T501-00000","侧支架簧∮15*110,线径2.5mm",null,"件",1,null,{"$f":"VLOOKUP(B24,[1]Sheet1!$B$2:$C$394,1,0)","v":"360020-T501-00000"}]
[1,"5001-14030-YH00","六角法兰面螺栓M14*1.5*30",null,"件",1,"上联接板与方向柱",{"$f":"VLOOKUP(B25,[1]Sheet1!$B$2:$C$394,1,0)","v":"5001-14030-YH00"}]
[2,"5018-15010-SC00","平垫∮15*∮33*1",null,"件",1,null,{"$f":"VLOOKUP(B26,[1]Sheet1!$B$2:$C$394,1,0)","v":"5018-15010-SC00"}]
[3,"5021-08035-BS00","内六花六角法兰面螺栓M8x35(盘13)",null,"件",4,"上联接板与减震",{"$f":"VLOOKUP(B27,[1]Sheet1!$B$2:$C$394,1,0)","v":"5021-08035-BS00"}]
[4,"370020-T501-00000","上连接板",null,"件",1,null,{"$f":"VLOOKUP(B28,[1]Sheet1!$B$2:$C$394,1,0)","v":"370020-T501-00000"}]
[5,"350025-T501-00000","油管卡子",null,"件",2,null,{"$f":"VLOOKUP(B29,[1]Sheet1!$B$2:$C$394,1,0)","v":"350025-T501-00000"}]
[6,"5021-08040-BS00","内六花六角法兰面螺栓M8x40(盘13)",null,"件",4,"下连接板与减震",{"$f":"VLOOKUP(B30,[1]Sheet1!$B$2:$C$394,1,0)","v":"5021-08040-BS00"}]
[7,"370102-T501-00000","下连接板",null,"件",1,null,{"$f":"VLOOKUP(B31,[1]Sheet1!$B$2:$C$394,1,0)","v":"370102-T501-00000"}]
[8,"370101-T501-00000","方向柱",null,"件",1,null,{"$f":"VLOOKUP(B32,[1]Sheet1!$B$2:$C$394,1,0)","v":"370101-T501-00000"}]
[9,"5010-25100-YH00","4槽调节螺母M25*1.0*10*44",null,"件",1,"方向柱锁紧",{"$f":"VLOOKUP(B33,[1]Sheet1!$B$2:$C$394,1,0)","v":"5010-25100-YH00"}]
[10,"371100-R100-00001","方向柱上防尘盖∮26mm*∮53mm,厚4.15",null,"件",1,null,{"$f":"VLOOKUP(B34,[1]Sheet1!$B$2:$C$394,1,0)","v":"371100-R100-00001"}]
[11,"370600-R100-000","方向上轴承32005",null,"件",1,null,{"$f":"VLOOKUP(B35,[1]Sheet1!$B$2:$C$394,1,0)","v":"370600-R100-000"}]
[12,"370700-R100-000","方向下轴承32006E",null,"件",1,null,{"$f":"VLOOKUP(B36,[1]Sheet1!$B$2:$C$394,1,0)","v":"370700-R100-000"}]
[13,"371200-R100-00001","方向柱下防尘盖∮30.2mm*∮61mm,厚5.06",null,"件",1,null,{"$f":"VLOOKUP(B37,[1]Sheet1!$B$2:$C$394,1,0)","v":"371200-R100-00001"}]
[14,"5021-06012-BS00","内六花六角法兰面螺栓M6x12(盘11)",null,"件",2,"李棋强，8.27日8：54新增1",{"$f":"VLOOKUP(B38,[1]Sheet1!$B$2:$C$394,1,0)","v":"5021-06012-BS00"}]
[1,"5010-16110-SC00","前轮轴螺母M16*1.5*11",null,"件",1,"前轮轴和平叉轴螺母",{"$f":"VLOOKUP(B39,[1]Sheet1!$B$2:$C$394,1,0)","v":"5010-16110-SC00"}]
[2,"5103-303704-000","油封∮30*∮37*4",null,"件",2,null,{"$f":"VLOOKUP(B40,[1]Sheet1!$B$2:$C$394,1,0)","v":"5103-303704-000"}]
[3,"910014-T501-00000","T型轴套∮17*∮22*40",null,"件",2,null,{"$f":"VLOOKUP(B41,[1]Sheet1!$B$2:$C$394,1,0)","v":"910014-T501-00000"}]
[4,"5106-223603-BS0","推力轴承∮22.2*∮36.5*3.6",null,"件",2,null,{"$f":"VLOOKUP(B42,[1]Sheet1!$B$2:$C$394,1,0)","v":"5106-223603-BS0"}]
[5,"5102-222930-BS0","滚针轴承∮22*∮29*30",null,"件",2,null,{"$f":"VLOOKUP(B43,[1]Sheet1!$B$2:$C$394,1,0)","v":"5102-222930-BS0"}]
[6,"5103-222904-000","油封∮22*∮29*4",null,"件",2,null,{"$f":"VLOOKUP(B44,[1]Sheet1!$B$2:$C$394,1,0)","v":"5103-222904-000"}]
[7,"420019-R201-000","平叉防尘盖",null,"件",4,null,{"$f":"VLOOKUP(B45,[1]Sheet1!$B$2:$C$394,1,0)","v":"420019-R201-000"}]
[8,"360300-T501-00000","平叉",null,"件",1,null,{"$f":"VLOOKUP(B46,[1]Sheet1!$B$2:$C$394,1,0)","v":"360300-T501-00000"}]
[9,"370011-T501-00000","链条调节器-左",null,"件",1,null,{"$f":"VLOOKUP(B47,[1]Sheet1!$B$2:$C$394,1,0)","v":"370011-T501-00000"}]
[10,"370012-T501-00000","链条调节器-右",null,"件",1,null,{"$f":"VLOOKUP(B48,[1]Sheet1!$B$2:$C$394,1,0)","v":"370012-T501-00000"}]
[11,"5008-08065-SC00","六角螺母M8",null,"件",2,"链条调节",{"$f":"VLOOKUP(B49,[1]Sheet1!$B$2:$C$394,1,0)","v":"5008-08065-SC00"}]
[12,"5002-08055-BS00","六角螺栓M8*55",null,"件",2,"链条调节",{"$f":"VLOOKUP(B50,[1]Sheet1!$B$2:$C$394,1,0)","v":"5002-08055-BS00"}]
[13,"360026-T501-00000","导链器",null,"件",1,null,{"$f":"VLOOKUP(B51,[1]Sheet1!$B$2:$C$394,1,0)","v":"360026-T501-00000"}]
[14,"420059-T501-00000","导链器橡胶块",null,"件",1,null,{"$f":"VLOOKUP(B52,[1]Sheet1!$B$2:$C$394,1,0)","v":"420059-T501-00000"}]
[15,"420059-T501-00001","导链器橡胶块",null,"件",1,null,{"$f":"VLOOKUP(B53,[1]Sheet1!$B$2:$C$394,1,0)","v":"420059-T501-00001"}]
[16,"5005-06012-BS01","十字盘头螺钉M6*12(盘头直径10.5)","BOM:5005-06012-BS02","件",3,"链条护卡",{"$f":"VLOOKUP(B54,[1]Sheet1!$B$2:$C$394,1,0)","v":{"$error":"#N/A"}}]
[17,"420018-R100-000","链条护卡压板",null,"件",3,null,{"$f":"VLOOKUP(B55,[1]Sheet1!$B$2:$C$394,1,0)","v":"420018-R100-000"}]
[18,"5021-06048-BS00","内六花六角法兰面螺栓M6x48(盘11)",null,"件",2,"导链器与平叉",{"$f":"VLOOKUP(B56,[1]Sheet1!$B$2:$C$394,1,0)","v":"5021-06048-BS00"}]
[19,"5008-06070-SC00","六角法兰面螺母M6",null,"件",2,"导链器与平叉",{"$f":"VLOOKUP(B57,[1]Sheet1!$B$2:$C$394,1,0)","v":"5008-06070-SC00"}]
[20,"5021-06012-BS00","内六花六角法兰面螺栓M6x12(盘11)",null,"件",1,"导链器与平叉",{"$f":"VLOOKUP(B58,[1]Sheet1!$B$2:$C$394,1,0)","v":"5021-06012-BS00"}]
[21,"370017-T501-00000","链条护卡",null,"件",1,null,{"$f":"VLOOKUP(B59,[1]Sheet1!$B$2:$C$394,1,0)","v":"370017-T501-00000"}]
[22,"410002-T501-00000","平叉轴",null,"件",1,null,{"$f":"VLOOKUP(B60,[1]Sheet1!$B$2:$C$394,1,0)","v":"410002-T501-00000"}]
[23,"5018-17025-BS00","平垫∮17*∮32*2.5",null,"件",1,"平叉轴锁紧",{"$f":"VLOOKUP(B61,[1]Sheet1!$B$2:$C$394,1,0)","v":"5018-17025-BS00"}]
[1,"5021-10052-BS00","内六花六角法兰面螺栓M10x52",null,"件",1,"后减震上方与车架",{"$f":"VLOOKUP(B62,[1]Sheet1!$B$2:$C$394,1,0)","v":"5021-10052-BS00"}]
[2.1,"371500-T501-00000","后减震器(KYB减震)",null,"件",1,null,{"$f":"VLOOKUP(B63,[1]Sheet1!$B$2:$C$394,1,0)","v":"371500-T501-00000"}]
[2.2,"371500-T501-00001","后减震器(渝安减震)",null,"件",1,null,{"$f":"VLOOKUP(B64,[1]Sheet1!$B$2:$C$394,1,0)","v":"371500-T501-00001"}]
[3,"5008-08085-SC00","六角法兰面自锁螺母M8*1.25",null,"件",1,"导链轮安装",{"$f":"VLOOKUP(B65,[1]Sheet1!$B$2:$C$394,1,0)","v":"5008-08085-SC00"}]
[4,"360800-T501-00000","导链轮总成",null,"件",1,null,{"$f":"VLOOKUP(B66,[1]Sheet1!$B$2:$C$394,1,0)","v":"360800-T501-00000"}]
[5,"5007-10061-BS00","导链轮螺栓M10*61",null,"件",1,"导链轮安装",{"$f":"VLOOKUP(B67,[1]Sheet1!$B$2:$C$394,1,0)","v":"5007-10061-BS00"}]
[6,"5103-222804-000","油封∮22*∮28*4",null,"件",2,null,{"$f":"VLOOKUP(B68,[1]Sheet1!$B$2:$C$394,1,0)","v":"5103-222804-000"}]
[7,"5013-10005-BS00","翻边衬套∮10.1*∮22*5",null,"件",2,"U形摇架与车架",{"$f":"VLOOKUP(B69,[1]Sheet1!$B$2:$C$394,1,0)","v":"5013-10005-BS00"}]
[8,"5018-18015-BS00","平垫∮18x∮27x1.5",null,"件",2,"U形摇架内部装",{"$f":"VLOOKUP(B70,[1]Sheet1!$B$2:$C$394,1,0)","v":"5018-18015-BS00"}]
[9,"5102-182420-BS0","滚针轴承∮18*∮24*20",null,"件",2,null,{"$f":"VLOOKUP(B71,[1]Sheet1!$B$2:$C$394,1,0)","v":{"$error":"#N/A"}}]
[10,"360008-T501-00001","U型摇架",null,"件",1,null,{"$f":"VLOOKUP(B72,[1]Sheet1!$B$2:$C$394,1,0)","v":"360008-T501-00001"}]
[11,"910016-T501-00000","U型摇架轴套∮10*∮18*87.5",null,"件",1,null,{"$f":"VLOOKUP(B73,[1]Sheet1!$B$2:$C$394,1,0)","v":{"$error":"#N/A"}}]
[12,"5001-10130-BS00","六角法兰面螺栓M10*1.25*130",null,"件",1,"U形摇架与车架",{"$f":"VLOOKUP(B74,[1]Sheet1!$B$2:$C$394,1,0)","v":"5001-10130-BS00"}]
[13,"5008-10115-SC00","六角法兰面自锁螺母M10*1.25",null,"件",1,"后减震与三角摇架",{"$f":"VLOOKUP(B75,[1]Sheet1!$B$2:$C$394,1,0)","v":"5008-10115-SC00"}]
[14,"5103-172603-000","油封∮17.5*∮26*3",null,"件",2,null,{"$f":"VLOOKUP(B76,[1]Sheet1!$B$2:$C$394,1,0)","v":"5103-172603-000"}]
[15,"360007-T501-00000","三角摇架",null,"件",1,null,{"$f":"VLOOKUP(B77,[1]Sheet1!$B$2:$C$394,1,0)","v":"360007-T501-00000"}]
[16,"910015-T501-00001","三角摇架轴套∮12*∮20*37",null,"件",1,null,{"$f":"VLOOKUP(B78,[1]Sheet1!$B$2:$C$394,1,0)","v":"910015-T501-00001"}]
[17,"910015-T501-00002","三角摇架轴套∮14*∮19*10.6",null,"件",1,null,{"$f":"VLOOKUP(B79,[1]Sheet1!$B$2:$C$394,1,0)","v":{"$error":"#N/A"}}]
[18,"910017-T501-00000","翻边轴承套∮10*∮14*7.2",null,"件",2,null,{"$f":"VLOOKUP(B80,[1]Sheet1!$B$2:$C$394,1,0)","v":{"$error":"#N/A"}}]
[19,"5102-192512-BS0","滚针轴承∮19.05*∮25.4*12.7",null,"件",1,null,{"$f":"VLOOKUP(B81,[1]Sheet1!$B$2:$C$394,1,0)","v":{"$error":"#N/A"}}]
[20,"5007-10045-BS00","扁头螺栓M10*45",null,"件",1,"三角摇架与后减",{"$f":"VLOOKUP(B82,[1]Sheet1!$B$2:$C$394,1,0)","v":"5007-10045-BS00"}]
[21,"5007-12085-BS00","扁头螺栓M12×85",null,"件",1,"三角摇架与平叉",{"$f":"VLOOKUP(B83,[1]Sheet1!$B$2:$C$394,1,0)","v":"5007-12085-BS00"}]
[22,"5008-12125-SC00","六角法兰面自锁螺母M12*1.25",null,"件",2,"U形摇架与三角摇架；三角摇架与平叉",{"$f":"VLOOKUP(B84,[1]Sheet1!$B$2:$C$394,1,0)","v":"5008-12125-SC00"}]
[23,"5103-253204-000","油封∮25*∮32*4",null,"件",4,null,{"$f":"VLOOKUP(B85,[1]Sheet1!$B$2:$C$394,1,0)","v":"5103-253204-000"}]
[24,"5013-12005-BS00","翻边衬套∮12.1*∮25*5",null,"件",4,"三角摇架",{"$f":"VLOOKUP(B86,[1]Sheet1!$B$2:$C$394,1,0)","v":"5013-12005-BS00"}]
[25,"5018-20115-BS00","平垫∮20.1*∮31*1.5",null,"件",4,"三角摇架平垫",{"$f":"VLOOKUP(B87,[1]Sheet1!$B$2:$C$394,1,0)","v":"5018-20115-BS00"}]
[26,"5102-202614-BS0","滚针轴承∮20*∮26*14",null,"件",4,null,{"$f":"VLOOKUP(B88,[1]Sheet1!$B$2:$C$394,1,0)","v":{"$error":"#N/A"}}]
[27,"910015-T501-00000","三角摇架轴套∮12*∮20*61.5",null,"件",1,null,{"$f":"VLOOKUP(B89,[1]Sheet1!$B$2:$C$394,1,0)","v":"910015-T501-00000"}]
[28,"5007-12105-BS00","扁头螺栓M12*105",null,"件",1,"三角摇架与U型摇架",{"$f":"VLOOKUP(B90,[1]Sheet1!$B$2:$C$394,1,0)","v":"5007-12105-BS00"}]
[1,"350027-T501-00000","前轮外胎",null,"件",1,null,{"$f":"VLOOKUP(B91,[1]Sheet1!$B$2:$C$394,1,0)","v":"350027-T501-00000"}]
[2,"350013-R100-000","气门嘴",null,"件",1,null,{"$f":"VLOOKUP(B92,[1]Sheet1!$B$2:$C$394,1,0)","v":"350013-R100-000"}]
[3,"350014-T501-00000","气门嘴盖",null,"件",1,"系统",{"$f":"VLOOKUP(B93,[1]Sheet1!$B$2:$C$394,1,0)","v":{"$error":"#N/A"}}]
[4,"352000-T501-00000","前网轮总成",null,"件",1,null,{"$f":"VLOOKUP(B94,[1]Sheet1!$B$2:$C$394,1,0)","v":"352000-T501-00000"}]
[5,"351700-T501-00000","前碟刹盘",null,"件",1,null,{"$f":"VLOOKUP(B95,[1]Sheet1!$B$2:$C$394,1,0)","v":"351700-T501-00000"}]
[6,"5021-06012-BS00","内六花六角法兰面螺栓M6x12(盘11)",null,"件",6,"前刹车盘安装",{"$f":"VLOOKUP(B96,[1]Sheet1!$B$2:$C$394,1,0)","v":"5021-06012-BS00"}]
[7.1,"410001-T501-00000","前轮轴(KYB减震器,长度238)",null,"件",1,null,{"$f":"VLOOKUP(B97,[1]Sheet1!$B$2:$C$394,1,0)","v":"410001-T501-00000"}]
[7.2,"410001-T501-00001","前轮轴(渝安减震器,长度229)",null,"件",1,null,{"$f":"VLOOKUP(B98,[1]Sheet1!$B$2:$C$394,1,0)","v":"410001-T501-00001"}]
[8,"5010-16110-SC00","前轮轴螺母M16*1.5*11",null,"件",1,null,{"$f":"VLOOKUP(B99,[1]Sheet1!$B$2:$C$394,1,0)","v":"5010-16110-SC00"}]
[9,"350041-T501-00000","前轮速传感器支架",null,"件",1,null,{"$f":"VLOOKUP(B100,[1]Sheet1!$B$2:$C$394,1,0)","v":"350041-T501-00000"}]
[10,"5004-05008-BS00","内六角盘头螺钉M5*8",null,"件",1,null,{"$f":"VLOOKUP(B101,[1]Sheet1!$B$2:$C$394,1,0)","v":{"$error":"#N/A"}}]
[11,"350041-T501-00001","前轮速传感器支架",null,"件",1,null,{"$f":"VLOOKUP(B102,[1]Sheet1!$B$2:$C$394,1,0)","v":"350041-T501-00001"}]
[12,"5103-273707-000","油封∮27*∮37*7",null,"件",2,null,{"$f":"VLOOKUP(B103,[1]Sheet1!$B$2:$C$394,1,0)","v":"5103-273707-000"}]
[13,"910012-T501-00002","前轮衬套-右∮20*∮27*13.5",null,"件",1,null,{"$f":"VLOOKUP(B104,[1]Sheet1!$B$2:$C$394,1,0)","v":"910012-T501-00002"}]
[14,"5101-203709-BS0","轴承20*37*9",null,"件",2,"系统",{"$f":"VLOOKUP(B105,[1]Sheet1!$B$2:$C$394,1,0)","v":{"$error":"#N/A"}}]
[15,"910004-R201-000","衬套∮5.3*∮7.3*5",null,"件",1,null,{"$f":"VLOOKUP(B106,[1]Sheet1!$B$2:$C$394,1,0)","v":"910004-R201-000"}]
[16,"910001-T500-00000","前轮衬套-左",null,"件",1,null,{"$f":"VLOOKUP(B107,[1]Sheet1!$B$2:$C$394,1,0)","v":"910001-T500-00000"}]
[1,"350030-T501-00000","后轮外胎",null,"件",1,null,{"$f":"VLOOKUP(B108,[1]Sheet1!$B$2:$C$394,1,0)","v":"350030-T501-00000"}]
[2,"350013-R100-000","气门嘴",null,"件",1,null,{"$f":"VLOOKUP(B109,[1]Sheet1!$B$2:$C$394,1,0)","v":"350013-R100-000"}]
[3,"350014-T501-00000","气门嘴盖",null,"件",1,"系统",{"$f":"VLOOKUP(B110,[1]Sheet1!$B$2:$C$394,1,0)","v":{"$error":"#N/A"}}]
[4,"352100-T501-00000","后网轮总成",null,"件",1,null,{"$f":"VLOOKUP(B111,[1]Sheet1!$B$2:$C$394,1,0)","v":"352100-T501-00000"}]
[5,"351800-T501-00000","后碟刹盘",null,"件",1,null,{"$f":"VLOOKUP(B112,[1]Sheet1!$B$2:$C$394,1,0)","v":"351800-T501-00000"}]
[6,"5021-06016-BS00","内六花六角法兰面螺栓M6x16(盘11)",null,"件",4,"后碟刹盘与后轮",{"$f":"VLOOKUP(B113,[1]Sheet1!$B$2:$C$394,1,0)","v":"5021-06016-BS00"}]
[7,"410003-T501-00000","后轮轴",null,"件",1,null,{"$f":"VLOOKUP(B114,[1]Sheet1!$B$2:$C$394,1,0)","v":"410003-T501-00000"}]
[8,"910002-T500-00000","后轮衬套-左",null,"件",1,null,{"$f":"VLOOKUP(B115,[1]Sheet1!$B$2:$C$394,1,0)","v":"910002-T500-00000"}]
[9,"910003-T500-00000","后轮衬套-右",null,"件",1,null,{"$f":"VLOOKUP(B116,[1]Sheet1!$B$2:$C$394,1,0)","v":"910003-T500-00000"}]
[10,"5018-22520-BS00","平垫∮22.5*∮35*2",null,"件",1,null,{"$f":"VLOOKUP(B117,[1]Sheet1!$B$2:$C$394,1,0)","v":"5018-22520-BS00"}]
[11,"5010-22125-SC00","后轮轴螺母M22*1.5",null,"件",1,"后轮轴螺母",{"$f":"VLOOKUP(B118,[1]Sheet1!$B$2:$C$394,1,0)","v":"5010-22125-SC00"}]
[12,"5101-255215-BS0","轴承25*52*15",null,"件",2,"系统",{"$f":"VLOOKUP(B119,[1]Sheet1!$B$2:$C$394,1,0)","v":{"$error":"#N/A"}}]
[13,"910004-R201-000","衬套∮5.3*∮7.3*5",null,"件",1,null,{"$f":"VLOOKUP(B120,[1]Sheet1!$B$2:$C$394,1,0)","v":"910004-R201-000"}]
[14,"5103-325207-000","油封∮32*∮52*7",null,"件",1,null,{"$f":"VLOOKUP(B121,[1]Sheet1!$B$2:$C$394,1,0)","v":"5103-325207-000"}]
[1,"300501-T501-00000","应急储水壶盖子",null,"件",1,null,{"$f":"VLOOKUP(B122,[1]Sheet1!$B$2:$C$394,1,0)","v":"300501-T501-00000"}]
[2,"5104-019030-000","O型圈",null,"件",1,null,{"$f":"VLOOKUP(B123,[1]Sheet1!$B$2:$C$394,1,0)","v":"5104-019030-000"}]
[3,"300500-T501-00000","应急储水壶",null,"件",1,null,{"$f":"VLOOKUP(B124,[1]Sheet1!$B$2:$C$394,1,0)","v":"300500-T501-00000"}]
[4,"5021-06013-BS01","内六花六角法兰面螺栓M6x13(盘18)",null,"件",5,"下护板安装",{"$f":"VLOOKUP(B125,[1]Sheet1!$B$2:$C$394,1,0)","v":"5021-06013-BS01"}]
[5,"5021-05012-BS00","内六花六角法兰面螺栓M5x12",null,"件",2,"油冷格删与下护板",{"$f":"VLOOKUP(B126,[1]Sheet1!$B$2:$C$394,1,0)","v":"5021-05012-BS00"}]
[6,"5009-05070-DK00","螺纹夹板M5",null,"件",2,"油冷格删与下护板",{"$f":"VLOOKUP(B127,[1]Sheet1!$B$2:$C$394,1,0)","v":"5009-05070-DK00"}]
[7,"390097-T501-00000","油冷格栅",null,"件",1,null,{"$f":"VLOOKUP(B128,[1]Sheet1!$B$2:$C$394,1,0)","v":"390097-T501-00000"}]
[8,"5021-06012-BS00","内六花六角法兰面螺栓",null,"件",5,"应急水壶与下护板",{"$f":"VLOOKUP(B129,[1]Sheet1!$B$2:$C$394,1,0)","v":"5021-06012-BS00"}]
[9,"5009-06093-BS00","搭扣",null,"件",1,"工具盒盖安装",{"$f":"VLOOKUP(B130,[1]Sheet1!$B$2:$C$394,1,0)","v":"5009-06093-BS00"}]
[10,"5020-05405-BS00","挡圈∮5.4*∮12.5*0.5",null,"件",1,"工具盒盖安装",{"$f":"VLOOKUP(B131,[1]Sheet1!$B$2:$C$394,1,0)","v":"5020-05405-BS00"}]
[11,"390078-T501-00000","工具盒盖",null,"件",1,null,{"$f":"VLOOKUP(B132,[1]Sheet1!$B$2:$C$394,1,0)","v":"390078-T501-00000"}]
[12,"5018-06520-BS00","平垫∮6.5*∮20*2",null,"件",1,"工具盒盖安装",{"$f":"VLOOKUP(B133,[1]Sheet1!$B$2:$C$394,1,0)","v":"5018-06520-BS00"}]
[13,"5007-06016-HX00","1/4转快锁式螺栓",null,"件",1,"工具盒盖安装",{"$f":"VLOOKUP(B134,[1]Sheet1!$B$2:$C$394,1,0)","v":"5007-06016-HX00"}]
[14,"5018-06015-BS00","平垫∮6*∮18*1.5",null,"件",5,"应急水壶左后与护板",{"$f":"VLOOKUP(B135,[1]Sheet1!$B$2:$C$394,1,0)","v":"5018-06015-BS00"}]
[15,"390029-T501-00000","发动机下护板",null,"件",1,null,{"$f":"VLOOKUP(B136,[1]Sheet1!$B$2:$C$394,1,0)","v":"390029-T501-00000"}]
[1,"310006-T501-00001","前油箱盖",null,"件",1,null,{"$f":"VLOOKUP(B137,[1]Sheet1!$B$2:$C$394,1,0)","v":"310006-T501-00001"}]
[2,"420061-T501-00000","油箱盖密封圈",null,"件",1,null,{"$f":"VLOOKUP(B138,[1]Sheet1!$B$2:$C$394,1,0)","v":"420061-T501-00000"}]
[3,"5003-08020-BS00","内六花圆柱头螺钉M8*20",null,"件",1,"前油箱上安装点",{"$f":"VLOOKUP(B139,[1]Sheet1!$B$2:$C$394,1,0)","v":"5003-08020-BS00"}]
[4,"5021-05012-BS00","内六花六角法兰面螺栓M5x12",null,"件",2,"护板安装支架与左右前油箱",{"$f":"VLOOKUP(B140,[1]Sheet1!$B$2:$C$394,1,0)","v":"5021-05012-BS00"}]
[5,"910013-T501-00000","前油箱安装衬套",null,"件",3,null,{"$f":"VLOOKUP(B141,[1]Sheet1!$B$2:$C$394,1,0)","v":"910013-T501-00000"}]
[6,"360045-T501-00000","油箱前护板支架",null,"件",1,null,{"$f":"VLOOKUP(B142,[1]Sheet1!$B$2:$C$394,1,0)","v":"360045-T501-00000"}]
[7,"5009-06093-BS00","搭扣M6*9.3,宽25长25",null,"件",1,"油箱前装饰件与左右前油箱",{"$f":"VLOOKUP(B143,[1]Sheet1!$B$2:$C$394,1,0)","v":"5009-06093-BS00"}]
[8,"420008-T501-00001","工字胶圈∮29*∮19.5*25",null,"件",2,null,{"$f":"VLOOKUP(B144,[1]Sheet1!$B$2:$C$394,1,0)","v":"420008-T501-00001"}]
[9,"311200-T501-00000","前油箱-左",null,"件",1,null,{"$f":"VLOOKUP(B145,[1]Sheet1!$B$2:$C$394,1,0)","v":"311200-T501-00000"}]
[10,"421800-T501-00000","油箱通气管总成",null,"件",1,null,{"$f":"VLOOKUP(B146,[1]Sheet1!$B$2:$C$394,1,0)","v":"421800-T501-00000"}]
[11,"360036-T501-00000","燃油滤清器支架",null,"件",1,null,{"$f":"VLOOKUP(B147,[1]Sheet1!$B$2:$C$394,1,0)","v":"360036-T501-00000"}]
[12,"5005-05012-BS00","十字盘头螺钉M5*12",null,"件",2,"燃油过滤器支架与右油箱",{"$f":"VLOOKUP(B148,[1]Sheet1!$B$2:$C$394,1,0)","v":"5005-05012-BS00"}]
[13,"5003-08030-BS01","内六花圆柱头螺钉M8*30","BOM为5003-08030-BS00","件",2,"前油箱侧安装点",{"$f":"VLOOKUP(B149,[1]Sheet1!$B$2:$C$394,1,0)","v":{"$error":"#N/A"}}]
[14,"420008-T501-00002","工字胶圈∮29*∮19.5*29.5",null,"件",1,null,{"$f":"VLOOKUP(B150,[1]Sheet1!$B$2:$C$394,1,0)","v":"420008-T501-00002"}]
[15,"5008-16030-BS01","六角螺母M16*1,厚3","BOM为M16*3","件",2,"前油箱与车架",{"$f":"VLOOKUP(B151,[1]Sheet1!$B$2:$C$394,1,0)","v":"5008-16030-BS01"}]
[16,"360046-T501-00000","前油箱支架",null,"件",1,null,{"$f":"VLOOKUP(B152,[1]Sheet1!$B$2:$C$394,1,0)","v":"360046-T501-00000"}]
[17,"5027-08020-BS00","橡胶螺栓M8*20",null,"件",1,null,{"$f":"VLOOKUP(B153,[1]Sheet1!$B$2:$C$394,1,0)","v":"5027-08020-BS00"}]
[18,"360047-T501-00003","前油箱安装螺母(内M8,外M16*1*11，长度35.5mm )",null,"件",1,"前油箱与车架",{"$f":"VLOOKUP(B154,[1]Sheet1!$B$2:$C$394,1,0)","v":"360047-T501-00003"}]
[19,"5021-08010-BS00","内六花六角法兰面螺栓M8x10(盘16)",null,"件",1,"前油箱前下安装支架安装",{"$f":"VLOOKUP(B155,[1]Sheet1!$B$2:$C$394,1,0)","v":"5021-08010-BS00"}]
[20,"310402-T501-00000","油位传感器",null,"件",1,null,{"$f":"VLOOKUP(B156,[1]Sheet1!$B$2:$C$394,1,0)","v":"310402-T501-00000"}]
[21,"5014-05010-BS01","内六角沉头螺钉M5*10",null,"件",4,"油箱接头安装板与左右后油箱",{"$f":"VLOOKUP(B157,[1]Sheet1!$B$2:$C$394,1,0)","v":"5014-05010-BS01"}]
[22,"310011-T501-00000","油管接头安装板",null,"件",2,null,{"$f":"VLOOKUP(B158,[1]Sheet1!$B$2:$C$394,1,0)","v":"310011-T501-00000"}]
[23,"5104-012020-000","O型圈∮12*∮2",null,"件",2,null,{"$f":"VLOOKUP(B159,[1]Sheet1!$B$2:$C$394,1,0)","v":"5104-012020-000"}]
[24,"360047-T501-00002","前油箱安装螺母(内M8,外M16*1*6，长度30.5mm)",null,"件",1,"前油箱与车架",{"$f":"VLOOKUP(B160,[1]Sheet1!$B$2:$C$394,1,0)","v":"360047-T501-00002"}]
[1,"5003-08020-BS00","内六花圆柱头螺钉M8*20",null,"件",1,"前油箱上安装点",{"$f":"VLOOKUP(B161,[1]Sheet1!$B$2:$C$394,1,0)","v":"5003-08020-BS00"}]
[2,"910013-T501-00000","前油箱安装衬套",null,"件",3,null,{"$f":"VLOOKUP(B162,[1]Sheet1!$B$2:$C$394,1,0)","v":"910013-T501-00000"}]
[3,"420008-T501-00001","工字胶圈∮29*∮19.5*25",null,"件",2,null,{"$f":"VLOOKUP(B163,[1]Sheet1!$B$2:$C$394,1,0)","v":"420008-T501-00001"}]
[4,"5021-05012-BS00","内六花六角法兰面螺栓M5x12",null,"件",2,"护板安装支架与左右前油箱",{"$f":"VLOOKUP(B164,[1]Sheet1!$B$2:$C$394,1,0)","v":"5021-05012-BS00"}]
[5,"5009-06093-BS00","搭扣M6*9.3,宽25长25",null,"件",1,"油箱前装饰件与左右前油箱",{"$f":"VLOOKUP(B165,[1]Sheet1!$B$2:$C$394,1,0)","v":"5009-06093-BS00"}]
[6,"360045-T501-00000","油箱前护板支架",null,"件",1,null,{"$f":"VLOOKUP(B166,[1]Sheet1!$B$2:$C$394,1,0)","v":"360045-T501-00000"}]
[7,"311300-T501-00000","前油箱-右",null,"件",1,null,{"$f":"VLOOKUP(B167,[1]Sheet1!$B$2:$C$394,1,0)","v":"311300-T501-00000"}]
[8,"5003-08030-BS00","内六角圆柱头螺钉M8*30","BOM为5003-08030-BS00","件",2,"前油箱侧安装点",{"$f":"VLOOKUP(B168,[1]Sheet1!$B$2:$C$394,1,0)","v":"5003-08030-BS00"}]
[9,"5008-16030-BS01","六角螺母M16*1,厚3","BOM为M16*3","件",2,"前油箱与车架",{"$f":"VLOOKUP(B169,[1]Sheet1!$B$2:$C$394,1,0)","v":"5008-16030-BS01"}]
[10,"360047-T501-00002","前油箱安装螺母(内M8,外M16*1*6，长度30.5mm)",null,"件",1,"前油箱与车架",{"$f":"VLOOKUP(B170,[1]Sheet1!$B$2:$C$394,1,0)","v":"360047-T501-00002"}]
[11,"360047-T501-00003","前油箱安装螺母(内M8,外M16*1*11，长度35.5mm )",null,"件",1,"前油箱与车架",{"$f":"VLOOKUP(B171,[1]Sheet1!$B$2:$C$394,1,0)","v":"360047-T501-00003"}]
[12,"5027-08020-BS00","橡胶螺栓M8*20",null,"件",1,null,{"$f":"VLOOKUP(B172,[1]Sheet1!$B$2:$C$394,1,0)","v":"5027-08020-BS00"}]
[13,"360046-T501-00000","前油箱支架",null,"件",1,null,{"$f":"VLOOKUP(B173,[1]Sheet1!$B$2:$C$394,1,0)","v":"360046-T501-00000"}]
[14,"5021-08010-BS00","内六花六角法兰面螺栓M8x10(盘16)",null,"件",1,"前油箱前下安装支架安装",{"$f":"VLOOKUP(B174,[1]Sheet1!$B$2:$C$394,1,0)","v":"5021-08010-BS00"}]
[15,"420008-T501-00002","工字胶圈∮29*∮19.5*29.5",null,"件",1,null,{"$f":"VLOOKUP(B175,[1]Sheet1!$B$2:$C$394,1,0)","v":"420008-T501-00002"}]
[16,"5014-05010-BS01","内六角沉头螺钉M5*10",null,"件",2,"油箱接头安装板与左右后油箱",{"$f":"VLOOKUP(B176,[1]Sheet1!$B$2:$C$394,1,0)","v":"5014-05010-BS01"}]
[17,"310011-T501-00000","油管接头安装板",null,"件",1,null,{"$f":"VLOOKUP(B177,[1]Sheet1!$B$2:$C$394,1,0)","v":"310011-T501-00000"}]
[18,"5104-012020-000","O型圈∮12*∮2",null,"件",1,null,{"$f":"VLOOKUP(B178,[1]Sheet1!$B$2:$C$394,1,0)","v":"5104-012020-000"}]
[19,"310006-T501-00001","前油箱盖",null,"件",1,null,{"$f":"VLOOKUP(B179,[1]Sheet1!$B$2:$C$394,1,0)","v":"310006-T501-00001"}]
[20,"420061-T501-00000","油箱盖密封圈",null,"件",1,null,{"$f":"VLOOKUP(B180,[1]Sheet1!$B$2:$C$394,1,0)","v":"420061-T501-00000"}]
[1,"5007-08011-BS01","后油箱安装螺栓M8*11,台阶25",null,"件",4,"后油箱安装",{"$f":"VLOOKUP(B181,[1]Sheet1!$B$2:$C$394,1,0)","v":"5007-08011-BS01"}]
[2,"420049-T501-00000","后油箱支撑胶",null,"件",4,null,{"$f":"VLOOKUP(B182,[1]Sheet1!$B$2:$C$394,1,0)","v":"420049-T501-00000"}]
[3,"310007-T501-00001","后油箱盖",null,"件",1,null,{"$f":"VLOOKUP(B183,[1]Sheet1!$B$2:$C$394,1,0)","v":"310007-T501-00001"}]
[4,"420061-T501-00000","油箱盖密封圈",null,"件",1,null,{"$f":"VLOOKUP(B184,[1]Sheet1!$B$2:$C$394,1,0)","v":"420061-T501-00000"}]
[5,"311700-T501-00000","单向透气阀",null,"件",1,null,{"$f":"VLOOKUP(B185,[1]Sheet1!$B$2:$C$394,1,0)","v":"311700-T501-00000"}]
[6,"310008-T501-00000","后油箱通气管接头",null,"件",1,null,{"$f":"VLOOKUP(B186,[1]Sheet1!$B$2:$C$394,1,0)","v":"310008-T501-00000"}]
[7,"5104-005020-000","O型圈∮5*∮2",null,"件",1,null,{"$f":"VLOOKUP(B187,[1]Sheet1!$B$2:$C$394,1,0)","v":"5104-005020-000"}]
[8,"420048-T501-00000","侧支架挂钩",null,"件",1,null,{"$f":"VLOOKUP(B188,[1]Sheet1!$B$2:$C$394,1,0)","v":"420048-T501-00000"}]
[9,"360048-T501-00000","侧支架挂钩支架",null,"件",1,null,{"$f":"VLOOKUP(B189,[1]Sheet1!$B$2:$C$394,1,0)","v":"360048-T501-00000"}]
[10,"5021-05012-BS00","内六花六角法兰面螺栓M5x12",null,"件",2,"侧支架拉带支架与油箱",{"$f":"VLOOKUP(B190,[1]Sheet1!$B$2:$C$394,1,0)","v":"5021-05012-BS00"}]
[11,"390082-T501-00000","后油箱保护罩",null,"件",1,null,{"$f":"VLOOKUP(B191,[1]Sheet1!$B$2:$C$394,1,0)","v":"390082-T501-00000"}]
[12,"5018-06015-BS00","平垫∮6*∮18*1.5",null,"件",2,"后轮挡水胶皮与后油箱",{"$f":"VLOOKUP(B192,[1]Sheet1!$B$2:$C$394,1,0)","v":"5018-06015-BS00"}]
[13,"5004-06012-BS04","内六角台阶螺钉M6*12,台阶8.5*3.5","BOM:5004-06012-BS03","件",2,"后挡水胶皮与后油箱",{"$f":"VLOOKUP(B193,[1]Sheet1!$B$2:$C$394,1,0)","v":{"$error":"#N/A"}}]
[14,"390083-T501-00000","后轮挡水皮",null,"件",1,null,{"$f":"VLOOKUP(B194,[1]Sheet1!$B$2:$C$394,1,0)","v":"390083-T501-00000"}]
[15,"5014-06012-BS01","内六角沉头螺钉M6*12",null,"件",5,"后油箱保护罩与后油箱",{"$f":"VLOOKUP(B195,[1]Sheet1!$B$2:$C$394,1,0)","v":"5014-06012-BS01"}]
[16,"5021-06013-BS00","内六花六角法兰面螺栓M6x13(盘14)",null,"件",16,"消声器安装支架与后油箱；后油箱下安装支架与后油箱；后油箱安装支架与后油箱",{"$f":"VLOOKUP(B196,[1]Sheet1!$B$2:$C$394,1,0)","v":"5021-06013-BS00"}]
[17,"360041-T501-00000","消声器安装支架",null,"件",1,null,{"$f":"VLOOKUP(B197,[1]Sheet1!$B$2:$C$394,1,0)","v":"360041-T501-00000"}]
[18,"910011-R100-000","衬管∮8*∮12.5*29",null,"件",1,null,{"$f":"VLOOKUP(B198,[1]Sheet1!$B$2:$C$394,1,0)","v":"910011-R100-000"}]
[19,"371001-R201-000","后脚蹬安装工字胶∮12*∮23.5*30",null,"件",1,null,{"$f":"VLOOKUP(B199,[1]Sheet1!$B$2:$C$394,1,0)","v":"371001-R201-000"}]
[20,"5104-012020-000","O型圈∮12*∮2",null,"件",1,null,{"$f":"VLOOKUP(B200,[1]Sheet1!$B$2:$C$394,1,0)","v":"5104-012020-000"}]
[21,"5014-05010-BS01","内六角沉头螺钉M5*10",null,"件",2,"油箱接头安装板与左右后油箱",{"$f":"VLOOKUP(B201,[1]Sheet1!$B$2:$C$394,1,0)","v":"5014-05010-BS01"}]
[22,"310011-T501-00000","油管接头安装板",null,"件",1,null,{"$f":"VLOOKUP(B202,[1]Sheet1!$B$2:$C$394,1,0)","v":"310011-T501-00000"}]
[23,"360049-T501-00000","后油箱下支架",null,"件",2,null,{"$f":"VLOOKUP(B203,[1]Sheet1!$B$2:$C$394,1,0)","v":"360049-T501-00000"}]
[24,"360051-T501-00000","后油箱加强支架-右",null,"件",1,null,{"$f":"VLOOKUP(B204,[1]Sheet1!$B$2:$C$394,1,0)","v":"360051-T501-00000"}]
[25,"360050-T501-00000","后油箱加强支架-左",null,"件",1,null,{"$f":"VLOOKUP(B205,[1]Sheet1!$B$2:$C$394,1,0)","v":"360050-T501-00000"}]
[26,"311400-T501-00000","后油箱",null,"件",1,null,{"$f":"VLOOKUP(B206,[1]Sheet1!$B$2:$C$394,1,0)","v":"311400-T501-00000"}]
[1,"5014-06020-BS01","内六角沉头螺钉M6*20",null,"件",2,"座垫锁与后油箱安装",{"$f":"VLOOKUP(B207,[1]Sheet1!$B$2:$C$394,1,0)","v":"5014-06020-BS01"}]
[2,"331806-T501-00000","座垫锁座",null,"件",1,null,{"$f":"VLOOKUP(B208,[1]Sheet1!$B$2:$C$394,1,0)","v":"331806-T501-00000"}]
[3,"310200-T501-00000","ECU",null,"件",1,null,{"$f":"VLOOKUP(B209,[1]Sheet1!$B$2:$C$394,1,0)","v":"310200-T501-00000"}]
[4,"5005-05012-BS00","十字盘头螺钉M5*12",null,"件",2,null,{"$f":"VLOOKUP(B210,[1]Sheet1!$B$2:$C$394,1,0)","v":"5005-05012-BS00"}]
[5,"330100-R100-00001","启动继电器",null,"件",1,null,{"$f":"VLOOKUP(B211,[1]Sheet1!$B$2:$C$394,1,0)","v":"330100-R100-00001"}]
[6,"420900-T501-00000","电瓶绑带",null,"件",1,null,{"$f":"VLOOKUP(B212,[1]Sheet1!$B$2:$C$394,1,0)","v":{"$error":"#N/A"}}]
[7,"331400-T501-00001","电瓶",null,"件",1,null,{"$f":"VLOOKUP(B213,[1]Sheet1!$B$2:$C$394,1,0)","v":"331400-T501-00001"}]
[8,"5006-04013-HX00","自攻钉M4.2X13",null,"件",2,"OBD与电器支架",{"$f":"VLOOKUP(B214,[1]Sheet1!$B$2:$C$394,1,0)","v":"5006-04013-HX00"}]
[9,"331600-R110-00000","继电器",null,"件",2,null,{"$f":"VLOOKUP(B215,[1]Sheet1!$B$2:$C$394,1,0)","v":"331600-R110-00000"}]
[10,"332600-T501-00000","点火线圈",null,"件",1,null,{"$f":"VLOOKUP(B216,[1]Sheet1!$B$2:$C$394,1,0)","v":"332600-T501-00000"}]
[11,"5009-05070-DK00","螺纹夹板M5",null,"件",2,"侧倾传感器与电器安装支架",{"$f":"VLOOKUP(B217,[1]Sheet1!$B$2:$C$394,1,0)","v":"5009-05070-DK00"}]
[12,"332000-R201-000","侧倾传感器",null,"件",1,null,{"$f":"VLOOKUP(B218,[1]Sheet1!$B$2:$C$394,1,0)","v":"332000-R201-000"}]
[13,"5018-05008-SC00","侧倾传感器",null,"件",2,"侧倾传感器与电器安装支架",{"$f":"VLOOKUP(B219,[1]Sheet1!$B$2:$C$394,1,0)","v":"5018-05008-SC00"}]
[14,"5004-05016-BS02","内六角盘头螺钉M5*16",null,"件",2,"侧倾传感器与电器安装支架",{"$f":"VLOOKUP(B220,[1]Sheet1!$B$2:$C$394,1,0)","v":"5004-05016-BS02"}]
[15,"330200-T501-00001","调压整流器",null,"件",1,null,{"$f":"VLOOKUP(B221,[1]Sheet1!$B$2:$C$394,1,0)","v":"330200-T501-00001"}]
[16,"5009-06080-DK00","螺纹夹板M6",null,"件",4,"调压器与电器支架",{"$f":"VLOOKUP(B222,[1]Sheet1!$B$2:$C$394,1,0)","v":"5009-06080-DK00"}]
[17,"5005-06025-BS00","十字盘头螺钉M6*25",null,"件",2,"调压器安装",{"$f":"VLOOKUP(B223,[1]Sheet1!$B$2:$C$394,1,0)","v":"5005-06025-BS00"}]
[18,"5021-06020-BS00","内六花六角法兰面螺栓M6x20(盘11)",null,"件",4,"电器安装支架与车架;电器安装支架与油箱加强板",{"$f":"VLOOKUP(B224,[1]Sheet1!$B$2:$C$394,1,0)","v":"5021-06020-BS00"}]
[19,"420008-R100-000","工字胶圈∮9*∮19.5*9",null,"件",4,null,{"$f":"VLOOKUP(B225,[1]Sheet1!$B$2:$C$394,1,0)","v":"420008-R100-000"}]
[20,"360900-T501-00000","电器安装支架总成",null,"件",1,null,{"$f":"VLOOKUP(B226,[1]Sheet1!$B$2:$C$394,1,0)","v":"360900-T501-00000"}]
[21,"330600-T501-00001","喇叭",null,"件",1,null,{"$f":"VLOOKUP(B227,[1]Sheet1!$B$2:$C$394,1,0)","v":"330600-T501-00001"}]
[22,"5021-06012-BS00","内六花六角法兰面螺栓M6x12(盘11)",null,"件",1,"喇叭与车架",{"$f":"VLOOKUP(B228,[1]Sheet1!$B$2:$C$394,1,0)","v":"5021-06012-BS00"}]
[23,"331700-T501-00001","主电缆",null,"件",1,null,{"$f":"VLOOKUP(B229,[1]Sheet1!$B$2:$C$394,1,0)","v":"331700-T501-00001"}]
[1,"380600-T501-00000","座垫锁拉索",null,"件",1,null,{"$f":"VLOOKUP(B230,[1]Sheet1!$B$2:$C$394,1,0)","v":"380600-T501-00000"}]
[2,"310800-T501-00000","油门拉索B",null,"件",1,null,{"$f":"VLOOKUP(B231,[1]Sheet1!$B$2:$C$394,1,0)","v":"310800-T501-00000"}]
[3,"380500-T501-00000","离合拉索",null,"件",1,null,{"$f":"VLOOKUP(B232,[1]Sheet1!$B$2:$C$394,1,0)","v":{"$error":"#N/A"}}]
[4,"310700-T501-00000","油门拉索A",null,"件",1,null,{"$f":"VLOOKUP(B233,[1]Sheet1!$B$2:$C$394,1,0)","v":"310700-T501-00000"}]
[1,"390015-T501-00000","前挡泥板",null,"件",1,null,{"$f":"VLOOKUP(B234,[1]Sheet1!$B$2:$C$394,1,0)","v":"390015-T501-00000"}]
[2,"5013-06006-BS00","翻边衬套Φ6xΦ9x6",null,"件",4,"前挡泥板安装",{"$f":"VLOOKUP(B235,[1]Sheet1!$B$2:$C$394,1,0)","v":"5013-06006-BS00"}]
[3,"5018-06015-BS00","平垫∮6*∮18*1.5",null,"件",4,"前挡泥板安装",{"$f":"VLOOKUP(B236,[1]Sheet1!$B$2:$C$394,1,0)","v":"5018-06015-BS00"}]
[4,"5021-06020-BS00","内六花六角法兰面螺栓M6x20(盘11)",null,"件",4,"前挡泥板安装",{"$f":"VLOOKUP(B237,[1]Sheet1!$B$2:$C$394,1,0)","v":"5021-06020-BS00"}]
[1,"5021-06020-BS00","内六花六角法兰面螺栓M6x20(盘11)",null,"件",1,"喷油嘴帽与节气门",{"$f":"VLOOKUP(B238,[1]Sheet1!$B$2:$C$394,1,0)","v":"5021-06020-BS00"}]
[2,"310012-T501-00000","喷油器帽",null,"件",1,null,{"$f":"VLOOKUP(B239,[1]Sheet1!$B$2:$C$394,1,0)","v":"310012-T501-00000"}]
[3,"310101-T501-00000","喷油器",null,"件",1,null,{"$f":"VLOOKUP(B240,[1]Sheet1!$B$2:$C$394,1,0)","v":"310101-T501-00000"}]
[4,"310005-P200-00000","喷油器卡夹",null,"件",1,null,{"$f":"VLOOKUP(B241,[1]Sheet1!$B$2:$C$394,1,0)","v":"310005-P200-00000"}]
[5,"310100-T501-00000","节气门总成",null,"件",1,null,{"$f":"VLOOKUP(B242,[1]Sheet1!$B$2:$C$394,1,0)","v":"310100-T501-00000"}]
[6,"320500-T501-00000","进气管总成",null,"件",1,null,{"$f":"VLOOKUP(B243,[1]Sheet1!$B$2:$C$394,1,0)","v":"320500-T501-00000"}]
[1,"350100-R100-000","快速接头",null,"件",2,null,{"$f":"VLOOKUP(B244,[1]Sheet1!$B$2:$C$394,1,0)","v":"350100-R100-000"}]
[2,"5011-01570-BS00","单耳无极卡箍",null,"件",4,"李棋强，8.30日16：10新增",{"$f":"VLOOKUP(B245,[1]Sheet1!$B$2:$C$394,1,0)","v":{"$error":"#N/A"}}]
[3,"420054-T501-00000","燃油管6",null,"件",1,null,{"$f":"VLOOKUP(B246,[1]Sheet1!$B$2:$C$394,1,0)","v":"420054-T501-00000"}]
[4,"310500-R100-000","燃油滤清器",null,"件",1,null,{"$f":"VLOOKUP(B247,[1]Sheet1!$B$2:$C$394,1,0)","v":"310500-R100-000"}]
[5,"420046-P200-00000","燃油滤清器胶套",null,"件",1,null,{"$f":"VLOOKUP(B248,[1]Sheet1!$B$2:$C$394,1,0)","v":"420046-P200-00000"}]
[6,"420053-T501-00000","燃油管5",null,"件",1,null,{"$f":"VLOOKUP(B249,[1]Sheet1!$B$2:$C$394,1,0)","v":"420053-T501-00000"}]
[7,"310400-T501-00000","燃油泵",null,"件",1,null,{"$f":"VLOOKUP(B250,[1]Sheet1!$B$2:$C$394,1,0)","v":"310400-T501-00000"}]
[8,"5005-05020-SC00","内六角盘头螺钉M5*20",null,"件",4,"燃油泵与油箱",{"$f":"VLOOKUP(B251,[1]Sheet1!$B$2:$C$394,1,0)","v":"5005-05020-SC00"}]
[1,"350002-R100-000","铜垫圈∮10*∮15*1.5",null,"件",7,null,{"$f":"VLOOKUP(B252,[1]Sheet1!$B$2:$C$394,1,0)","v":"350002-R100-000"}]
[2,"350001-T501-00004","过油螺栓M10*1.0*20",null,"件",2,null,{"$f":"VLOOKUP(B253,[1]Sheet1!$B$2:$C$394,1,0)","v":"350001-T501-00004"}]
[3,"5011-01570-BS00","单耳无极卡箍",null,"件",10,"李棋强，8.30日16：10新增",{"$f":"VLOOKUP(B254,[1]Sheet1!$B$2:$C$394,1,0)","v":{"$error":"#N/A"}}]
[4,"420001-T501-00000","燃油管1",null,"件",1,null,{"$f":"VLOOKUP(B255,[1]Sheet1!$B$2:$C$394,1,0)","v":"420001-T501-00000"}]
[5,"311000-T501-00000","快速插头公头",null,"件",2,null,{"$f":"VLOOKUP(B256,[1]Sheet1!$B$2:$C$394,1,0)","v":"311000-T501-00000"}]
[6,"311100-T501-00000","快速插头母头",null,"件",2,null,{"$f":"VLOOKUP(B257,[1]Sheet1!$B$2:$C$394,1,0)","v":"311100-T501-00000"}]
[7,"420002-T501-00000","燃油管2",null,"件",1,null,{"$f":"VLOOKUP(B258,[1]Sheet1!$B$2:$C$394,1,0)","v":"420002-T501-00000"}]
[8,"310010-T501-00000","球形油管接头",null,"件",4,null,{"$f":"VLOOKUP(B259,[1]Sheet1!$B$2:$C$394,1,0)","v":"310010-T501-00000"}]
[9,"311800-T501-00000","单向阀",null,"件",1,null,{"$f":"VLOOKUP(B260,[1]Sheet1!$B$2:$C$394,1,0)","v":"311800-T501-00000"}]
[10,"420051-T501-00000","燃油管3",null,"件",1,null,{"$f":"VLOOKUP(B261,[1]Sheet1!$B$2:$C$394,1,0)","v":"420051-T501-00000"}]
[11,"420052-T501-00000","燃油管4",null,"件",1,null,{"$f":"VLOOKUP(B262,[1]Sheet1!$B$2:$C$394,1,0)","v":"420052-T501-00000"}]
[12,"350001-T501-00002","过油螺栓M10*1*30",null,"件",1,"右油箱与油管",{"$f":"VLOOKUP(B263,[1]Sheet1!$B$2:$C$394,1,0)","v":"350001-T501-00002"}]
[1,"5021-06013-BS00","内六花六角法兰面螺栓M6x13(盘14)",null,"件",3,"头罩支架与大灯安装支架",{"$f":"VLOOKUP(B264,[1]Sheet1!$B$2:$C$394,1,0)","v":"5021-06013-BS00"}]
[2,"5009-06093-BS00","搭扣M6*9.3,宽25长25",null,"件",4,"头罩与大灯支架；油箱前装饰件与大灯支架",{"$f":"VLOOKUP(B265,[1]Sheet1!$B$2:$C$394,1,0)","v":"5009-06093-BS00"}]
[3,"5027-06012-BS00","橡胶螺栓M6*12",null,"件",3,null,{"$f":"VLOOKUP(B266,[1]Sheet1!$B$2:$C$394,1,0)","v":"5027-06012-BS00"}]
[4,"5008-06070-SC00","六角法兰面自锁螺母M6",null,"件",3,null,{"$f":"VLOOKUP(B267,[1]Sheet1!$B$2:$C$394,1,0)","v":"5008-06070-SC00"}]
[5,"360022-R201-000","大灯支架压板",null,"件",2,null,{"$f":"VLOOKUP(B268,[1]Sheet1!$B$2:$C$394,1,0)","v":"360022-R201-000"}]
[6,"5003-05012-BS00","内六角圆柱头螺钉M5*12",null,"件",4,"大灯支架压板与大灯支架",{"$f":"VLOOKUP(B269,[1]Sheet1!$B$2:$C$394,1,0)","v":"5003-05012-BS00"}]
[7,"360044-T501-00000","大灯安装支架",null,"件",1,null,{"$f":"VLOOKUP(B270,[1]Sheet1!$B$2:$C$394,1,0)","v":"360044-T501-00000"}]
[8,"5015-03020-SC00","开口销∮0.9",null,"件",2,"大灯调节螺钉止退",{"$f":"VLOOKUP(B271,[1]Sheet1!$B$2:$C$394,1,0)","v":"5015-03020-SC00"}]
[9,"5009-06080-DK00","螺纹夹板M6*1.0*8*16",null,"件",2,"大灯安装支架与大灯支架",{"$f":"VLOOKUP(B272,[1]Sheet1!$B$2:$C$394,1,0)","v":"5009-06080-DK00"}]
[10,"5012-01036-SC00","大灯调节弹簧∮1.4*∮8.6*36",null,"件",2,"大灯安装支架与大灯支架",{"$f":"VLOOKUP(B273,[1]Sheet1!$B$2:$C$394,1,0)","v":"5012-01036-SC00"}]
[11,"360014-T501-00000","大灯支架",null,"件",1,null,{"$f":"VLOOKUP(B274,[1]Sheet1!$B$2:$C$394,1,0)","v":"360014-T501-00000"}]
[12,"420036-R201-000","大灯支架胶套∮8*∮11/∮13*12.8",null,"件",2,null,{"$f":"VLOOKUP(B275,[1]Sheet1!$B$2:$C$394,1,0)","v":"420036-R201-000"}]
[13,"5007-06041-BS01","大灯调节螺栓M6*41",null,"件",2,"大灯调节",{"$f":"VLOOKUP(B276,[1]Sheet1!$B$2:$C$394,1,0)","v":"5007-06041-BS01"}]
[1,"5001-10030-BS00","六角法兰面螺栓M10*30*1.25",null,"件",2,"发动机上悬挂与支架",{"$f":"VLOOKUP(B277,[1]Sheet1!$B$2:$C$394,1,0)","v":"5001-10030-BS00"}]
[2,"AEDT01-B09","发动机总成(NC450S,油冷管接口M10*1.25)",null,"件",1,null,{"$f":"VLOOKUP(B278,[1]Sheet1!$B$2:$C$394,1,0)","v":"AEDT01-B09"}]
[3,"421700-T501-00000","废气管总成",null,"件",1,null,{"$f":"VLOOKUP(B279,[1]Sheet1!$B$2:$C$394,1,0)","v":"421700-T501-00000"}]
[4,"390023-T501-00000","发动机小链轮盖",null,"件",1,null,{"$f":"VLOOKUP(B280,[1]Sheet1!$B$2:$C$394,1,0)","v":"390023-T501-00000"}]
[5,"5021-06030-BS00","内六花六角法兰面螺栓M6x30(盘11)",null,"件",2,"小链轮盖与发动机",{"$f":"VLOOKUP(B281,[1]Sheet1!$B$2:$C$394,1,0)","v":"5021-06030-BS00"}]
[6,"352300-T501-00000","链条",null,"件",1,null,{"$f":"VLOOKUP(B282,[1]Sheet1!$B$2:$C$394,1,0)","v":"352300-T501-00000"}]
[7,"5021-06020-BS00","内六花六角法兰面螺栓M6x20(盘11)",null,"件",1,"变档臂与发动机",{"$f":"VLOOKUP(B283,[1]Sheet1!$B$2:$C$394,1,0)","v":"5021-06020-BS00"}]
[8,"370200-T501-00000","变档踏板总成",null,"件",1,null,{"$f":"VLOOKUP(B284,[1]Sheet1!$B$2:$C$394,1,0)","v":"370200-T501-00000"}]
[9,"5008-10115-SC00","六角法兰面自锁螺母M10*1.25",null,"件",3,"发动机前悬挂与发动机；发动机下悬挂与发动机",{"$f":"VLOOKUP(B285,[1]Sheet1!$B$2:$C$394,1,0)","v":"5008-10115-SC00"}]
[10,"5001-10130-BS00","六角法兰面螺栓M10*1.25*130",null,"件",1,"发动机后悬挂",{"$f":"VLOOKUP(B286,[1]Sheet1!$B$2:$C$394,1,0)","v":"5001-10130-BS00"}]
[11,"5001-10145-BS00","六角法兰面螺栓M10x1.25*145",null,"件",1,"发动机前下与车架",{"$f":"VLOOKUP(B287,[1]Sheet1!$B$2:$C$394,1,0)","v":"5001-10145-BS00"}]
[12,"5001-10115-BS00","六角法兰面螺栓M10*1.25*115",null,"件",1,"发动机前悬挂",{"$f":"VLOOKUP(B288,[1]Sheet1!$B$2:$C$394,1,0)","v":"5001-10115-BS00"}]
[13,"400006-R100-000","线钩",null,"件",1,null,{"$f":"VLOOKUP(B289,[1]Sheet1!$B$2:$C$394,1,0)","v":"400006-R100-000"}]
[1,"5004-05010-BS01","内六角台阶螺钉M5X10",null,"件",4,"手把护罩与支架",{"$f":"VLOOKUP(B290,[1]Sheet1!$B$2:$C$394,1,0)","v":"5004-05010-BS01"}]
[2,"390007-T501-00000","手挡风-左",null,"件",1,null,{"$f":"VLOOKUP(B291,[1]Sheet1!$B$2:$C$394,1,0)","v":"390007-T501-00000"}]
[3,"370009-T501-00000","手挡风支架",null,"件",2,null,{"$f":"VLOOKUP(B292,[1]Sheet1!$B$2:$C$394,1,0)","v":"370009-T501-00000"}]
[4,"5014-08045-BS00","内六花沉头螺钉M8*45",null,"件",2,"手把护罩与方向把",{"$f":"VLOOKUP(B293,[1]Sheet1!$B$2:$C$394,1,0)","v":"5014-08045-BS00"}]
[5,"910018-T501-00001","手挡风衬套",null,"件",2,null,{"$f":"VLOOKUP(B294,[1]Sheet1!$B$2:$C$394,1,0)","v":"910018-T501-00001"}]
[6,"910018-T501-00000","手挡风衬套",null,"件",2,null,{"$f":"VLOOKUP(B295,[1]Sheet1!$B$2:$C$394,1,0)","v":"910018-T501-00000"}]
[7,"380100-T501-00000","手把胶-左",null,"件",1,null,{"$f":"VLOOKUP(B296,[1]Sheet1!$B$2:$C$394,1,0)","v":"380100-T501-00000"}]
[8,"/","仪表操作开关(速度仪表二级物料，不能单独采购）",null,"件",1,null,{"$f":"VLOOKUP(B297,[1]Sheet1!$B$2:$C$394,1,0)","v":{"$error":"#N/A"}}]
[9,"330901-T501-00000","离合手柄卡座",null,"件",1,null,{"$f":"VLOOKUP(B298,[1]Sheet1!$B$2:$C$394,1,0)","v":"330901-T501-00000"}]
[10,"5021-06020-BS00","内六花六角法兰面螺栓M6x20(盘11)",null,"件",4,"离合手柄与手把;前碟刹手柄与手把",{"$f":"VLOOKUP(B299,[1]Sheet1!$B$2:$C$394,1,0)","v":"5021-06020-BS00"}]
[11,"331000-T501-00000","手把开关-左",null,"件",1,null,{"$f":"VLOOKUP(B300,[1]Sheet1!$B$2:$C$394,1,0)","v":"331000-T501-00000"}]
[12,"5004-06020-BS01","内六角盘头螺钉M6*20",null,"件",2,"手挡风支架与方向把离合手柄支架",{"$f":"VLOOKUP(B301,[1]Sheet1!$B$2:$C$394,1,0)","v":"5004-06020-BS01"}]
[13,"330900-T501-00000","离合手柄总成",null,"件",1,null,{"$f":"VLOOKUP(B302,[1]Sheet1!$B$2:$C$394,1,0)","v":"330900-T501-00000"}]
[14,"330902-T501-00000","离合手柄",null,"件",1,"系统",{"$f":"VLOOKUP(B303,[1]Sheet1!$B$2:$C$394,1,0)","v":{"$error":"#N/A"}}]
[15,"5021-08045-BS00","内六花六角法兰面螺栓M8x45(盘13)",null,"件",4,"方向把上下卡座",{"$f":"VLOOKUP(B304,[1]Sheet1!$B$2:$C$394,1,0)","v":"5021-08045-BS00"}]
[16,"370025-T501-00000","方向把压板",null,"件",1,null,{"$f":"VLOOKUP(B305,[1]Sheet1!$B$2:$C$394,1,0)","v":"370025-T501-00000"}]
[17,"370002-T501-00001","方向把上卡子",null,"件",2,null,{"$f":"VLOOKUP(B306,[1]Sheet1!$B$2:$C$394,1,0)","v":"370002-T501-00001"}]
[18,"420033-T501-00002","方向把缓冲胶套",null,"件",4,null,{"$f":"VLOOKUP(B307,[1]Sheet1!$B$2:$C$394,1,0)","v":"420033-T501-00002"}]
[19,"420033-T501-00003","方向把缓冲胶套",null,"件",4,null,{"$f":"VLOOKUP(B308,[1]Sheet1!$B$2:$C$394,1,0)","v":"420033-T501-00003"}]
[20,"350200-T501-00000","前制动泵",null,"件",1,null,{"$f":"VLOOKUP(B309,[1]Sheet1!$B$2:$C$394,1,0)","v":"350200-T501-00000"}]
[21,"350201-T501-00000","前制动手柄",null,"件",1,"系统",{"$f":"VLOOKUP(B310,[1]Sheet1!$B$2:$C$394,1,0)","v":{"$error":"#N/A"}}]
[22,"390008-T501-00000","手挡风-右",null,"件",1,null,{"$f":"VLOOKUP(B311,[1]Sheet1!$B$2:$C$394,1,0)","v":"390008-T501-00000"}]
[23,"331100-T501-00000","手把开关-右",null,"件",1,null,{"$f":"VLOOKUP(B312,[1]Sheet1!$B$2:$C$394,1,0)","v":"331100-T501-00000"}]
[24,"380900-T501-00000","加油器",null,"件",1,null,{"$f":"VLOOKUP(B313,[1]Sheet1!$B$2:$C$394,1,0)","v":"380900-T501-00000"}]
[25,"380201-T501-00000","手把胶-右",null,"件",1,null,{"$f":"VLOOKUP(B314,[1]Sheet1!$B$2:$C$394,1,0)","v":"380201-T501-00000"}]
[26,"380300-T501-00000","方向把",null,"件",1,null,{"$f":"VLOOKUP(B315,[1]Sheet1!$B$2:$C$394,1,0)","v":"380300-T501-00000"}]
[27,"370024-T501-00001","方向把下卡座缓冲块",null,"件",4,null,{"$f":"VLOOKUP(B316,[1]Sheet1!$B$2:$C$394,1,0)","v":"370024-T501-00001"}]
[28,"370016-T501-00001","方向把下活动卡子固定块",null,"件",2,null,{"$f":"VLOOKUP(B317,[1]Sheet1!$B$2:$C$394,1,0)","v":"370016-T501-00001"}]
[29,"370026-T501-00001","方向把下活动卡子",null,"件",2,null,{"$f":"VLOOKUP(B318,[1]Sheet1!$B$2:$C$394,1,0)","v":"370026-T501-00001"}]
[30,"5021-10035-BS00","内六花六角法兰面螺栓M10x35",null,"件",2,"方向把下卡座安装",{"$f":"VLOOKUP(B319,[1]Sheet1!$B$2:$C$394,1,0)","v":"5021-10035-BS00"}]
[31,"370001-T501-00001","方向把下卡座",null,"件",2,null,{"$f":"VLOOKUP(B320,[1]Sheet1!$B$2:$C$394,1,0)","v":"370001-T501-00001"}]
[32,"370023-T501-00000","方向把下卡子增高块",null,"件",2,null,{"$f":"VLOOKUP(B321,[1]Sheet1!$B$2:$C$394,1,0)","v":"370023-T501-00000"}]
[33,"5021-06020-BS00","内六花六角法兰面螺栓M6x20(盘11)",null,"件",4,"加油器与手把;仪表操作开关与手把",{"$f":"VLOOKUP(B322,[1]Sheet1!$B$2:$C$394,1,0)","v":"5021-06020-BS00"}]
[34,"5021-06035-BS00","内六花六角法兰面螺栓M6x35(盘11)",null,"件",1,"前制动泵与制动手柄",{"$f":"VLOOKUP(B323,[1]Sheet1!$B$2:$C$394,1,0)","v":{"$error":"#N/A"}}]
[35,"350202-T501-00000","制动手柄卡座",null,"件",1,null,{"$f":"VLOOKUP(B324,[1]Sheet1!$B$2:$C$394,1,0)","v":"350202-T501-00000"}]
[1,"330800-T501-00001","仪表总成(速度仪表)",null,"件",1,"含仪表操作开关(方向把-8项)",{"$f":"VLOOKUP(B325,[1]Sheet1!$B$2:$C$394,1,0)","v":"330800-T501-00001"}]
[2,"330800-T501-00000","仪表总成(航向仪表)",null,"件",1,null,{"$f":"VLOOKUP(B326,[1]Sheet1!$B$2:$C$394,1,0)","v":"330800-T501-00000"}]
[3,"400700-T501-00000","路书总成",null,"件",1,null,{"$f":"VLOOKUP(B327,[1]Sheet1!$B$2:$C$394,1,0)","v":"400700-T501-00000"}]
[4,"341400-T501-00000","仪表指示灯",null,"件",1,null,{"$f":"VLOOKUP(B328,[1]Sheet1!$B$2:$C$394,1,0)","v":"341400-T501-00000"}]
[5,"5013-05006-YH00","翻边衬套 ∮5.5*∮8*∮16*6.9",null,"件",{"$f":"6+2","v":8},"小仪表与路书支架",{"$f":"VLOOKUP(B329,[1]Sheet1!$B$2:$C$394,1,0)","v":"5013-05006-YH00"}]
[6,"420008-T501-00007","工字胶圈 ∮8*∮13*∮20*8(2.5+3+2.5)",null,"件",6,null,{"$f":"VLOOKUP(B330,[1]Sheet1!$B$2:$C$394,1,0)","v":"420008-T501-00007"}]
[7,"5018-05515-SC00","平垫φ5",null,"件",10,"路书与路书支架;小仪表与路书支架",{"$f":"VLOOKUP(B331,[1]Sheet1!$B$2:$C$394,1,0)","v":"5018-05515-SC00"}]
[8,"5008-05050-SC00","六角法兰面螺母M6","标件表：6个,路书与路书支架是否还应该有4个","件",10,"小仪表与路书支架；路书与路书支架",{"$f":"VLOOKUP(B332,[1]Sheet1!$B$2:$C$394,1,0)","v":"5008-05050-SC00"}]
[9,"5021-06013-BS00","内六花六角法兰面螺栓M6x13(盘14)",null,"件",4,"头罩支架与路书支架",{"$f":"VLOOKUP(B333,[1]Sheet1!$B$2:$C$394,1,0)","v":"5021-06013-BS00"}]
[10,"5004-05025-BS01","内六角盘头螺钉M5*25",null,"件",2,"路书与路书支架",{"$f":"VLOOKUP(B334,[1]Sheet1!$B$2:$C$394,1,0)","v":"5004-05025-BS01"}]
[11,"420008-T501-00010","工字胶圈∮8*∮11*∮16*(2+3.3+2)",null,"件",2,null,{"$f":"VLOOKUP(B335,[1]Sheet1!$B$2:$C$394,1,0)","v":"420008-T501-00010"}]
[12,"5004-05016-BS02","内六角盘头螺钉M5*16",null,"件",2,"路书与路书支架",{"$f":"VLOOKUP(B336,[1]Sheet1!$B$2:$C$394,1,0)","v":"5004-05016-BS02"}]
[13,"5013-05005-YH00","翻边衬套∮5.5*∮8*∮16*5.4",null,"件",2,"李棋强，8.2日17：28",{"$f":"VLOOKUP(B337,[1]Sheet1!$B$2:$C$394,1,0)","v":"5013-05005-YH00"}]
[14,"420008-T501-00009","工字胶圈∮8*∮11*∮16*(2+1.8+2)",null,"件",2,null,{"$f":"VLOOKUP(B338,[1]Sheet1!$B$2:$C$394,1,0)","v":"420008-T501-00009"}]
[15,"360042-T501-00000","路书支架",null,"件",1,null,{"$f":"VLOOKUP(B339,[1]Sheet1!$B$2:$C$394,1,0)","v":"360042-T501-00000"}]
[1,"5007-08015-BS01","尾包安装螺栓M8×15 台阶5.5",null,"件",2,"尾部装饰件与油箱",{"$f":"VLOOKUP(B340,[1]Sheet1!$B$2:$C$394,1,0)","v":"5007-08015-BS01"}]
[2,"5004-05013-BS01","内六角台阶螺钉M5*13,台阶8*3.5",null,"件",2,"尾部装饰件与油箱",{"$f":"VLOOKUP(B341,[1]Sheet1!$B$2:$C$394,1,0)","v":"5004-05013-BS01"}]
[3,"390004-T501-00000","后尾盖",null,"件",1,null,{"$f":"VLOOKUP(B342,[1]Sheet1!$B$2:$C$394,1,0)","v":"390004-T501-00000"}]
[4,"341500-T501-00001","后位置灯总成",null,"件",1,null,{"$f":"VLOOKUP(B343,[1]Sheet1!$B$2:$C$394,1,0)","v":"341500-T501-00001"}]
[5,"420060-T501-00000","位置灯胶垫",null,"件",1,null,{"$f":"VLOOKUP(B344,[1]Sheet1!$B$2:$C$394,1,0)","v":"420060-T501-00000"}]
[6,"5005-05012-BS00","十字盘头螺钉M5*12",null,"件",4,"位置灯与尾部装饰件；尾灯与后挡泥板后段",{"$f":"VLOOKUP(B345,[1]Sheet1!$B$2:$C$394,1,0)","v":"5005-05012-BS00"}]
[7,"340200-T501-00001","尾灯总成",null,"件",1,null,{"$f":"VLOOKUP(B346,[1]Sheet1!$B$2:$C$394,1,0)","v":"340200-T501-00001"}]
[8,"5006-04015-HX00","自攻钉ST4.8*15","BOM无","件",3,"后挡泥后段下盖板与尾部装饰件",{"$f":"VLOOKUP(B347,[1]Sheet1!$B$2:$C$394,1,0)","v":{"$error":"#N/A"}}]
[9,"390020-T501-00000","后挡泥后段",null,"件",1,null,{"$f":"VLOOKUP(B348,[1]Sheet1!$B$2:$C$394,1,0)","v":"390020-T501-00000"}]
[10,"5021-08025-BS00","内六花六角法兰面螺栓M8x25(盘16)",null,"件",4,"后挡泥板后段与后油箱",{"$f":"VLOOKUP(B349,[1]Sheet1!$B$2:$C$394,1,0)","v":"5021-08025-BS00"}]
[1,"360700-T501-00000","座垫总成",null,"件",1,null,{"$f":"VLOOKUP(B350,[1]Sheet1!$B$2:$C$394,1,0)","v":"360700-T501-00000"}]
[1,"5008-08085-SC00","六角法兰面自锁螺母M8",null,"件",6,null,{"$f":"VLOOKUP(B351,[1]Sheet1!$B$2:$C$394,1,0)","v":"5008-08085-SC00"}]
[2,"351902-T501-00000","大链轮",null,"件",1,null,{"$f":"VLOOKUP(B352,[1]Sheet1!$B$2:$C$394,1,0)","v":"351902-T501-00000"}]
[3,"5023-08027-BS00","内六花沉头螺钉M8x27",null,"件",6,"链盘与轮鼓",{"$f":"VLOOKUP(B353,[1]Sheet1!$B$2:$C$394,1,0)","v":"5023-08027-BS00"}]
[4,"351901-T500-00000","T型衬套",null,"件",1,null,{"$f":"VLOOKUP(B354,[1]Sheet1!$B$2:$C$394,1,0)","v":"351901-T500-00000"}]
[5,"5101-305513-BS0","轴承30*55*13",null,"件",2,null,{"$f":"VLOOKUP(B355,[1]Sheet1!$B$2:$C$394,1,0)","v":"5101-305513-BS0"}]
[6,"351900-T501-00000","缓冲体总成",null,"件",1,null,{"$f":"VLOOKUP(B356,[1]Sheet1!$B$2:$C$394,1,0)","v":"351900-T501-00000"}]
[7,"5103-405504-000","油封∮40.9*∮55*4",null,"件",1,null,{"$f":"VLOOKUP(B357,[1]Sheet1!$B$2:$C$394,1,0)","v":"5103-405504-000"}]
[8,"350022-T501-00000","后链轮缓冲胶",null,"件",6,null,{"$f":"VLOOKUP(B358,[1]Sheet1!$B$2:$C$394,1,0)","v":"350022-T501-00000"}]
[1,"5021-06012-BS00","内六花六角法兰面螺栓M6x12(盘11)",null,"件",4,"空滤器安装",{"$f":"VLOOKUP(B359,[1]Sheet1!$B$2:$C$394,1,0)","v":"5021-06012-BS00"}]
[2,"320300-T501-00001","空滤器总成",null,"件",1,null,{"$f":"VLOOKUP(B360,[1]Sheet1!$B$2:$C$394,1,0)","v":"320300-T501-00001"}]
[1,"5021-05012-BS00","内六花六角法兰面螺栓M5x12",null,"件",6,"大灯与大灯支架",{"$f":"VLOOKUP(B361,[1]Sheet1!$B$2:$C$394,1,0)","v":"5021-05012-BS00"}]
[2,"341700-T501-00000","前大灯总成-右",null,"件",1,null,{"$f":"VLOOKUP(B362,[1]Sheet1!$B$2:$C$394,1,0)","v":"341700-T501-00000"}]
[3,"5021-06012-BS00","内六花六角法兰面螺栓M6x12(盘11)",null,"件",4,"大灯模块与车头支架",{"$f":"VLOOKUP(B363,[1]Sheet1!$B$2:$C$394,1,0)","v":"5021-06012-BS00"}]
[4,"341600-T501-00000","前大灯总成-左",null,"件",1,null,{"$f":"VLOOKUP(B364,[1]Sheet1!$B$2:$C$394,1,0)","v":"341600-T501-00000"}]
[5,"330008-T501-00000","大灯控制模块",null,"件",1,null,{"$f":"VLOOKUP(B365,[1]Sheet1!$B$2:$C$394,1,0)","v":"330008-T501-00000"}]
[6,"341701-T501-00000","前大灯胶套-右",null,"件",1,null,{"$f":"VLOOKUP(B366,[1]Sheet1!$B$2:$C$394,1,0)","v":"341701-T501-00000"}]
[7,"341601-T501-00000","前大灯胶套-左",null,"件",1,null,{"$f":"VLOOKUP(B367,[1]Sheet1!$B$2:$C$394,1,0)","v":"341601-T501-00000"}]
[8,"390081-T501-00000","大灯装饰件",null,"件",1,null,{"$f":"VLOOKUP(B368,[1]Sheet1!$B$2:$C$394,1,0)","v":"390081-T501-00000"}]
[9,"5004-06012-BS04","内六角台阶螺钉M6*12,台阶8.5*3.5","8.29 18:46与李棋强确认为BS04","件",4,"大灯装饰件与大灯安装支架",{"$f":"VLOOKUP(B369,[1]Sheet1!$B$2:$C$394,1,0)","v":{"$error":"#N/A"}}]
[1,"5018-08210-BS00","平垫∮8.2*∮26*1",null,"件",1,"制动臂安装",{"$f":"VLOOKUP(B370,[1]Sheet1!$B$2:$C$394,1,0)","v":"5018-08210-BS00"}]
[2,"5103-131903-000","油封",null,"件",2,null,{"$f":"VLOOKUP(B371,[1]Sheet1!$B$2:$C$394,1,0)","v":"5103-131903-000"}]
[3,"5007-08016-BS01","制动臂螺栓M8*16台阶∮13*18",null,"件",1,"制动臂安装",{"$f":"VLOOKUP(B372,[1]Sheet1!$B$2:$C$394,1,0)","v":"5007-08016-BS01"}]
[4,"5012-01048-LB00","后制动回位簧∮1.6*∮8*48",null,"件",1,null,{"$f":"VLOOKUP(B373,[1]Sheet1!$B$2:$C$394,1,0)","v":"5012-01048-LB00"}]
[5,"370010-T501-00000","刹车摇臂",null,"件",1,null,{"$f":"VLOOKUP(B374,[1]Sheet1!$B$2:$C$394,1,0)","v":"370010-T501-00000"}]
[6,"5021-05012-BS00","内六花六角法兰面螺栓M5x12",null,"件",2,"后制动踏板与后制动摇臂",{"$f":"VLOOKUP(B375,[1]Sheet1!$B$2:$C$394,1,0)","v":"5021-05012-BS00"}]
[7,"350009-T501-00000","后制动踏板",null,"件",1,null,{"$f":"VLOOKUP(B376,[1]Sheet1!$B$2:$C$394,1,0)","v":"350009-T501-00000"}]
[1.1,"371300-T501-00000","前减震器-左(KYB减震)",null,"件",1,null,{"$f":"VLOOKUP(B377,[1]Sheet1!$B$2:$C$394,1,0)","v":"371300-T501-00000"}]
[1.2,"371300-T501-00001","前减震器-左(渝安减震)",null,"件",1,null,{"$f":"VLOOKUP(B378,[1]Sheet1!$B$2:$C$394,1,0)","v":"371300-T501-00001"}]
[2.1,"371400-T501-00000","前减震器-右(KYB减震)",null,"件",1,null,{"$f":"VLOOKUP(B379,[1]Sheet1!$B$2:$C$394,1,0)","v":"371400-T501-00000"}]
[2.2,"371400-T501-00001","前减震器-右(渝安减震)",null,"件",1,null,{"$f":"VLOOKUP(B380,[1]Sheet1!$B$2:$C$394,1,0)","v":"371400-T501-00001"}]
[3,"5006-04012-SC00","自攻钉ST4.8*12",null,"件",2,"前制动油管压板与前减震装饰件",{"$f":"VLOOKUP(B381,[1]Sheet1!$B$2:$C$394,1,0)","v":"5006-04012-SC00"}]
[4,"350035-T501-00000","前制动油管压板",null,"件",1,null,{"$f":"VLOOKUP(B382,[1]Sheet1!$B$2:$C$394,1,0)","v":"350035-T501-00000"}]
[5,"5004-06010-BS01","内六角台阶螺钉M6*10,台阶8.5*3.5",null,"件",6,"前减装饰罩与前减",{"$f":"VLOOKUP(B383,[1]Sheet1!$B$2:$C$394,1,0)","v":"5004-06010-BS01"}]
[6,"390062-T501-00000","前减震器装饰罩-右",null,"件",1,null,{"$f":"VLOOKUP(B384,[1]Sheet1!$B$2:$C$394,1,0)","v":"390062-T501-00000"}]
[7,"5021-08025-BS01","内六花六角法兰面螺栓M8x25(盘13)",null,"件",4,"前减震锁紧",{"$f":"VLOOKUP(B385,[1]Sheet1!$B$2:$C$394,1,0)","v":"5021-08025-BS01"}]
[8,"390055-T501-00000","前减震器装饰罩-左",null,"件",1,null,{"$f":"VLOOKUP(B386,[1]Sheet1!$B$2:$C$394,1,0)","v":"390055-T501-00000"}]
[9,null,"前减震防尘封",null,"件",2,null,{"$f":"VLOOKUP(B387,[1]Sheet1!$B$2:$C$394,1,0)","v":{"$error":"#N/A"}}]
[10,null,"前减震油封",null,"件",2,null,{"$f":"VLOOKUP(B388,[1]Sheet1!$B$2:$C$394,1,0)","v":{"$error":"#N/A"}}]
[1,"5021-05012-BS00","内六花六角法兰面螺栓M5x12",null,"件",4,"散热器格栅",{"$f":"VLOOKUP(B389,[1]Sheet1!$B$2:$C$394,1,0)","v":"5021-05012-BS00"}]
[2,"300302-T501-00000","散热器格栅-左",null,"件",1,null,{"$f":"VLOOKUP(B390,[1]Sheet1!$B$2:$C$394,1,0)","v":"300302-T501-00000"}]
[3,"300300-T501-00001","散热器总成-左",null,"件",1,null,{"$f":"VLOOKUP(B391,[1]Sheet1!$B$2:$C$394,1,0)","v":"300300-T501-00001"}]
[4,"5021-06025-BS00","内六花六角法兰面螺栓M6x25(盘11)",null,"件",4,"左右散热器与车架",{"$f":"VLOOKUP(B392,[1]Sheet1!$B$2:$C$394,1,0)","v":"5021-06025-BS00"}]
[5,"5018-08020-BS00","平垫 ∮8*∮20.5*2",null,"件",2,"左右散热器",{"$f":"VLOOKUP(B393,[1]Sheet1!$B$2:$C$394,1,0)","v":"5018-08020-BS00"}]
[6,"420056-T501-00000","水箱连接管",null,"件",1,null,{"$f":"VLOOKUP(B394,[1]Sheet1!$B$2:$C$394,1,0)","v":"420056-T501-00000"}]
[7,"300400-T501-00001","散热器总成-右",null,"件",1,null,{"$f":"VLOOKUP(B395,[1]Sheet1!$B$2:$C$394,1,0)","v":"300400-T501-00001"}]
[8,"300402-T501-00000","散热器格栅-右",null,"件",1,null,{"$f":"VLOOKUP(B396,[1]Sheet1!$B$2:$C$394,1,0)","v":"300402-T501-00000"}]
[9,"420020-T501-00001","进水管(右散热器)",null,"件",1,null,{"$f":"VLOOKUP(B397,[1]Sheet1!$B$2:$C$394,1,0)","v":"420020-T501-00001"}]
[10,"420021-T501-00000","出水管",null,"件",1,null,{"$f":"VLOOKUP(B398,[1]Sheet1!$B$2:$C$394,1,0)","v":"420021-T501-00000"}]
[11,"420700-T501-00000","储水壶排水管",null,"件",1,null,{"$f":"VLOOKUP(B399,[1]Sheet1!$B$2:$C$394,1,0)","v":"420700-T501-00000"}]
[12,"420027-T501-00000","泄压管",null,"件",1,null,{"$f":"VLOOKUP(B400,[1]Sheet1!$B$2:$C$394,1,0)","v":"420027-T501-00000"}]
[13,"5004-06012-BS04","内六角台阶螺钉M6*12,台阶8.5*3.5","BOM无","件",2,"副水壶与车架",{"$f":"VLOOKUP(B401,[1]Sheet1!$B$2:$C$394,1,0)","v":{"$error":"#N/A"}}]
[14,"420020-T501-00000","进水管(左散热器)",null,"件",1,null,{"$f":"VLOOKUP(B402,[1]Sheet1!$B$2:$C$394,1,0)","v":"420020-T501-00000"}]
[15,"300200-T501-00001","储水壶总成",null,"件",1,null,{"$f":"VLOOKUP(B403,[1]Sheet1!$B$2:$C$394,1,0)","v":"300200-T501-00001"}]
[1,"5021-06025-BS00","内六花六角法兰面螺栓M6x25(盘11)",null,"件",1,"油冷器与车架",{"$f":"VLOOKUP(B404,[1]Sheet1!$B$2:$C$394,1,0)","v":"5021-06025-BS00"}]
[2,"5018-06015-BS00","平垫∮6*∮18*1.5",null,"件",1,"油冷器安装",{"$f":"VLOOKUP(B405,[1]Sheet1!$B$2:$C$394,1,0)","v":"5018-06015-BS00"}]
[3,"311600-T501-00000","油冷器",null,"件",1,null,{"$f":"VLOOKUP(B406,[1]Sheet1!$B$2:$C$394,1,0)","v":"311600-T501-00000"}]
[1,"320001-T501-00000","消声器密封垫",null,"件",1,null,{"$f":"VLOOKUP(B407,[1]Sheet1!$B$2:$C$394,1,0)","v":"320001-T501-00000"}]
[2,"5008-08165-SC00","盖形螺母M8*1.25*14",null,"件",2,"消声器前段与发动机",{"$f":"VLOOKUP(B408,[1]Sheet1!$B$2:$C$394,1,0)","v":"5008-08165-SC00"}]
[3,"320100-T501-00000","消声器前段总成",null,"件",1,null,{"$f":"VLOOKUP(B409,[1]Sheet1!$B$2:$C$394,1,0)","v":"320100-T501-00000"}]
[4,"5012-01072-BS00","消声器弹簧",null,"件",4,null,{"$f":"VLOOKUP(B410,[1]Sheet1!$B$2:$C$394,1,0)","v":"5012-01072-BS00"}]
[5,"320800-T501-00001","消声器中段总成",null,"件",1,null,{"$f":"VLOOKUP(B411,[1]Sheet1!$B$2:$C$394,1,0)","v":"320800-T501-00001"}]
[6,"420011-T501-00001","消声器安装工字胶",null,"件",1,null,{"$f":"VLOOKUP(B412,[1]Sheet1!$B$2:$C$394,1,0)","v":"420011-T501-00001"}]
[7,"5013-15018-BS00","翻边衬套15*18*24*18",null,"件",1,null,{"$f":"VLOOKUP(B413,[1]Sheet1!$B$2:$C$394,1,0)","v":"5013-15018-BS00"}]
[8,"5018-08020-BS00","平垫∮8*∮20.5*2",null,"件",2,"消声器中段安装；消声器后段安装",{"$f":"VLOOKUP(B414,[1]Sheet1!$B$2:$C$394,1,0)","v":"5018-08020-BS00"}]
[9,"5021-08035-BS00","内六花六角法兰面螺栓M8x35(盘13)",null,"件",1,"消声器中段安装",{"$f":"VLOOKUP(B415,[1]Sheet1!$B$2:$C$394,1,0)","v":"5021-08035-BS00"}]
[10,"5021-08045-BS00","内六花六角法兰面螺栓M8x45(盘13)",null,"件",1,"消声器后段安装",{"$f":"VLOOKUP(B416,[1]Sheet1!$B$2:$C$394,1,0)","v":"5021-08045-BS00"}]
[11,"5008-08085-SC00","六角法兰面自锁螺母M8*1.25",null,"件",1,null,{"$f":"VLOOKUP(B417,[1]Sheet1!$B$2:$C$394,1,0)","v":"5008-08085-SC00"}]
[12,"320200-T501-00000","消声器后段总成",null,"件",1,null,{"$f":"VLOOKUP(B418,[1]Sheet1!$B$2:$C$394,1,0)","v":"320200-T501-00000"}]
[1,"420008-T501-00007","工字胶圈",null,"件",2,null,{"$f":"VLOOKUP(B419,[1]Sheet1!$B$2:$C$394,1,0)","v":"420008-T501-00007"}]
[2,"5007-06021-HX00","1/4转快锁式螺栓",null,"件",2,"头罩与大灯支架",{"$f":"VLOOKUP(B420,[1]Sheet1!$B$2:$C$394,1,0)","v":"5007-06021-HX00"}]
[3,"5012-07024-FH00","弹出弹簧∮7.63*∮11.43*24.13",null,"件",2,"头罩与大灯支架",{"$f":"VLOOKUP(B421,[1]Sheet1!$B$2:$C$394,1,0)","v":"5012-07024-FH00"}]
[4,"5018-07035-BS00","杯形垫圈∮7*∮24*3.5",null,"件",2,"头罩与大灯支架",{"$f":"VLOOKUP(B422,[1]Sheet1!$B$2:$C$394,1,0)","v":"5018-07035-BS00"}]
[5,"5020-05405-BS00","挡圈∮5.4*∮12.5*0.5",null,"件",6,"头罩与大灯支架；油箱前装饰件与大灯支架；油箱前装饰件与左右前油箱",{"$f":"VLOOKUP(B423,[1]Sheet1!$B$2:$C$394,1,0)","v":"5020-05405-BS00"}]
[6,"390028-T501-00000","前挡风",null,"件",1,null,{"$f":"VLOOKUP(B424,[1]Sheet1!$B$2:$C$394,1,0)","v":"390028-T501-00000"}]
[7,"5004-05013-BS01","内六角台阶螺钉M5*13,台阶8*3.5",null,"件",6,"侧护板与挡风玻离",{"$f":"VLOOKUP(B425,[1]Sheet1!$B$2:$C$394,1,0)","v":"5004-05013-BS01"}]
[8,"5018-08007-BS00","平垫(尼龙垫片)",null,"件",6,null,{"$f":"VLOOKUP(B426,[1]Sheet1!$B$2:$C$394,1,0)","v":"5018-08007-BS00"}]
[9,"420024-R100-000","橡胶螺母",null,"件",6,null,{"$f":"VLOOKUP(B427,[1]Sheet1!$B$2:$C$394,1,0)","v":"420024-R100-000"}]
[10,"5007-06016-HX00","1/4转快锁式螺栓",null,"件",4,"油箱前装饰件与大灯支架；油箱前装饰件与左右前油箱",{"$f":"VLOOKUP(B428,[1]Sheet1!$B$2:$C$394,1,0)","v":"5007-06016-HX00"}]
[11,"5018-06520-BS00","平垫∮6.5*∮20*2",null,"件",4,"油箱前装饰件与大灯支架；油箱前装饰件与左右前油箱",{"$f":"VLOOKUP(B429,[1]Sheet1!$B$2:$C$394,1,0)","v":"5018-06520-BS00"}]
[12,"390076-T501-00000","油箱前装饰件-左",null,"件",1,null,{"$f":"VLOOKUP(B430,[1]Sheet1!$B$2:$C$394,1,0)","v":"390076-T501-00000"}]
[13,"390077-T501-00000","油箱前装饰件-右",null,"件",1,null,{"$f":"VLOOKUP(B431,[1]Sheet1!$B$2:$C$394,1,0)","v":"390077-T501-00000"}]
[1,"350001-P302-00001","过油螺栓M10*1.25*22","BOM无","件",4,"制动油管与制动泵、卡钳",{"$f":"VLOOKUP(B432,[1]Sheet1!$B$2:$C$394,1,0)","v":{"$error":"#N/A"}}]
[2,"350002-R100-000","铜垫圈",null,"件",8,null,{"$f":"VLOOKUP(B433,[1]Sheet1!$B$2:$C$394,1,0)","v":"350002-R100-000"}]
[3,"5005-05012-BS00","十字盘头螺钉M5*12",null,"件",4,"后制动卡油管卡夹",{"$f":"VLOOKUP(B434,[1]Sheet1!$B$2:$C$394,1,0)","v":"5005-05012-BS00"}]
[4,"350025-T501-00001","油管卡子",null,"件",2,null,{"$f":"VLOOKUP(B435,[1]Sheet1!$B$2:$C$394,1,0)","v":"350025-T501-00001"}]
[5,"350800-T501-00000","制动油管1",null,"件",1,null,{"$f":"VLOOKUP(B436,[1]Sheet1!$B$2:$C$394,1,0)","v":"350800-T501-00000"}]
[6,"350500-T501-00000","后制动卡钳总成",null,"件",1,null,{"$f":"VLOOKUP(B437,[1]Sheet1!$B$2:$C$394,1,0)","v":"350500-T501-00000"}]
[7,"350501-T501-00000","后刹车片",null,"件",1,"系统",{"$f":"VLOOKUP(B438,[1]Sheet1!$B$2:$C$394,1,0)","v":{"$error":"#N/A"}}]
[8,null,"平垫",null,"件",1,null,{"$f":"VLOOKUP(B439,[1]Sheet1!$B$2:$C$394,1,0)","v":{"$error":"#N/A"}}]
[9,"350034-T501-00000","后制动泵拨叉",null,"件",1,null,{"$f":"VLOOKUP(B440,[1]Sheet1!$B$2:$C$394,1,0)","v":"350034-T501-00000"}]
[10,"350033-T501-00000","后制动泵销轴",null,"件",1,null,{"$f":"VLOOKUP(B441,[1]Sheet1!$B$2:$C$394,1,0)","v":"350033-T501-00000"}]
[11,"5015-01016-SC00","开口销1.2*16",null,"件",1,"后制动臂与后制动总泵",{"$f":"VLOOKUP(B442,[1]Sheet1!$B$2:$C$394,1,0)","v":"5015-01016-SC00"}]
[12,"5004-06016-BS04","内六角盘头螺钉M6*16",null,"件",2,"后制动总泵与车架",{"$f":"VLOOKUP(B443,[1]Sheet1!$B$2:$C$394,1,0)","v":"5004-06016-BS04"}]
[13,"350600-T501-00000","后制动泵总成",null,"件",1,null,{"$f":"VLOOKUP(B444,[1]Sheet1!$B$2:$C$394,1,0)","v":"350600-T501-00000"}]
[14,"351000-T501-00000","制动油管3",null,"件",1,null,{"$f":"VLOOKUP(B445,[1]Sheet1!$B$2:$C$394,1,0)","v":"351000-T501-00000"}]
[15,"5021-08035-BS00","内六花六角法兰面螺栓M8x35(盘13)",null,"件",2,"前制动卡钳安装",{"$f":"VLOOKUP(B446,[1]Sheet1!$B$2:$C$394,1,0)","v":"5021-08035-BS00"}]
[16,"350301-T501-00000","前刹车片",null,"件",1,"系统",{"$f":"VLOOKUP(B447,[1]Sheet1!$B$2:$C$394,1,0)","v":{"$error":"#N/A"}}]
[17,"352600-T501-00000","前制动卡钳总成",null,"件",1,null,{"$f":"VLOOKUP(B448,[1]Sheet1!$B$2:$C$394,1,0)","v":"352600-T501-00000"}]
[18,"390080-T501-00000","后制动卡钳装饰件",null,"件",1,null,{"$f":"VLOOKUP(B449,[1]Sheet1!$B$2:$C$394,1,0)","v":"390080-T501-00000"}]
[19,"5021-06013-BS00","内六花六角法兰面螺栓M6x13(盘14)",null,"件",4,"后制动卡钳装饰件安装；后碟刹盘装饰件安装",{"$f":"VLOOKUP(B450,[1]Sheet1!$B$2:$C$394,1,0)","v":"5021-06013-BS00"}]
[20,"390079-T501-00000","后碟刹装饰件",null,"件",1,null,{"$f":"VLOOKUP(B451,[1]Sheet1!$B$2:$C$394,1,0)","v":"390079-T501-00000"}]
[21,"350036-T501-00000","前卡钳支架",null,"件",1,null,{"$f":"VLOOKUP(B452,[1]Sheet1!$B$2:$C$394,1,0)","v":"350036-T501-00000"}]
[1,"370300-T501-00000","前脚蹬-左",null,"件",1,null,{"$f":"VLOOKUP(B453,[1]Sheet1!$B$2:$C$394,1,0)","v":"370300-T501-00000"}]
[2,"370014-T501-00001","销∮10*44.5",null,"件",2,"主脚蹬与车架",{"$f":"VLOOKUP(B454,[1]Sheet1!$B$2:$C$394,1,0)","v":"370014-T501-00001"}]
[3,"370400-T501-00000","前脚蹬-右",null,"件",1,null,{"$f":"VLOOKUP(B455,[1]Sheet1!$B$2:$C$394,1,0)","v":"370400-T501-00000"}]
[4,"5015-03030-SC00","开口销3.0*30",null,"件",2,"主脚蹬与车架",{"$f":"VLOOKUP(B456,[1]Sheet1!$B$2:$C$394,1,0)","v":{"$error":"#N/A"}}]
[5,"370003-T501-00000","脚蹬扭簧-左",null,"件",1,null,{"$f":"VLOOKUP(B457,[1]Sheet1!$B$2:$C$394,1,0)","v":"370003-T501-00000"}]
[6,"370004-T501-00000","脚蹬扭簧-右",null,"件",1,null,{"$f":"VLOOKUP(B458,[1]Sheet1!$B$2:$C$394,1,0)","v":"370004-T501-00000"}]
[7,"5018-10515-BS00","平垫∮10.5*∮20*1.5",null,"件",2,"脚踏安装",{"$f":"VLOOKUP(B459,[1]Sheet1!$B$2:$C$394,1,0)","v":"5018-10515-BS00"}]
[1,"5027-06012-BS00","橡胶螺栓M6*12",null,"件",4,null,{"$f":"VLOOKUP(B460,[1]Sheet1!$B$2:$C$394,1,0)","v":"5027-06012-BS00"}]
[2,"5008-06070-SC00","六角法兰面自锁螺母M6",null,"件",4,null,{"$f":"VLOOKUP(B461,[1]Sheet1!$B$2:$C$394,1,0)","v":"5008-06070-SC00"}]
[3,"5021-06012-BS00","内六花六角法兰面螺栓M6x12(盘11)",null,"件",2,"挡风安装插销与头罩支架",{"$f":"VLOOKUP(B462,[1]Sheet1!$B$2:$C$394,1,0)","v":"5021-06012-BS00"}]
[4,"360043-T501-00000","头罩支架",null,"件",1,null,{"$f":"VLOOKUP(B463,[1]Sheet1!$B$2:$C$394,1,0)","v":"360043-T501-00000"}]
[5,"5021-08050-BS01","内六花六角法兰面螺栓M8x50(盘16)",null,"件",2,"头罩支架与车架",{"$f":"VLOOKUP(B464,[1]Sheet1!$B$2:$C$394,1,0)","v":"5021-08050-BS01"}]
[6,"5008-08085-SC00","六角法兰面自锁螺母M8*1.25*8.5*14",null,"件",2,"头罩支架与车架",{"$f":"VLOOKUP(B465,[1]Sheet1!$B$2:$C$394,1,0)","v":"5008-08085-SC00"}]
[null,"310009-T501-00000","通气管固定底座"]
[null,"910015-T501-00003","三角摇架轴套∮14*∮19*10.2"]
[null,"910016-T501-00001","U型摇架轴套∮10*∮17*87.5"]
[null,"5102-192613-BS0","滚针轴承∮19*∮26*13"]
[null,"5102-172420-BS0","滚针轴承∮17*∮24*20"]
[null,"5102-202615-BS0","滚针轴承∮20*∮26*15"]
[null,"380500-T501-00001","离合拉索"]
[null,"910017-T501-00001","翻边轴承套∮10*∮14*7.2"]
[null,"910004-P200-00002","衬套∮10*∮24*5"]
[null,"350042-T501-00000","前海绵胎"]
[null,"350028-T501-00000","前轮垫带"]
[null,"350039-T501-00000","前轮胎夹"]
[null,"350043-T501-00000","后海绵胎"]
[null,"350040-T501-00000","后轮胎夹"]
[null,"350031-T501-00000","后轮垫带"]
[null,"350602-T501-00000","后制动泵油杯盖"]

{"sheet":"Basic Information","index":1,"n_rows":946,"n_cols":8,"rows_kept":946,"cut":false,"hidden":false,"merged":[[0,0,0,7],[1,3,1,4],[22,0,22,7],[23,3,23,4],[44,0,44,7],[45,3,45,4],[66,0,66,7],[67,3,67,4],[88,0,88,7],[89,3,89,4],[110,0,110,7],[111,3,111,4],[132,0,132,7],[133,3,133,4],[154,0,154,7],[155,3,155,4],[176,0,176,7],[177,3,177,4],[198,0,198,7],[199,3,199,4],[220,0,220,7],[221,3,221,4],[242,0,242,7],[243,3,243,4],[264,0,264,7],[265,3,265,4],[286,0,286,7],[287,3,287,4],[308,0,308,7],[309,3,309,4],[330,0,330,7],[331,3,331,4],[352,0,352,7],[353,3,353,4],[374,0,374,7],[375,3,375,4],[396,0,396,7],[397,3,397,4],[418,0,418,7],[419,3,419,4],[440,0,440,7],[462,0,462,7],[463,3,463,4],[484,0,484,7],[485,3,485,4],[506,0,506,7],[507,3,507,4],[528,0,528,7],[529,3,529,4],[550,0,550,7],[551,3,551,4],[572,0,572,7],[573,3,573,4],[594,0,594,7],[595,3,595,4],[616,0,616,7],[617,3,617,4],[638,0,638,7],[639,3,639,4],[660,0,660,7],[661,3,661,4],[682,0,682,7],[683,3,683,4],[704,0,704,7],[705,3,705,4],[726,0,726,7],[727,3,727,4],[748,0,748,7],[749,3,749,4],[770,0,770,7],[771,3,771,4],[792,0,792,7],[793,3,793,4],[814,0,814,7],[815,3,815,4],[836,0,836,7],[837,3,837,4],[858,0,858,7],[859,3,859,4],[880,0,880,7],[881,3,881,4],[902,0,902,7],[903,3,903,4],[924,0,924,7],[925,3,925,4],[2,0,21,0],[24,0,43,0],[46,0,65,0],[68,0,87,0],[90,0,109,0],[112,0,131,0],[134,0,153,0],[156,0,175,0],[178,0,197,0],[200,0,219,0],[222,0,241,0],[244,0,263,0],[266,0,285,0],[288,0,307,0],[310,0,329,0],[332,0,351,0],[354,0,373,0],[376,0,395,0],[398,0,417,0],[420,0,439,0],[442,0,461,0],[464,0,483,0],[486,0,505,0],[508,0,527,0],[530,0,549,0],[552,0,571,0],[574,0,593,0],[596,0,615,0],[618,0,637,0],[640,0,659,0],[662,0,681,0],[684,0,703,0],[706,0,725,0],[728,0,747,0],[750,0,769,0],[772,0,791,0],[794,0,813,0],[816,0,835,0],[838,0,857,0],[860,0,879,0],[882,0,901,0],[904,0,923,0],[926,0,945,0]]}
["F-1 Frame Assy"]
["PHOTO","NO.","Part CODE","Chinese/Chinese/English name and specification",null,"UNIT","QTY","PRICE  (excluding tax)"]
[null,1,"380700-T501-00000","转向阻尼器","Steering dampers","PIECE",4]
[null,2,"5021-06016-BS00","内六花六角法兰面螺栓M6*16(盘11)","Bolt,Hex.Flange M6x16 (Panhead 11)","PIECE",8]
[null,3,"380800-T501-00000","转向阻尼器调节座","Adjusting Block, Steering Damper ","PIECE",4]
[null,4,"360006-T501-00000","车架焊接总成","Frame Assy","PIECE"]
[null,5,"900001-R100-000","车架铭牌85*25","Frame nameplate 85*25","PIECE"]
[null,6,"5015-03010-SC00","铆钉3.2*10"," Rivet .2*10","PIECE"]
[null,7,"5008-08085-SC00","六角法兰面自锁螺母M8*1.25","Tapping Nut,Hex.Flange M8*1.25","PIECE"]
[null,8,"360077-T501-00000","喇叭支架"," Horn Bracket","PIECE"]
[null,9,"360037-T501-00000","发动机前悬挂-左","EngineFront Suspension - left","PIECE"]
[null,10,"5021-08016-BS00","内六花六角法兰面螺栓M8*16(盘16)","Bolt,Hex.Flange M8x16(Panhead 16)","PIECE"]
[null,11,"360039-T501-00000","发动机上悬挂-左","Engine upper suspension - left","PIECE"]
[null,12,"910004-T501-00003","发动机下悬挂衬套-左∮10.5*∮24*5","Lower Engine Suspension Bushing-Left ∮10.5*∮24*5","PIECE"]
[null,13,"360040-T501-00000","发动机上悬挂-右","Engine upper suspension - right","PIECE"]
[null,14,"360038-T501-00000","发动机前悬挂-右","Engine front suspension-right","PIECE"]
[null,15,"5021-08115-BS00","内六花六角法兰面螺栓M8*115(盘16)","Bolt,Hex.Flange M8x115(Panhead 16)","PIECE"]
[null,16,"910004-T501-00002","发动机下悬挂衬套-右∮10.5*∮20*26.5","Lower Engine Suspension Bushing-Right∮10.5*∮20*26.5","PIECE"]
[null,17,"5008-10115-SC00","六角法兰面自锁螺母M10*1.25","Tapping Nut,Hex.Flange M10*1.25","PIECE"]
[null,18,"370013-T501-00001","侧支架","Side Stand","PIECE"]
[null,19,"5007-10042-BS00","侧支架专用螺栓M10*42.3 ","Bolt,Side Stand M10×42.3 ","PIECE"]
[null,20,"360057-T501-00000","侧支架安装挂板","Side Stand mounting pendant plate","PIECE"]
["F-1 Frame Assy-1"]
["PHOTO","NO.","Part CODE","Chinese/Chinese/English name and specification",null,"UNIT","QTY","PRICE  (excluding tax)"]
[null,21,"360020-T501-00001","侧支架簧∮9.5,线径1.6mm","Spring, Side Stand∮9.5,  Line Diameter 1.6mm","PIECE"]
[null,22,"360020-T501-00000","侧支架簧∮15*110,线径2.5mm","Spring, Side Stand∮9.5,  Line Diameter 1.6mm","PIECE"]
[null,23]
[null,24]
[null,25]
[null,26]
[null,27]
[null,28]
[null,29]
[null,30]
[null,31]
[null,32]
[null,33]
[null,34]
[null,35]
[null,36]
[null,37]
[null,38]
[null,39]
[null,40]
["F-2 Steering column"]
["PHOTO","NO.","Part CODE","Chinese/Chinese/English name and specification",null,"UNIT","QTY","PRICE  (excluding tax)"]
[null,1,"5001-14030-YH00","六角法兰面螺栓M14*1.5*30","Bolt,Hex.Flange M14*1.5*30","PIECE",null,"Upper Connecting Plate and steering column"]
[null,2,"5018-15010-SC00","平垫∮15*∮33*1","Washer,Flat∮15*∮33*1","PIECE"]
[null,3,"5021-08035-BS00","内六花六角法兰面螺栓M8*35(盘13)","Bolt,Hex.Flange M8x35(Panhead 13)","PIECE",null,"Upper Connecting Plate and shock absorption"]
[null,4,"370020-T501-00000","上连接板","Connecting Plate, Upper","PIECE"]
[null,5,"350025-T501-00000","油管卡子","Oil pipe clip","PIECE"]
[null,6,"5021-08040-BS00","内六花六角法兰面螺栓M8*40(盘13)","Bolt,Hex.Flange M8x40 (Panhead 13)","PIECE",null,"Upper Connecting Plate and shock absorption"]
[null,7,"370102-T501-00000","下连接板","Connecting Plate, Lower","PIECE"]
[null,8,"370101-T501-00000","方向柱","Steering Column","PIECE"]
[null,9,"5010-25100-YH00","4槽调节螺母M25*1.0*10*44","Nut, Adjustable 4 Groove M25*1.0*10*44","PIECE",null,"Steering column locking"]
[null,10,"371100-R100-00001","方向柱上防尘盖∮26mm*∮53mm,厚4.15","Upper Cap,Steering Column Anti-Dust ∮26mm*∮53mm, THK：4.15","PIECE"]
[null,11,"370600-R100-000","方向上轴承32005","Bearing, Steering Column Upper 32005","PIECE"]
[null,12,"370700-R100-000","方向下轴承32006E","Bearing, Steering Column Lower 32006E","PIECE"]
[null,13,"371200-R100-00001","方向柱下防尘盖∮30.2mm*∮61mm,厚5.06","Lower Cap,Steering Column Anti-Dust∮30.2mm*∮61mm, THK: 5.06","PIECE"]
[null,14,"5021-06012-BS00","内六花六角法兰面螺栓M6x12(盘11)","Bolt,Hex.Flange M6x12(Panhead 11)","PIECE"]
[null,15]
[null,16]
[null,17]
[null,18]
[null,19]
[null,20]
["F-3  Flat fork"]
["PHOTO","NO.","Part CODE","Chinese/Chinese/English name and specification",null,"UNIT","QTY","PRICE  (excluding tax)"]
[null,1,"5010-16110-BS00","前轮轴螺母M16*1.5"," Nut, Front wheel axle M16*1.5","PIECE",null,"前轮轴和平叉轴螺母"]
[null,2,"5103-303704-000","油封∮30*∮37*4","Oil Seal∮30*∮37*4","PIECE"]
[null,3,"910014-T501-00000","T型轴套∮17*∮22*40","T-bush ∮17*∮22*40","PIECE"]
[null,4,"5106-223603-BS0","推力轴承∮22.2*∮36.5*3.6","Thrust Bearing∮22.2*∮36.5*3.6","PIECE"]
[null,5,"5102-222930-BS0","滚针轴承∮22*∮29*30","Needle Bearing ∮22*∮29*30","PIECE"]
[null,6,"5103-222904-000","油封∮22*∮29*4","Oil Seal∮22*∮29*4","PIECE"]
[null,7,"420019-R201-000","平叉防尘盖","Rear Arm,Anti-dust","PIECE"]
[null,8,"360300-T501-00000","平叉","Rear Arm","PIECE"]
[null,9,"370011-T501-00000","链条调节器-左","Chain Adjuster(Left)","PIECE"]
[null,10,"370012-T501-00000","链条调节器-右","Chain Adjuster(Right)","PIECE"]
[null,11,"5008-08065-SC00","六角螺母M8","Bolt,Hex M8","PIECE",null,"链条调节"]
[null,12,"5002-08055-BS00","六角螺栓M8*55","Hex Bolt M8*55","PIECE",null,"链条调节"]
[null,13,"360026-T501-00000","导链器","Chain Guide","PIECE"]
[null,14,"420059-T501-00000","导链器橡胶块","Rubber Blocks, Chain guide ","PIECE"]
[null,15,"420059-T501-00001","导链器橡胶块","Rubber Block, Chain guide ","PIECE"]
[null,16,"5005-06012-BS02","十字盘头螺钉M6*12(盘头直径10.5)","Screw, Cross-Shaped,Cup Head M6*12(Head diameter10.5)","PIECE",null,"链条护卡"]
[null,17,"420018-R100-000","链条护卡压板"," Protecting Plate Press Plate, Chain","PIECE"]
[null,18,"5021-06048-BS00","内六花六角法兰面螺栓M6*48(盘11)","Bolt,Hex.Flange M6x48(Panhead 11)","PIECE",null,"导链器与平叉"]
[null,19,"5008-06070-SC00","六角法兰面螺母M6","Nut,Hex.Flange M6","PIECE",null,"导链器与平叉"]
[null,20,"5021-06012-BS00","内六花六角法兰面螺栓M6*12(盘11)","Bolt,Hex.Flange M6x12(Panhead 11)","PIECE",null,"导链器与平叉"]
["F-3  Flat fork-1"]
["PHOTO","NO.","Part CODE","Chinese/Chinese/English name and specification",null,"UNIT","QTY","PRICE  (excluding tax)"]
[null,21,"370017-T501-00000","链条护卡","Bolt,Hex.Flange","PIECE"]
[null,22,"410002-T501-00000","平叉轴","Axle,Rear Arm","PIECE"]
[null,23,"5018-17025-BS00","平垫∮17*∮32*2.5","Washer,Flat ∮17*∮32*2.5","PIECE",null,"平叉轴锁紧"]
[null,24]
[null,25]
[null,26]
[null,27]
[null,28]
[null,29]
[null,30]
[null,31]
[null,32]
[null,33]
[null,34]
[null,35]
[null,36]
[null,37]
[null,38]
[null,39]
[null,40]
["F-4 Rear shock absorber & Cradle"]
["PHOTO","NO.","Part CODE","Chinese/Chinese/English name and specification",null,"UNIT","QTY","PRICE  (excluding tax)"]
[null,1,"5021-10052-BS00","内六花六角法兰面螺栓M10*52","Bolt,Hex.Flange M10x52","PIECE"]
[null,2.1,"371500-T501-00000","后减震器(KYB减震)","Rear Shock Absorber (KYB Absorber)","PIECE"]
[null,2.2,"371500-T501-00001","后减震器(渝安减震)","Rear Shock Absorber(YU'AN Absorber)","PIECE"]
[null,3,"5008-08085-SC00","六角法兰面自锁螺母M8*1.25","Tapping Nut,Hex.Flange M8*1.25","PIECE"]
[null,4,"360800-T501-00000","导链轮总成","Guide Sprocket Assembly","PIECE"]
[null,5,"5007-10061-BS00","导链轮螺栓M10*61","Guide Sprocket Bolt M10*61","PIECE"]
[null,6,"5103-222804-000","油封∮22*∮28*4","Oil Seal∮22*∮28*4","PIECE"]
[null,7,"5013-10005-SC01","翻边衬套∮10.1*∮22*5","Bushing,Flange∮10.1*∮22*5","PIECE"]
[null,8,"5018-18015-BS00","平垫∮18x∮27*1.5","Washer,Flat∮18x∮27x1.5","PIECE"]
[null,9,"5102-172420-BS0","滚针轴承∮17*∮24*20","Needle Bearing∮17*∮24*20","PIECE"]
[null,10,"360008-T501-00001","U型摇架","U-shaped Rocker","PIECE"]
[null,11,"910016-T501-00001","U型摇架轴套∮10*∮17*87.5","U-shaped Rocker Bushing ∮10*∮17*87.5","PIECE"]
[null,12,"5001-10130-DK01","六角法兰面螺栓 M10*1.25*130","Bolt,Hex.Flange  M10*1.25*130","PIECE"]
[null,13,"5008-10115-SC00","六角法兰面自锁螺母M10*1.25","Tapping Nut,Hex.Flange M10*1.25","PIECE"]
[null,14,"5103-172603-000","油封∮17.5*∮26*3","Oil Seal∮17.5*∮26*3","PIECE"]
[null,15,"360007-T501-00000","三角摇架","Triangle Rocker","PIECE"]
[null,16,"910015-T501-00001","三角摇架轴套∮12*∮20*37","Triangle Rocker Bushing ∮12*∮20*37","PIECE"]
[null,17,"910015-T501-00003","三角摇架轴套∮14*∮19*10.2","Triangle Rocker Bushing∮14*∮19*10.2","PIECE"]
[null,18,"910017-T501-00001","翻边轴承套∮10*∮14*7.2","Bushing,Flange∮10*∮14*7.2","PIECE"]
[null,19,"5102-192613-BS0","滚针轴承∮19*∮26*13","Needle Bearing∮19*∮26*13","PIECE"]
["F-4 Rear shock absorber & Cradle-1"]
["PHOTO","NO.","Part CODE","Chinese/Chinese/English name and specification",null,"UNIT","QTY","PRICE  (excluding tax)"]
[null,20,"5007-10045-BS00","扁头螺栓M10*45","Gib-headed Bolt M10*45","PIECE"]
[null,21,"5007-12085-BS00","扁头螺栓M12*85","Gib-headed Bolt M12×85","PIECE"]
[null,22,"5008-12125-SC00","六角法兰面自锁螺母M12*1.25","Tapping Nut,Hex.Flange M12*1.25","PIECE"]
[null,23,"5103-253204-000","油封∮25*∮32*4","Oil Seal∮25*∮32*4","PIECE"]
[null,24,"5013-12005-BS00","翻边衬套∮12.1*∮25*5","Bushing,Flange∮12.1*∮25*5","PIECE"]
[null,25,"5018-20115-SC00","平垫∮20.1*∮31*1.5","Washer,Flat ∮20.1*∮31*1.5","PIECE"]
[null,26,"5102-202615-BS0","滚针轴承∮20*∮26*15","Needle Bearing ∮20*∮26*15","PIECE"]
[null,27,"910015-T501-00000","三角摇架轴套∮12*∮20*61.5","Triangle Rocker Bushing∮12*∮20*61.5","PIECE"]
[null,28,"5007-12105-BS00","扁头螺栓M12*105","Gib-headed Bolt M12*105","PIECE"]
[null,29]
[null,30]
[null,31]
[null,32]
[null,33]
[null,34]
[null,35]
[null,36]
[null,37]
[null,38]
[null,39]
["F-5 Front net wheel "]
["PHOTO","NO.","Part CODE","Chinese/Chinese/English name and specification",null,"UNIT","QTY","PRICE  (excluding tax)"]
[null,1,"350027-T501-00000","前轮外胎","Front OuterTire","PIECE"]
[null,2,"350042-T501-00000","前海绵胎","Front Sponge Tire","PIECE"]
[null,3,"5021-06012-BS00","内六花六角法兰面螺栓M6*12(盘11)","Bolt,Hex.Flange M6x12(Panhead 11)","PIECE"]
[null,4,"351700-T501-00000","前碟刹盘","Brake Disc (Front)","PIECE"]
[null,5,"350028-T501-00000","前轮垫带","Front Wheel Cushion","PIECE"]
[null,6,"350039-T501-00000","前轮胎夹","Front Tyre Clip","PIECE"]
[null,7,"352000-T501-00000","前网轮总成","Spoke WheelAssy, Front","PIECE"]
[null,8,"410001-T501-00000","前轮轴(KYB减震器,长度238)","Axle,Wheel(Front) (KYB Shock Absorber,length 238)","PIECE"]
[null,9.1,"410001-T501-00001","前轮轴(渝安减震器,长度229)","Axle,Wheel(Front) (Yu'an Shock Absorber,length229)","PIECE"]
[null,9.2,"910012-T501-00002","前轮衬套-右∮20*∮27*13.5","Bushing,Front Wheel(Right) ∮20*∮27*13.5","PIECE"]
[null,10,"910001-T500-00000","前轮衬套-左","Bushing,Front Wheel(Left)","PIECE"]
[null,11,"5010-16110-BS00","前轮轴螺母M16*1.5","Nut, Front Axle  M16*1.5","PIECE"]
[null,12,"5103-273707-000","油封∮27*∮37*7","Oil Seal∮27*∮37*7","PIECE"]
[null,13,"5101-203709-BS0","轴承20*37*9","Bearing 20*37*9","PIECE"]
[null,14,"910004-T501-00000","衬套∮20.3*∮27*71","Collar∮20.3*∮27*71","PIECE"]
[null,15,"350041-T501-00001","前轮速传感器支架","Bracket, Front Wheel Speed Sensor ","PIECE"]
[null,16,"5004-05008-BS00","内六花盘头螺钉M5*0.8*8","Screw,Inner Hex.Flat Head M5*8","PIECE"]
[null,17,"350041-T501-00000","前轮速传感器支架","Bracket, Front Wheel Speed Sensor ","PIECE"]
[null,18]
[null,19]
["F-6 Rear net wheel"]
["PHOTO","NO.","Part CODE","Chinese/Chinese/English name and specification",null,"UNIT","QTY","PRICE  (excluding tax)"]
[null,1,"350030-T501-00000","后轮外胎","Rear Wheel Outer Tire","PIECE"]
[null,2,"350043-T501-00000","后海绵胎","Rear Sponge Tire","PIECE"]
[null,3,"350040-T501-00000","后轮胎夹","Rear Tyre Clip","PIECE"]
[null,4,"352100-T501-00000","后网轮总成","Spoke WheelAssy, Rear ","PIECE"]
[null,5,"350031-T501-00000","后轮垫带","Rear Wheel Cushion","PIECE"]
[null,6,"351800-T501-00000","后碟刹盘","Brake Disc (Rear)","PIECE"]
[null,7,"5021-06016-BS00","内六花六角法兰面螺栓M6*16(盘11)","Bolt,Hex.Flange M6x16(Panhead 11)","PIECE"]
[null,8,"5103-325207-000","油封∮32*∮52*7","Oil Seal∮32*∮52*7","PIECE"]
[null,9,"5101-255215-BS0","轴承25*52*15","Bearing 25*52*15","PIECE"]
[null,10,"910004-T501-00001","衬套∮25.3*∮32*95","Collar∮25.3*∮32*95","PIECE"]
[null,11,"5104-051020-000","O型圈∮51*2","O-Ring ∮51*2","PIECE"]
[null,12,"5010-22125-SC00","后轮轴螺母M22*1.5","Nut,Wheel Axle(Rear) M22*1.5","PIECE"]
[null,13,"5018-22520-BS00","平垫∮22.5*∮35*2","Washer,Flat∮22.5*∮35*2","PIECE"]
[null,14,"910003-T500-00000","后轮衬套-右","Bushing,Rear Wheel(Right)","PIECE"]
[null,15,"910002-T500-00000","后轮衬套-左","Bushing,Rear Wheel(Left)","PIECE"]
[null,16,"410003-T501-00000","后轮轴","Axle,Wheel(Rear)","PIECE"]
[null,17]
[null,18]
[null,19]
[null,20]
["F-7 Engine lower guard"]
["PHOTO","NO.","Part CODE","Chinese/Chinese/English name and specification",null,"UNIT","QTY","PRICE  (excluding tax)"]
[null,1,"300501-T501-00000","应急储水壶盖子","Cover,  Emergency Water Storage","PIECE"]
[null,2,"5104-019030-000","O型圈","O-Ring ","PIECE"]
[null,3,"300500-T501-00000","应急储水壶","Emergency Water Storage","PIECE"]
[null,4,"900005-T501-00000","耐磨贴","Wear-resisting Stick","PIECE"]
[null,5,"5021-06013-BS01","内六花六角法兰面螺栓M6*13(盘18)","Bolt,Hex.Flange M6*13(Panhead 18)","PIECE"]
[null,6,"5021-05012-BS00","内六花六角法兰面螺栓M5*12","Bolt,Hex.Flange M5*12","PIECE"]
[null,7,"5009-05070-DK00","螺纹夹板M5","Clip, Screw Thread M5","PIECE"]
[null,8,"390097-T501-00000","油冷格栅","Oil Cooling Grille","PIECE"]
[null,9,"5018-06015-BS00","平垫∮6*∮18*1.5","Washer,Flat ∮6*∮18*1.5","PIECE"]
[null,10,"5009-06093-BS00","搭扣","Buckle","PIECE"]
[null,11,"5020-05405-BS00","挡圈∮5.4*∮12.5*0.5","Collar∮5.4*∮12.5*0.5","PIECE"]
[null,12,"390078-T501-00000","工具盒盖","Cover, Tool Box","PIECE"]
[null,13,"5018-06520-BS00","平垫∮6.5*∮20*2","Washer,Flat∮6.5*∮20*2","PIECE"]
[null,14,"5007-06016-HX00","1/4转快锁式螺栓","1/4 Quick-lock Bolt","PIECE"]
[null,15,"390029-T501-00000","发动机下护板","Protecting Plate, Engine","PIECE"]
[null,16]
[null,17]
[null,18]
[null,19]
[null,20]
["F-8 Front tank - left-1"]
["PHOTO","NO.","Part CODE","Chinese/Chinese/English name and specification",null,"UNIT","QTY","PRICE  (excluding tax)"]
[null,1,"310006-T501-00001","前油箱盖"," Fuel Tank Cover, Front","PIECE"]
[null,2,"420061-T501-00000","油箱盖密封圈","Cover Seal Ring, Fuel Tank ","PIECE"]
[null,3,"5003-08020-BS00","内六花圆柱头螺钉M8*20","Screw,Inner Hex.Column Head M8*20","PIECE"]
[null,4,"5021-05012-BS00","内六花六角法兰面螺栓M5*12","Bolt,Hex.Flange M5x12","PIECE"]
[null,5,"910013-T501-00000","前油箱安装衬套","Front Fuel Tank Mounting Bushing","PIECE"]
[null,6,"360045-T501-00000","油箱前护板支架","Fuel Tank Front Guard Bracket","PIECE"]
[null,7,"5009-06093-BS00","搭扣M6*9.3,宽25长25","Bbuckle M6*9.3,Wide: 25, Length: 25","PIECE"]
[null,8,"420008-T501-00001","工字胶圈∮29*∮19.5*25","Ring, Rubber I-Shaped ∮29*∮19.5*25","PIECE"]
[null,9,"421800-T501-00001","前油箱-左","Front Fuel Tank - Left","PIECE"]
[null,10,"421800-T501-00000","油箱通气管总成","Fuel Tank Vent Pipe Assembly","PIECE"]
[null,11,"310009-T501-00000","通气管固定底座","Fixed Base, Vent Pipe ","PIECE"]
[null,12,"360036-T501-00000","燃油滤清器支架","Fuel Filter Bracket","PIECE"]
[null,13,"5005-05012-BS00","十字盘头螺钉M5*12","Screw, Cross-Shaped,Cup Head M5*12","PIECE"]
[null,14,"5003-08030-BS01","内六花圆柱头螺钉M8*30","Screw,Inner Hex.Column Head M8*30","PIECE"]
[null,15,"420008-T501-00002","工字胶圈∮29*∮19.5*29.5","Ring, Rubber I-Shaped∮29*∮19.5*29.5","PIECE"]
[null,16,"5008-16030-SC00","六角螺母M16*1,厚3","Bolt,Hex M16*1,THK: 3","PIECE"]
[null,17,"360046-T501-00000","前油箱支架","Front Fuel Tank Bracket","PIECE"]
[null,18,"5027-08020-BS00","橡胶螺栓M8*20","Elastic Rubber,  Bolts   M8*20","PIECE"]
[null,19,"360047-T501-00003","前油箱安装螺母(内M8,外M16*1*11，长度35.5mm )","Front fuel tank mounting nut (Inner:M8,Outer: M16*1*11，Length:35.5mm )","PIECE"]
[null,20,"5021-08010-BS00","内六花六角法兰面螺栓M8*10(盘16)","Bolt,Hex.Flange M8x10Panhead 16)","PIECE"]
["F-8 Front tank - left-2"]
["PHOTO","NO.","Part CODE","Chinese/Chinese/English name and specification",null,"UNIT","QTY","PRICE  (excluding tax)"]
[null,21,"310402-T500-00000","油位传感器","Oil Level Sensor","PIECE"]
[null,22,"5014-05010-BS01","内六角沉头螺钉M5*10","Screw,Inner Hex,Countersunk Head M5*10","PIECE"]
[null,23,"310011-T501-00000","油管接头安装板","Fuel Pipe Union Mounting Plate","PIECE"]
[null,24,"5104-012020-000","O型圈∮12*∮2","O-Ring ∮12*∮2","PIECE"]
[null,25,"360047-T501-00002","前油箱安装螺母(内M8,外M16*1*6，长度30.5mm)","Front Fuel Tank Mounting Nut(Inner:M8, Outer:M16*1*6，Length30.5mm)","PIECE"]
[null,26]
[null,27]
[null,28]
[null,29]
[null,30]
[null,31]
[null,32]
[null,33]
[null,34]
[null,35]
[null,36]
[null,37]
[null,38]
[null,39]
[null,40]
["F-9  Front tank - right"]
["PHOTO","NO.","Part CODE","Chinese/Chinese/English name and specification",null,"UNIT","QTY","PRICE  (excluding tax)"]
[null,1,"5003-08020-BS00","内六花圆柱头螺钉M8*20","Screw,Inner Hex.Column Head M8*20","PIECE"]
[null,2,"910013-T501-00000","前油箱安装衬套","Front Fuel Tank Mounting Bushing","PIECE"]
[null,3,"420008-T501-00001","工字胶圈∮29*∮19.5*25","Ring, Rubber I-Shaped ∮29*∮19.5*25","PIECE"]
[null,4,"5021-05012-BS00","内六花六角法兰面螺栓M5*12","Bolt, Hex.Flange M5x12","PIECE"]
[null,5,"5009-06093-BS00","搭扣M6*9.3,宽25长25","Buckle M6*9.3,Wide:25 Length: 25","PIECE"]
[null,6,"360045-T501-00000","油箱前护板支架","Fuel Tank Front Guard Bracket","PIECE"]
[null,7,"311300-T501-00000","前油箱-右","Front Fuel Tank-Rght","PIECE"]
[null,8,"5003-08030-BS00","内六角圆柱头螺钉M8*30","Screw,Inner Hex.Column Head M8*30","PIECE"]
[null,9,"5008-16030-SC00","六角螺母M16*1,厚3","Bolt,Hex M16*1,THK:3","PIECE"]
[null,10,"360047-T501-00002","前油箱安装螺母(内M8,外M16*1*6，长度30.5mm)","Front fuel tank mounting nut(Inner: M8,Outer: M16*1*6，L: 30.5mm)","PIECE"]
[null,11,"360047-T501-00003","前油箱安装螺母(内M8,外M16*1*11，长度35.5mm )","Front fuel tank mounting nut (Inner: M8,Outer: M16*1*11，L: 35.5mm )","PIECE"]
[null,12,"5027-08020-BS00","橡胶螺栓M8*20","Rubber Bolt M8*20","PIECE"]
[null,13,"360046-T501-00000","前油箱支架","Front Fuel Tank Bracket","PIECE"]
[null,14,"5021-08010-BS00","内六花六角法兰面螺栓M8x10(盘16)","Bolt,Hex.Flange        M8x10(Panhead 16)","PIECE"]
[null,15,"420008-T501-00002","工字胶圈∮29*∮19.5*29.5","Ring, Rubber I-Shaped ∮29*∮19.5*29.5","PIECE"]
[null,16,"5014-05010-BS01","内六角沉头螺钉M5*10","Screw,Inner Hex,Countersunk Head M5*10","PIECE"]
[null,17,"310011-T501-00000","油管接头安装板","Mounting Plate, Fuel Pipe Union ","PIECE"]
[null,18,"5104-012020-000","O型圈∮12*∮2","O-Ring ∮12*∮2","PIECE"]
[null,19,"900005-T501-00000","耐磨贴","Wear-Resistant Sticker","PIECE"]
[null,20,"420061-T501-00000","油箱盖密封圈","Cover Seal, Fuel Tank ","PIECE"]
["F-9 Front tank - right-1 "]
["PHOTO","NO.","Part CODE","Chinese/Chinese/English name and specification",null,"UNIT","QTY","PRICE  (excluding tax)"]
[null,21,"310006-T501-00001","前油箱盖","Front Fuel Tank Cover","PIECE"]
[null,22,"400006-R100-000","线钩","wire hook"]
[null,23]
[null,24,null,"3 complete sticker decal kits for Rally standard complete motorcycle",null,3]
[null,25]
[null,26]
[null,27]
[null,28]
[null,29]
[null,30]
[null,31]
[null,32]
[null,33]
[null,34]
[null,35]
[null,36]
[null,37]
[null,38]
[null,39]
[null,40]
["F-10 Rear oil tank-1"]
["PHOTO","NO.","Part CODE","Chinese/Chinese/English name and specification",null,"UNIT","QTY","PRICE  (excluding tax)"]
[null,1,"5007-08011-BS01","后油箱安装螺栓M8*11,台阶25","Rear Fuel Tank Mounting Bolt  M8*11,Stepping 25","PIECE"]
[null,2,"420049-T501-00000","后油箱支撑胶","Rear Fuel Tank Support Rubber","PIECE"]
[null,3,"310007-T501-00001","后油箱盖","Cover, Rear Fuel Tank","PIECE"]
[null,4,"420061-T501-00000","油箱盖密封圈","Fuel Tank Cover Seal","PIECE"]
[null,5,"311700-T501-00000","单向透气阀","One-way Went Valve","PIECE"]
[null,6,"310008-T501-00000","后油箱通气管接头","Rear Fuel Tank Vent Pipe Connector","PIECE"]
[null,7,"5104-005020-000","O型圈∮5*∮2","O-Ring∮5*∮2","PIECE"]
[null,8,"420048-T501-00000","侧支架挂钩","Side Stand Hook","PIECE"]
[null,9,"360048-T501-00000","侧支架挂钩支架","Side Stand Hook Bracket","PIECE"]
[null,10,"5021-05012-BS00","内六花六角法兰面螺栓M5*12","Bolt,Hex.Flange","PIECE"]
[null,11,"390082-T501-00000","后油箱保护罩","Rear Fuel Tank Protection Cover","PIECE"]
[null,12,"5018-06015-BS00","平垫∮6*∮18*1.5","Washer,Flat ∮6*∮18*1.5","PIECE"]
[null,13,"5004-06012-BS04","内六角台阶螺钉M6*12,台阶8.5*3.5","Stepping Screw,Inner Hex. M6*12, Stepping 8.5*3.5","PIECE"]
[null,14,"390083-T501-00000","后轮挡水皮","Rear wheel water barrier leather","PIECE"]
[null,15,"5014-06012-BS01","内六角沉头螺钉M6*12","Screw,Inner Hex,Countersunk Head M6*12","PIECE"]
[null,16,"5021-06013-BS00","内六花六角法兰面螺栓M6*13(盘14)","Bolt,Hex.Flange  M6x13(Panhead 14)","PIECE"]
[null,17,"360041-T501-00000","消声器安装支架","Muffler mounting bracket","PIECE"]
[null,18,"910011-R100-000","衬管∮8*∮12.5*29","Sleeve∮8*∮12.5*29","PIECE"]
[null,19,"371001-R201-000","后脚蹬安装工字胶∮12*∮23.5*30","I-Shaped Installation Rubber,  Rear Foot Pedal   ∮12*∮23.5*30","PIECE"]
[null,20,"5104-012020-000","O型圈∮12*∮2","O-Ring ∮12*∮2","PIECE"]
["F-10 Rear oil tank-2"]
["PHOTO","NO.","Part CODE","Chinese/Chinese/English name and specification",null,"UNIT","QTY","PRICE  (excluding tax)"]
[null,21,"5014-05010-BS01","内六角沉头螺钉M5*10","Screw,Inner Hex,Countersunk Head M5*10","PIECE",null,"油箱接头安装板与左右后油箱"]
[null,22,"310011-T501-00000","油管接头安装板","Mounting Plate, Fuel Pipe Union ","PIECE"]
[null,23,"360049-T501-00000","后油箱下支架","Lower Bracket, Rear Fuel Tank","PIECE"]
[null,24,"360051-T501-00000","后油箱加强支架-右","Reinforcement  Support Right, Rear Fuel Tank","PIECE"]
[null,25,"360050-T501-00000","后油箱加强支架-左","Reinforcement  Support Left, Rear Fuel Tank","PIECE"]
[null,26,"311400-T501-00000","后油箱","Rear Fuel Tank","PIECE"]
[null,27,"400006-T501-00001","线钩∮12*12","wire hook"]
[null,28]
[null,29]
[null,30]
[null,31]
[null,32]
[null,33]
[null,34]
[null,35]
[null,36]
[null,37]
[null,38]
[null,39]
[null,40]
["F-11 Electrical components-1"]
["PHOTO","NO.","Part CODE","Chinese/Chinese/English name and specification",null,"UNIT","QTY","PRICE  (excluding tax)"]
[null,1,"5014-06020-BS01","内六角沉头螺钉M6*20","Screw,Inner Hex,Countersunk Head M6*20","PIECE"]
[null,2,"331806-T501-00000","座垫锁座","Cushion Lock Set","PIECE"]
[null,3,"310200-T501-00000","ECU","ECU","PIECE"]
[null,4,"5005-05012-BS00","十字盘头螺钉M5*12","Screw, Cross-Shaped,Cup Head M5*12","PIECE"]
[null,5,"330100-R100-00001","启动继电器","Starting Relay","PIECE"]
[null,6,"420900-T501-00000","电瓶绑带","Battery straps","PIECE"]
[null,7,"331400-T501-00001","电瓶","Battery","PIECE"]
[null,8,"5006-04013-HX00","自攻钉M4.2*13","Tapping Screw M4.2X13","PIECE"]
[null,9,"331600-R110-00000","继电器","Relay","PIECE"]
[null,10,"332600-T501-00000","点火线圈","Ignition Coil","PIECE"]
[null,11,"5009-05070-DK00","螺纹夹板M5","Clip, Screw Thread M5","PIECE"]
[null,12,"332000-R201-000","侧倾传感器","Sensor,Toppling","PIECE"]
[null,13,"5018-05008-SC00","平垫φ5","Washer,Flat φ5","PIECE"]
[null,14,"5004-05016-BS02","内六角盘头螺钉M5*16","Screw,Inner Hex.Flat Head M5*16","PIECE"]
[null,15,"330200-T501-00001","调压整流器","Rectifier & Regulator Assy","PIECE"]
[null,16,"5009-06080-DK00","螺纹夹板M6","Clip, Screw Thread M6","PIECE"]
[null,17,"5005-06025-BS00","十字盘头螺钉M6*25","Screw, Cross-Shaped,Cup HeadM6*25","PIECE"]
[null,18,"5021-06020-BS00","内六花六角法兰面螺栓M6*20(盘11)","Bolt,Hex.Flange   M6x20(Panhead 11)","PIECE"]
[null,19,"420008-R100-000","工字胶圈∮9*∮19.5*9","Ring, Rubber I-Shaped ∮9*∮19.5*9","PIECE"]
[null,20,"360900-T501-00000","电器安装支架总成","Electrical components Mounting Bracket Assembly","PIECE"]
["F-11 Electrical components-1"]
["PHOTO","NO.","Part CODE","Chinese/Chinese/English name and specification",null,"UNIT","QTY","PRICE  (excluding tax)"]
[null,21,"330600-T501-00001","喇叭","Horn","PIECE"]
[null,22,"5021-06012-BS00","内六花六角法兰面螺栓M6*12(盘11)","Bolt,Hex.Flange M6x12 (Panhead 11)","PIECE"]
[null,23,"331700-T501-00001","主电缆","Wire Harness Assy","PIECE"]
[null,24]
[null,25]
[null,26]
[null,27]
[null,28]
[null,29]
[null,30]
[null,31]
[null,32]
[null,33]
[null,34]
[null,35]
[null,36]
[null,37]
[null,38]
[null,39]
[null,40]
["F-12 Electrical components-2"]
["PHOTO","NO.","Part CODE","Chinese/Chinese/English name and specification",null,"UNIT","QTY","PRICE  (excluding tax)"]
[null,1,"380600-T501-00000","座垫锁拉索","Seat Lock Cable","PIECE"]
[null,2,"311900-T501-00000","油门拉索总成","Throttle Cable Assembly","PIECE"]
[null,3,"380500-T501-00001","离合拉索","Clutch Cable","PIECE"]
[null,4]
[null,5]
[null,6]
[null,7]
[null,8]
[null,9]
[null,10]
[null,11]
[null,12]
[null,13]
[null,14]
[null,15]
[null,16]
[null,17]
[null,18]
[null,19]
[null,20]
["F-13 Front fender"]
["PHOTO","NO.","Part CODE","Chinese/Chinese/English name and specification",null,"UNIT","QTY","PRICE  (excluding tax)"]
[null,1,"5013-06006-BS00","翻边衬套Φ6*Φ9*6","Bushing,Flange Φ6xΦ9x6","PIECE"]
[null,2,"390015-T501-00000","前挡泥板","Front Fender","PIECE"]
[null,3,"5018-06015-BS00","平垫∮6*∮18*1.5","Washer,Flat ∮6*∮18*1.5","PIECE"]
[null,4,"5021-06020-BS00","内六花六角法兰面螺栓M6*20(盘11)","Bolt,Hex.Flange M6x20(Panhead 11)","PIECE"]
[null,5]
[null,6]
[null,7]
[null,8]
[null,9]
[null,10]
[null,11]
[null,12]
[null,13]
[null,14]
[null,15]
[null,16]
[null,17]
[null,18]
[null,19]
[null,20]
["F-14 Throttle Body Assy"]
["PHOTO","NO.","Part CODE",null,"Chinese/English name and specification","UNIT","QTY","PRICE  (excluding tax)"]
[null,1,"5021-06020-BS00","内六花六角法兰面螺栓M6*20(盘11)","Bolt,Hex.Flange M6x20 (Panhead 11)","PIECE"]
[null,2,"310012-T501-00000","喷油器帽","Fuel Injector Cap","PIECE"]
[null,3,"310101-T501-00000","喷油器","Fuel Injector ","PIECE"]
[null,4,"310005-P200-00000","喷油器卡夹","Fuel Injector Clamp","PIECE"]
[null,5,"310100-T501-00000","节气门总成","Throttle Body Assy","PIECE"]
[null,6,"320500-T501-00000","进气管总成","Intake Pipe Assy","PIECE"]
[null,7]
[null,8]
[null,9]
[null,10]
[null,11]
[null,12]
[null,13]
[null,14]
[null,15]
[null,16]
[null,17]
[null,18]
[null,19]
[null,20]
["F-15 Fuel evaporation system"]
["PHOTO","NO.","Part CODE","Chinese/Chinese/English name and specification",null,"UNIT","QTY","PRICE  (excluding tax)"]
[null,1,"350100-R100-000","快速接头","Quick Coupling","PIECE"]
[null,2,"5011-01570-BS00","单耳无极卡箍","Clip","PIECE"]
[null,3,"420054-T501-00000","燃油管6","Fuel Pipe 6","PIECE"]
[null,4,"310500-R100-000","燃油滤清器","Fuel Filter","PIECE"]
[null,5,"420046-P200-00000","燃油滤清器胶套","Fuel Filter Sleeve","PIECE"]
[null,6,"420053-T501-00000","燃油管5","Fuel Pipe 5","PIECE"]
[null,7,"310400-T501-00000","燃油泵","Fuel Pump","PIECE"]
[null,8,"5005-05020-SC00","内六角盘头螺钉M5*20","Screw,Inner Hex.Flat Head M5*20","PIECE"]
[null,9]
[null,10]
[null,11]
[null,12]
[null,13]
[null,14]
[null,15]
[null,16]
[null,17]
[null,18]
[null,19]
[null,20]
["F-15 Fuel evaporation system-1 "]
["PHOTO","NO.","Part CODE","Chinese/Chinese/English name and specification",null,"UNIT","QTY","PRICE  (excluding tax)"]
[null,1,"350002-R100-000","铜垫圈∮10*∮15*1.5","Copper Washer ∮10*∮15*1.5","PIECE"]
[null,2,"350001-T501-00004","过油螺栓M10*1.0*20","Oil Bolt M10*1.0*20","PIECE"]
[null,3,"5011-01570-BS00","单耳无极卡箍","Clip","PIECE"]
[null,4,"420001-T501-00000","燃油管1","Fuel Pipe 1","PIECE"]
[null,5,"311000-T501-00000","快速插头公头","Quick Plug Male Head","PIECE"]
[null,6,"311100-T501-00000","快速插头母头","Quick Plug Female Head","PIECE"]
[null,7,"420002-T501-00000","燃油管2","Fuel Pipe 2","PIECE"]
[null,8,"310010-T501-00000","球形油管接头","Spherical Tubing Joint","PIECE"]
[null,9,"311800-T501-00000","单向阀","One-way Valve","PIECE"]
[null,10,"420051-T501-00000","燃油管3","Fuel Pipe  3","PIECE"]
[null,11,"420052-T501-00000","燃油管4","Fuel Pipe  4","PIECE"]
[null,12,"350001-T501-00002","过油螺栓M10*1*30","Oil Bolt M10*1*30","PIECE"]
[null,13]
[null,14]
[null,15]
[null,16]
[null,17]
[null,18]
[null,19]
[null,20]
["F-16 Headlight bracket"]
["PHOTO","NO.","Part CODE","Chinese/Chinese/English name and specification",null,"UNIT","QTY","PRICE  (excluding tax)"]
[null,1,"5021-06013-BS00","内六花六角法兰面螺栓M6*13(盘14)","Bolt,Hex.Flange M6x13(Panhead 14)","PIECE"]
[null,2,"5009-06093-BS00","搭扣M6*9.3,宽25长25","Buckle M6*9.3,Wide: 25, Length: 25","PIECE"]
[null,3,"5027-06012-BS00","橡胶螺栓M6*12","Rubber Bolt M6*12","PIECE"]
[null,4,"5008-06070-SC00","六角法兰面自锁螺母M6","Tapping Nut,Hex.Flange M6","PIECE"]
[null,5,"360022-R201-000","大灯支架压板","Press-plate,Headlight Bracket","PIECE"]
[null,6,"5003-05012-BS00","内六角圆柱头螺钉M5*12","Screw,Inner Hex.Column Head M5*12","PIECE"]
[null,7,"360044-T501-00000","大灯安装支架","Headlight Mounting Bracket","PIECE"]
[null,8,"5015-03020-SC00","开口销∮0.9","Pin,Split ∮0.9","PIECE"]
[null,9,"5009-06080-DK00","螺纹夹板M6*1.0*8*16","Clip, Screw Thread M6*1.0*8*16","PIECE"]
[null,10,"5012-01036-SC00","大灯调节弹簧∮1.4*∮8.6*36","Adjusting Spring,Headlight ∮1.4*∮8.6*36","PIECE"]
[null,11,"360014-T501-00000","大灯支架","Bracket, Headlight","PIECE"]
[null,12,"420036-R201-000","大灯支架胶套∮8*∮11/∮13*12.8","Rubber,Headlight Bracket ∮8*∮11/∮13*12.8","PIECE"]
[null,13,"5007-06041-BS01","大灯调节螺栓M6*41"," Headlight Adjusting Screw M6*41","PIECE"]
[null,14]
[null,15]
[null,16]
[null,17]
[null,18]
[null,19]
[null,20]
["F-17 Engine"]
["PHOTO","NO.","Part CODE","Chinese/Chinese/English name and specification",null,"UNIT","QTY","PRICE  (excluding tax)"]
[null,1,"5001-10030-BS00","六角法兰面螺栓M10*30*1.25","Bolt,Hex.Flange M10*30*1.25","PIECE"]
[null,2,"AEDT01-B09","发动机总成(NC450S,油冷管接口M10*1.25)","Engine Assy. (NC450S, Oil cooling pipe connection M10*1.25)","PIECE"]
[null,3,"5021-06012-BS00","内六花六角法兰面螺栓M6*12","Bolt,Hex.Flange M6*12","PIECE"]
[null,4,"360088-T501-00000","高压包压板","Pressing Pate, Coil to Spark Plug","PIECE"]
[null,5,"421700-T501-00000","废气管总成","Exhaust Pipe Assembly","PIECE"]
[null,6,"390023-T501-00000","发动机小链轮盖","Cover,Engine Sprocket","PIECE"]
[null,7,"5021-06030-BS00","内六花六角法兰面螺栓M6*30(盘11)","Bolt,Hex.Flange M6x30(Panhead 11)","PIECE"]
[null,8,"352300-T501-00000","链条","Chain","PIECE",3]
[null,9,"5021-06020-BS00","内六花六角法兰面螺栓M6*20(盘11)","Bolt,Hex.Flange M6x20(Panhead 11)","PIECE"]
[null,10,"370200-T501-00000","变档踏板总成","Pedal,Gear Shift Assy","PIECE"]
[null,11,"5008-10115-SC00","六角法兰面自锁螺母M10*1.25","Tapping Nut,Hex.Flange M10*1.25","PIECE"]
[null,12,"5001-10130-BS00","六角法兰面螺栓M10*1.25*130","Bolt,Hex.Flange M10*1.25*130","PIECE"]
[null,13,"5001-10145-BS00","六角法兰面螺栓M10*1.25*145","Bolt,Hex.Flange  M10x1.25*145","PIECE"]
[null,14,"910004-P200-00002","衬套∮10*∮24*5","Bushing ∮10*∮24*5","PIECE"]
[null,15,"5001-10115-BS00","六角法兰面螺栓M10*1.25*115","Bolt,Hex.Flange  M10*1.25*115","PIECE"]
[null,16,"400006-R100-000","线钩","Hook","PIECE"]
[null,17]
[null,18]
[null,19]
[null,20]
["F-18 Steering handle"]
["PHOTO","NO.","Part CODE","Chinese/Chinese/English name and specification",null,"UNIT","QTY","PRICE  (excluding tax)"]
[null,1,"5004-05010-BS01","内六角台阶螺钉M5*10","Stepping Screw,Inner Hex. M5X10","PIECE",10]
[null,2,"390007-T501-00000","手挡风-左","Hand Shield(Left)","PIECE",6]
[null,3,"370009-T501-00000","手挡风支架","Bracket, Hand Shield","PIECE",10]
[null,4,"5014-08045-BS00","内六花沉头螺钉M8*45","Screw,Inner Hex,Countersunk Head M8*45","PIECE",10]
[null,5,"910018-T501-00001","手挡风衬套","Bushing, Hand Shield","PIECE",10]
[null,6,"910018-T501-00000","手挡风衬套","Bushing, Hand Shield","PIECE",10]
[null,7,"380100-T501-00000","手把胶-左","Grip(Left),Handle Bar","PIECE",3]
[null,8,"/","仪表开关支架(除仪表开关支架外的零部件为速度仪表二级物料，不能单独采购）","Meter operation switch (speed meter secondary materials, can not be purchased separately)","PIECE"]
[null,9,"330901-T501-00000","离合手柄卡座","Holder,Lever Clutch","PIECE"]
[null,10,"5021-06020-BS00","内六花六角法兰面螺栓M6*20(盘11)","Bolt,Hex.Flange M6x20(Panhead 11)","PIECE"]
[null,11,"331000-T501-00000","手把开关-左","Switch(Left),Handle Bar","PIECE"]
[null,12,"5004-06020-BS01","内六花盘头螺钉M6*20","Screw,Inner Hex.Flat Head M6*20","PIECE",10]
[null,13,"330900-T501-00000","离合手柄总成","Lever,Clutch Assy","PIECE"]
[null,14,"330902-T501-00000","离合手柄","Lever,Clutch","PIECE"]
[null,15,"5021-08045-BS00","内六花六角法兰面螺栓M8*45(盘13)","Bolt,Hex.Flange M8x45(Panhead 13)","PIECE"]
[null,16,"370025-T501-00000","方向把压板","Handle Bar Pressing Plate","PIECE"]
[null,17,"370002-T501-00001","方向把上卡子","Clip, Handle Bar Upper","PIECE"]
[null,18,"420033-T501-00002","方向把缓冲胶套","Handle Bar Rubber Cover","PIECE"]
[null,19,"420033-T501-00003","方向把缓冲胶套","Handle Bar Rubber Cover","PIECE"]
[null,20,"350200-T501-00000","前制动泵","Bumper Assy,Front Brake","PIECE"]
["F-18 Steering handle-1 "]
["PHOTO","NO.","Part CODE","Chinese/Chinese/English name and specification",null,"UNIT","QTY","PRICE  (excluding tax)"]
[null,21,"350201-T501-00000","前制动手柄","Front Brake Handle","PIECE"]
[null,22,"390008-T501-00000","手挡风-右","Hand Shield(Right)","PIECE",6]
[null,23,"331100-T501-00000","手把开关-右","Switch(Right),Handle Bar","PIECE"]
[null,24,"380900-T501-00000","加油器","Fueler","PIECE"]
[null,25,"380201-T501-00000","手把胶-右","Grip(Right),Handle Bar","PIECE",3]
[null,26,"380300-T501-00000","方向把","Handle Bar","PIECE"]
[null,27,"370024-T501-00001","方向把下卡座缓冲块","Buffer Holder, Handle Bar Lower","PIECE"]
[null,28,"370016-T501-00001","方向把下活动卡子固定块","Movable Clips Fixed Block, Handle Bar Lower","PIECE"]
[null,29,"370026-T501-00001","方向把下活动卡子","Movable Clips, Handle Bar Lower","PIECE"]
[null,30,"5021-10035-BS00","内六花六角法兰面螺栓M10*35","Bolt,Hex.Flange M10x35","PIECE"]
[null,31,"370001-T501-00001","方向把下卡座","Clip, Handle Bar Lower","PIECE"]
[null,32,"370023-T501-00000","方向把下卡子增高块","Clip Heightening block, Handle Bar Lower","PIECE"]
[null,33,"5021-06020-BS00","内六花六角法兰面螺栓M6*20(盘11)","Bolt,Hex.Flange M6x20(Panhead 11)","PIECE"]
[null,34,"5021-06035-BS00","内六花六角法兰面螺栓M6*35(盘11)","Bolt,Hex.Flange M6x35(Panhead 11)","PIECE"]
[null,35,"350202-T501-00000","制动手柄卡座","Brake handle Holder","PIECE"]
[null,36]
[null,37]
[null,38]
[null,39]
[null,40]
["F-19  Roadbook assembly"]
["PHOTO","NO.","Part CODE","Chinese/Chinese/English name and specification",null,"UNIT","QTY","PRICE  (excluding tax)"]
[null,1,"330800-T501-00001","仪表总成(速度仪表)","Speedometer Assy","PIECE"]
[null,2,"330800-T501-00000","仪表总成(航向仪表)","Navigation Meter Assy","PIECE"]
[null,3,"400700-T501-00000","路书总成","Roadbook Assembly","PIECE"]
[null,4,"341400-T501-00001","仪表指示灯","Instrument Indicator","PIECE"]
[null,5,"5013-05006-YH00","翻边衬套 ∮5.5*∮8*∮16*6.9","Bushing,Flange ∮5.5*∮8*∮16*6.9","PIECE"]
[null,6,"420008-R201-000","工字胶圈","Ring, Rubber I-Shaped","PIECE"]
[null,7,"5018-05515-SC00","平垫φ5","Washer,Flat φ5","PIECE"]
[null,8,"5008-05050-SC00","六角法兰面螺母M6","Bolt,Hex.Flange M6","PIECE"]
[null,9,"5021-06013-BS00","内六花六角法兰面螺栓M6*13(盘14)","Bolt,Hex.Flange  M6x13(Panhead 14)","PIECE"]
[null,10,"5004-05025-BS01","内六角盘头螺钉M5*25","Screw,Inner Hex.Flat Head M5*25","PIECE"]
[null,11,"420008-T501-00010","工字胶圈∮8*∮11*∮16*(2+3.3+2)","Ring, Rubber I-Shaped∮8*∮11*∮16*(2+3.3+2)","PIECE"]
[null,12,"5004-05016-BS02","内六角盘头螺钉M5*16","Screw,Inner Hex.Flat Head M5*16","PIECE"]
[null,13,"5013-05005-YH00","翻边衬套∮5.5*∮8*∮16*5.4","Bushing,Flange ∮5.5*∮8*∮16*5.4","PIECE"]
[null,14,"420008-T501-00009","工字胶圈∮8*∮11*∮16*(2+1.8+2)","Ring, Rubber I-Shaped ∮8*∮11*∮16*(2+1.8+2)","PIECE"]
[null,15,"360042-T501-00000","路书支架","Road book holder","PIECE"]
[null,16]
[null,17]
[null,18]
[null,19]
[null,20]
["F-20 Rear section of rear fender"]
["PHOTO","NO.","Part CODE","Chinese/Chinese/English name and specification",null,"UNIT","QTY","PRICE  (excluding tax)"]
[null,1,"5007-08015-BS01","尾包安装螺栓M8*15 台阶5.5","Tailpack mounting bolts M8×15 台阶5.5","PIECE"]
[null,2,"5004-05013-BS01","内六角台阶螺钉M5*13,台阶8*3.5","Stepping Screw,Inner Hex. M5*13,Stepping 8*3.5","PIECE"]
[null,3,"390004-T501-00000","后尾盖","Cap, Rear Tail","PIECE"]
[null,4,"341500-T501-00001","后位置灯总成","Rear position light assembly","PIECE"]
[null,5,"420060-T501-00000","位置灯胶垫","Position light rubber pad","PIECE"]
[null,6,"5005-05012-BS00","十字盘头螺钉M5*12","Screw, Cross-Shaped,Cup HeadM5*12","PIECE"]
[null,7,"340200-T501-00001","尾灯总成","Tail light assembly","PIECE"]
[null,8,"5005-05012-HX00","十字大盘头螺钉M5*12","Screw, Cross-Shaped,Cup Head M5*12","PIECE"]
[null,9,"390020-T501-00000","后挡泥后段","Rear Part,Rear Fender","PIECE"]
[null,10,"5021-08025-BS00","内六花六角法兰面螺栓M8*25(盘16)","Screw, Cross-Shaped,Cup HeadM8x25(Panhead 16)","PIECE"]
[null,11]
[null,12]
[null,13]
[null,14]
[null,15]
[null,16]
[null,17]
[null,18]
[null,19]
[null,20]
["F-21 Cushion"]
["PHOTO","NO.","Part CODE","Chinese/Chinese/English name and specification",null,"UNIT","QTY","PRICE  (excluding tax)"]
[null,1,"360700-T501-00000","座垫总成"," Cushion","PIECE"]
[null,2]
[null,3]
[null,4]
[null,5]
[null,6]
[null,7]
[null,8]
[null,9]
[null,10]
[null,11]
[null,12]
[null,13]
[null,14]
[null,15]
[null,16]
[null,17]
[null,18]
[null,19]
[null,20]
["F-22 Buffer"]
["PHOTO","NO.","Part CODE","Chinese/Chinese/English name and specification",null,"UNIT","QTY","PRICE  (excluding tax)"]
[null,1,"5008-08085-SC00","六角法兰面自锁螺母M8","Tapping Nut,Hex.FlangeM8","PIECE"]
[null,2,"351902-T501-00000","大链轮","Large sprocket","PIECE"]
[null,3,"5023-08027-BS00","内六花沉头螺钉M8*27","Screw,Inner Hex,Countersunk HeadM8x27","PIECE"]
[null,4,"351901-T500-00000","T型衬套","T-shape bushing","PIECE"]
[null,5,"5101-305513-BS0","轴承30*55*13","bearing 30*55*13","PIECE"]
[null,6,"351900-T501-00000","缓冲体总成","Buffer assembly","PIECE"]
[null,7,"5103-405504-000","油封∮40.9*∮55*4","oil seal∮40.9*∮55*4","PIECE"]
[null,8,"350022-T501-00000","后链轮缓冲胶","Rear Chain Wheel Buffer","PIECE"]
[null,9]
[null,10]
[null,11]
[null,12]
[null,13]
[null,14]
[null,15]
[null,16]
[null,17]
[null,18]
[null,19]
[null,20]
["F-23 Air filter"]
["PHOTO","NO.","Part CODE","Chinese/Chinese/English name and specification",null,"UNIT","QTY","PRICE  (excluding tax)"]
[null,1,"5021-06012-BS00","内六花六角法兰面螺栓M6*12(盘11)","Screw, Cross-Shaped,Cup HeadM6x12(Panhead 11)","PIECE"]
[null,2,"320300-T501-00001","空滤器总成","Air filter assembly","PIECE"]
[null,3]
[null,4]
[null,5]
[null,6]
[null,7]
[null,8]
[null,9]
[null,10]
[null,11]
[null,12]
[null,13]
[null,14]
[null,15]
[null,16]
[null,17]
[null,18]
[null,19]
[null,20]
["F-24 Headlights"]
["PHOTO","NO.","Part CODE","Chinese/Chinese/English name and specification",null,"UNIT","QTY","PRICE  (excluding tax)"]
[null,1,"5021-05012-BS00","内六花六角法兰面螺栓M5*12","Screw, Cross-Shaped,Cup HeadM5x12","PIECE"]
[null,2,"341700-T501-00000","前大灯总成-右","Headlight assembly-right","PIECE"]
[null,3,"5021-06012-BS00","内六花六角法兰面螺栓M6*12(盘11)","Screw, Cross-Shaped,Cup HeadM6x12(Panhead 11)","PIECE"]
[null,4,"341600-T501-00000","前大灯总成-左","Headlight assembly-left","PIECE"]
[null,5,"330008-T501-00000","大灯控制模块","Headlight control module","PIECE"]
[null,6,"341701-T501-00000","前大灯胶套-右","Front headlight rubber cover-right","PIECE"]
[null,7,"341601-T501-00000","前大灯胶套-左","Front headlight rubber cover-left","PIECE"]
[null,8,"390081-T501-00000","大灯装饰件","Headlight decoration piece","PIECE"]
[null,9,"5004-06012-BS04","内六角台阶螺钉M6*12,台阶8.5*3.5","Stepping Screw,Inner Hex.M6*12, Stepping 8.5*3.5","PIECE"]
[null,10]
[null,11]
[null,12]
[null,13]
[null,14]
[null,15]
[null,16]
[null,17]
[null,18]
[null,19]
[null,20]
["F-25 Brake pedal assembly"]
["PHOTO","NO.","Part CODE","Chinese/Chinese/English name and specification",null,"UNIT","QTY","PRICE  (excluding tax)"]
[null,1,"5018-08210-BS00","平垫∮8.2*∮26*1","Flat pad∮8.2*∮26*1","PIECE"]
[null,2,"5103-131903-000","油封","oil seal","PIECE"]
[null,3,"5007-08016-BS01","制动臂螺栓M8*16台阶∮13*18.2","Brake Arm Bolt M8*16  stepping∮13*18.2","PIECE"]
[null,4,"5012-01048-LB00","后制动回位簧∮1.6*∮8*48","Rear brake return spring ∮1.6*∮8*48","PIECE"]
[null,5,"370010-T501-00000","刹车摇臂","Brake rocker arm","PIECE"]
[null,6,"5021-05012-BS00","内六花六角法兰面螺栓M5*12","Screw, Cross-Shaped,Cup HeadM5x12","PIECE"]
[null,7,"350009-T501-00000","后制动踏板","Rear brake pedal","PIECE"]
[null,8]
[null,9]
[null,10]
[null,11]
[null,12]
[null,13]
[null,14]
[null,15]
[null,16]
[null,17]
[null,18]
[null,19]
[null,20]
["F-26  Front shock absorber"]
["PHOTO","NO.","Part CODE","Chinese/Chinese/English name and specification",null,"UNIT","QTY","PRICE  (excluding tax)"]
[null,1.1,"371300-T501-00000","前减震器-左(KYB减震)","Front shock absorber - left (KYB shock absorber)","PIECE"]
[null,1.2,"371300-T501-00001","前减震器-左(渝安减震)","Front shock absorber - Left (Yu 'an shock absorber)","PIECE"]
[null,2.1,"371400-T501-00000","前减震器-右(KYB减震)","Front shock absorber - right (KYB shock absorber)","PIECE"]
[null,2.2,"371400-T501-00001","前减震器-右(渝安减震)","Front shock absorber -right (Yu 'an shock absorber)","PIECE"]
[null,3,"5006-04012-SC00","自攻钉ST4.8*12"," Self Tapping ST4.8*12","PIECE",2]
[null,4,"350035-T501-00000","前制动油管压板","Front brake tubing press plate","PIECE",1]
[null,5,"5004-06010-BS01","内六角台阶螺钉M6*10,台阶8.5*3.5","Screw,Inner Hex.Flat Head M6*10, stepping 8.5*3.5","PIECE"]
[null,6,"390062-T501-00000","前减震器装饰罩-右","Front shock absorber decoration cover - right","PIECE",2]
[null,7,"5021-08025-BS01","内六花六角法兰面螺栓M8*25(盘13)","Screw, Cross-Shaped,Cup HeadM8x25(Panhead 13)","PIECE"]
[null,8,"390055-T501-00000","前减震器装饰罩-左","Front shock absorber decoration cover - left","PIECE",2]
[null,9,"371302-T501-00000","前减震防尘封49*60.2*11","Anti-dust seal , Front shock-absorbing 49*60.2*11","PIECE",6]
[null,10,"5103-496010-000","前减震油封∮49*∮60*10"," Oil seal, Front shock-absorbing ∮49*∮60*10","PIECE",6]
[null,11]
[null,12]
[null,13]
[null,14]
[null,15]
[null,16]
[null,17]
[null,18]
["F-27 Radiator"]
["PHOTO","NO.","Part CODE","Chinese/Chinese/English name and specification",null,"UNIT","QTY","PRICE  (excluding tax)"]
[null,1,"5021-05012-BS00","内六花六角法兰面螺栓M5*12","Screw, Cross-Shaped,Cup HeadM5x12","PIECE"]
[null,2,"300302-T501-00000","散热器格栅-左","Radiator grille. - Left","PIECE"]
[null,3,"300300-T501-00001","散热器总成-左","Radiator Assembly - Left","PIECE"]
[null,4,"5021-06025-BS00","内六花六角法兰面螺栓M6*25(盘11)","Screw, Cross-Shaped,Cup HeadM6x25(Panhead 11)","PIECE"]
[null,5,"5018-08020-BS00","平垫 ∮8*∮20.5*2","Washer,Flat∮8*∮20.5*2","PIECE"]
[null,6,"420056-T501-00000","水箱连接管","Water tank connection pipe","PIECE"]
[null,7,"300400-T501-00001","散热器总成-右","Radiator Assembly - Right","PIECE"]
[null,8,"300402-T501-00000","散热器格栅-右","Radiator grille. - Right","PIECE"]
[null,9,"420020-T501-00001","进水管(右散热器)","inlet pipe (right radiator)","PIECE"]
[null,10,"420021-T501-00000","出水管","outlet pipe","PIECE"]
[null,11,"420700-T501-00000","储水壶排水管","Drain Pipe,Cooling Tank Assy","PIECE"]
[null,12,"420027-T501-00000","泄压管","Pressure Relif Pipe","PIECE"]
[null,13,"5004-06012-BS04","内六角台阶螺钉M6*12,台阶8.5*3.5","Screw,Inner Hex.Flat HeadM6*12,stepping 8.5*3.5","PIECE"]
[null,14,"420020-T501-00000","进水管(左散热器)","Inlet pipe (left radiator)","PIECE"]
[null,15,"300200-T501-00001","储水壶总成","Cooling Tank Assy","PIECE"]
[null,16]
[null,17]
[null,18]
[null,19]
[null,20]
["F-28  Oil cooler"]
["PHOTO","NO.","Part CODE","Chinese/Chinese/English name and specification",null,"UNIT","QTY","PRICE  (excluding tax)"]
[null,1,"5021-06025-BS00","内六花六角法兰面螺栓M6*25(盘11)","Screw, Cross-Shaped,Cup HeadM6x25(Panhead 11)","PIECE"]
[null,2,"5018-06015-BS00","平垫∮6*∮18*1.5","Washer,Flat ∮6*∮18*1.5","PIECE"]
[null,3,"311600-T501-00000","油冷器","Oil cooler","PIECE"]
[null,4]
[null,5]
[null,6]
[null,7]
[null,8]
[null,9]
[null,10]
[null,11]
[null,12]
[null,13]
[null,14]
[null,15]
[null,16]
[null,17]
[null,18]
[null,19]
[null,20]
["F-29 Muffler"]
["PHOTO","NO.","Part CODE","Chinese/Chinese/English name and specification",null,"UNIT","QTY","PRICE  (excluding tax)"]
[null,1,"320001-T501-00000","消声器密封垫","Seal Gasket,Muffer Assy","PIECE"]
[null,2,"5008-08165-SC00","盖形螺母M8*1.25*14","cap nut M8*1.25*14","PIECE"]
[null,3,"320100-T501-00000","消声器前段总成","Exhausting Pipe,Muffler Assy","PIECE"]
[null,4,"5012-01072-BS00","消声器弹簧","Muffler spring","PIECE"]
[null,5,"320800-T501-00001","消声器中段总成","Muffler middle section assembly","PIECE"]
[null,6,"420011-T501-00001","消声器安装工字胶","Installment Rubber,Muffler I-Shaped","PIECE"]
[null,7,"5013-15019-YH00","翻边衬套15*8.5*20.5","Bushing,Flange 15*8.5*20.5","PIECE"]
[null,8,"5018-08020-BS00","平垫∮8*∮20.5*2","Washer,Flat∮8*∮20.5*2","PIECE"]
[null,9,"5021-08035-BS00","内六花六角法兰面螺栓M8*35(盘13)","Screw, Cross-Shaped,Cup HeadM8x35(Panhead 13)","PIECE"]
[null,10,"5021-08045-BS00","内六花六角法兰面螺栓M8*45(盘13)","Screw, Cross-Shaped,Cup HeadM8x45(Panhead 13)","PIECE"]
[null,11,"5008-08085-SC00","六角法兰面自锁螺母M8*1.25","Tapping Nut,Hex.FlangeM8*1.25","PIECE"]
[null,12,"320200-T501-00000","消声器后段总成","Rear Part,Muffler Assy","PIECE"]
[null,13,"310900-T500-00000","氧传感器","oxygen sensor","PIECE"]
[null,14]
[null,15]
[null,16]
[null,17]
[null,18]
[null,19]
[null,20]
["F-30 Windshield and fuel tank trim"]
["PHOTO","NO.","Part CODE","Chinese/Chinese/English name and specification",null,"UNIT","QTY","PRICE  (excluding tax)"]
[null,1,"420008-T501-00007","工字胶圈","Ring, Rubber I-Shaped","PIECE"]
[null,2,"5007-06021-HX00","1/4转快锁式螺栓","1/4Turn fast locking bolt","PIECE"]
[null,3,"5012-07024-FH00","弹出弹簧∮7.63*∮11.43*24.13","Pop-up spring ∮7.63*∮11.43*24.13","PIECE"]
[null,4,"5018-07035-BS00","杯形垫圈∮7*∮24*3.5","cup washer ∮7*∮24*3.5","PIECE"]
[null,5,"5020-05405-BS00","挡圈∮5.4*∮12.5*0.5","Collar∮5.4*∮12.5*0.5","PIECE"]
[null,6,"390028-T501-00000","前挡风","front windshield","PIECE"]
[null,7,"5004-05013-BS01","内六角台阶螺钉M5*13,台阶8*3.5","Screw,Inner Hex.Flat HeadM5*13,台阶8*3.5","PIECE"]
[null,8,"5018-08007-BS00","平垫(尼龙垫片)","Flat pad (nylon )","PIECE"]
[null,9,"420024-R100-000","橡胶螺母","Rubber nut","PIECE"]
[null,10,"5007-06016-HX00","1/4转快锁式螺栓","1/4Turn fast locking bolt","PIECE"]
[null,11,"5018-06520-BS00","平垫∮6.5*∮20*2","Washer,Flat∮6.5*∮20*2","PIECE"]
[null,12,"390076-T501-00000","油箱前装饰件-左","Tank front decoration piece - left","PIECE"]
[null,13,"390077-T501-00000","油箱前装饰件-右","Tank front decoration piece - right","PIECE"]
[null,14]
[null,15]
[null,16]
[null,17]
[null,18]
[null,19]
[null,20]
["F-31 Braking system"]
["PHOTO","NO.","Part CODE","Chinese/Chinese/English name and specification",null,"UNIT","QTY","PRICE  (excluding tax)"]
[null,1,"350001-P302-00001","过油螺栓M10*1.25*22","Oil BoltM10*1.25*22","PIECE"]
[null,2,"350002-R100-000","铜垫圈∮10*∮15*1.5","copper washer","PIECE"]
[null,3,"5005-05012-BS00","十字盘头螺钉M5*12","Screw, Cross-Shaped,Cup HeadM5*12","PIECE"]
[null,4,"350025-T501-00001","油管卡子","Oil pipe clip","PIECE"]
[null,5,"350800-T501-00000","制动油管1","Brake oil pipe 1","PIECE"]
[null,6,"350500-T501-00000","后制动卡钳总成","Rear brake caliper assembly","PIECE"]
[null,7,"350501-T501-00000","后刹车片","Rear brake pad","PIECE"]
[null,8,"5018-08012-BS00","平垫∮8*∮16*1","washer, flat ∮8*∮16*1","PIECE"]
[null,9,"350034-T501-00000","后制动泵拨叉","Rear brake pump fork","PIECE"]
[null,10,"350033-T501-00000","后制动泵销轴","Rear brake pump pin","PIECE"]
[null,11,"5015-01016-SC00","开口销1.2*16","Pin,Split 1.2*16","PIECE"]
[null,12,"5004-06016-BS04","内六角盘头螺钉M6*16","Screw,Inner Hex.Flat HeadM6*16","PIECE"]
[null,13,"350600-T501-00000","后制动泵总成","Rear brake pump assembly","PIECE"]
[null,14,"351000-T501-00000","制动油管3","Brake oil pipe 3","PIECE"]
[null,15,"5021-08035-BS00","内六花六角法兰面螺栓M8*35(盘13)","Screw, Cross-Shaped,Cup HeadM8x35(Panhead 13)","PIECE"]
[null,16,"350301-T501-00000","前刹车片","Front brake pads","PIECE"]
[null,17,"352600-T501-00000","前制动卡钳总成","Front brake caliper assembly","PIECE"]
[null,18,"390080-T501-00000","后制动卡钳装饰件","Rear brake caliper decoration piece","PIECE"]
[null,19,"5021-06013-BS00","内六花六角法兰面螺栓M6*13(盘14)","Screw, Cross-Shaped,Cup HeadM6x13(Panhead 14)","PIECE"]
[null,20,"390079-T501-00000","后碟刹装饰件","Rear disc brake decoration piece","PIECE"]
["F-31 Braking system-1"]
["PHOTO","NO.","Part CODE","Chinese/Chinese/English name and specification",null,"UNIT","QTY","PRICE  (excluding tax)"]
[null,21,"350036-T501-00000","前卡钳支架(KYB减震使用）","Front caliper bracket ( for KYB shock absorption)","PIECE"]
[null,22,"350602-T501-00000","后制动泵油杯盖","oil cup cover, Rear brake pump ","PIECE"]
[null,23,"350700-T501-00000","后制动开关","Rear brake switch","PIECE"]
[null,24]
[null,25]
[null,26]
[null,27]
[null,28]
[null,29]
[null,30]
[null,31]
[null,32]
[null,33]
[null,34]
[null,35]
[null,36]
[null,37]
[null,38]
[null,39]
[null,40]
["F-32 Front pedal"]
["PHOTO","NO.","Part CODE","Chinese/Chinese/English name and specification",null,"UNIT","QTY","PRICE  (excluding tax)"]
[null,1,"370300-T501-00000","前脚蹬-左","Front pedal. -Left","PIECE"]
[null,2,"370014-T501-00001","销∮10*44.5","Pin ∮10*44.5","PIECE"]
[null,3,"370400-T501-00000","前脚蹬-右","Front pedal. - Right","PIECE"]
[null,4,"5015-01016-SC00","开口销1.2*16","Pin,Split 1.2*16","PIECE"]
[null,5,"370003-T501-00000","脚蹬扭簧-左","Foot twist spring. - Left","PIECE"]
[null,6,"370004-T501-00000","脚蹬扭簧-右","Foot twist spring. - Right","PIECE"]
[null,7,"5018-10515-BS00","平垫∮10.5*∮20*1.5","washer flat∮10.5*∮20*1.5","PIECE"]
[null,8]
[null,9]
[null,10]
[null,11]
[null,12]
[null,13]
[null,14]
[null,15]
[null,16]
[null,17]
[null,18]
[null,19]
[null,20]
["F-33 Hood bracket"]
["PHOTO","NO.","Part CODE","Chinese/Chinese/English name and specification",null,"UNIT","QTY","PRICE  (excluding tax)"]
[null,1,"5027-06012-BS00","橡胶螺栓M6*12","Rubber bolt M6*12","PIECE"]
[null,2,"5008-06070-SC00","六角法兰面自锁螺母M6","Tapping Nut,Hex.FlangeM6","PIECE"]
[null,3,"5021-06012-BS00","内六花六角法兰面螺栓M6*12(盘11)","Screw, Cross-Shaped,Cup HeadM6x12(Panhead 11)","PIECE"]
[null,4,"5008-06070-SC00","六角法兰面螺母M6","Nut,Hex.FlangeM6","PIECE"]
[null,5,"360043-T501-00000","头罩支架","Head cover bracket","PIECE"]
[null,6,"5021-08050-BS01","内六花六角法兰面螺栓M8*50(盘16)","Screw, Cross-Shaped,Cup HeadM8x50(Panhead 16)","PIECE"]
[null,7,"5008-08085-SC00","六角法兰面自锁螺母M8*1.25*8.5*14","Tapping Nut,Hex.FlangeM8*1.25*8.5*14","PIECE"]
[null,8]
[null,9]
[null,10]
[null,11]
[null,12]
[null,13]
[null,14]
[null,15]
[null,16]
[null,17]
[null,18]
[null,19]
[null,20]