{"text_format":"2","workbook":"xlsx","n_sheets":1,"sheets":["基本版"],"not_rendered":{"charts":0,"images":37,"macros":0,"external_links":2,"defined_names":2,"comments":0,"pivot_tables":0},"unopened":[],"bounds":{"document_bytes":16777216,"sheet_cells":100000,"run_cost":"one","rows_first":2000,"rows_last":500,"rows_between":2000,"halvings":0,"cell_chars":16384,"cell_head_chars":4096},"cells_cut":0,"cells_raw":0,"read":"whole","date_system":"1900"}

{"sheet":"基本版","index":0,"n_rows":946,"n_cols":8,"rows_kept":946,"cut":false,"hidden":false,"merged":[[0,0,0,6],[1,3,1,4],[23,3,23,4],[45,3,45,4],[67,3,67,4],[89,3,89,4],[111,3,111,4],[133,3,133,4],[155,3,155,4],[177,3,177,4],[199,3,199,4],[221,3,221,4],[243,3,243,4],[265,3,265,4],[287,3,287,4],[309,3,309,4],[331,3,331,4],[353,3,353,4],[375,3,375,4],[397,3,397,4],[419,3,419,4],[441,3,441,4],[463,3,463,4],[485,3,485,4],[507,3,507,4],[529,3,529,4],[551,3,551,4],[573,3,573,4],[595,3,595,4],[617,3,617,4],[639,3,639,4],[661,3,661,4],[683,3,683,4],[705,3,705,4],[727,3,727,4],[749,3,749,4],[771,3,771,4],[793,3,793,4],[815,3,815,4],[837,3,837,4],[859,3,859,4],[881,3,881,4],[903,3,903,4],[925,3,925,4],[2,0,21,0],[24,0,43,0],[46,0,65,0],[68,0,87,0],[90,0,109,0],[112,0,131,0],[134,0,153,0],[156,0,175,0],[178,0,197,0],[200,0,219,0],[222,0,241,0],[244,0,263,0],[266,0,285,0],[288,0,307,0],[310,0,329,0],[332,0,351,0],[354,0,373,0],[376,0,395,0],[398,0,417,0],[420,0,439,0],[442,0,461,0],[464,0,483,0],[486,0,505,0],[508,0,527,0],[530,0,549,0],[552,0,571,0],[574,0,593,0],[596,0,615,0],[618,0,637,0],[640,0,659,0],[662,0,681,0],[684,0,703,0],[706,0,725,0],[728,0,747,0],[750,0,769,0],[772,0,791,0],[794,0,813,0],[816,0,835,0],[838,0,857,0],[860,0,879,0],[882,0,901,0],[904,0,923,0],[926,0,945,0]]}
["F-1 车架 Frame Assy"]
["PHOTO","NO.","Part CODE","Chinese/English name and specification",null,"UNIT","QTY","PRICE  (excluding tax)"]
[null,1,"360006-T500-00000","车架焊接总成",{"$f":"VLOOKUP(D3,'[1]Basic Information'!$D:$E,2,0)","v":"Frame Assy"},"PIECE",1]
[null,2,"350008-T500-00000","ABS支架",{"$f":"VLOOKUP(D4,[2]Sheet1!$D$1:$G$65536,4,0)","v":"Bracket,ABS"},"PIECE",1]
[null,3,"420008-T501-00008","工字胶圈10*14*20","Ring, Rubber I-Shaped 10*14*20","PIECE",2]
[null,4,"5001-06016-SC00","六角法兰面螺栓M6*16","Bolt,Hex.Flange","PIECE",2]
[null,5,"5001-08020-SC00","六角法兰面螺栓M8*20","Bolt,Hex.Flange","PIECE",4]
[null,6,"360040-T501-00000","发动机上悬挂-右",{"$f":"VLOOKUP(C8,'[1]Basic Information'!$C:$E,3,0)","v":"Engine upper suspension - right"},"PIECE",1]
[null,7,"360039-T501-00000","发动机上悬挂-左",{"$f":"VLOOKUP(C9,'[1]Basic Information'!$C:$E,3,0)","v":"Engine upper suspension - left"},"PIECE",1]
[null,8,"5008-08085-SC00","六角法兰面自锁螺母M8",{"$f":"VLOOKUP(C10,'[1]Basic Information'!$C:$E,3,0)","v":"Tapping Nut,Hex.Flange M8*1.25"},"PIECE",2]
[null,9,"360077-T501-00000","喇叭支架",{"$f":"VLOOKUP(C11,'[1]Basic Information'!$C:$E,3,0)","v":" Horn Bracket"},"PIECE",1]
[null,10,"360037-T501-00000","发动机前悬挂-左",{"$f":"VLOOKUP(C12,'[1]Basic Information'!$C:$E,3,0)","v":"EngineFront Suspension - left"},"PIECE",1]
[null,11,"360038-T501-00000","发动机前悬挂-右",{"$f":"VLOOKUP(C13,'[1]Basic Information'!$C:$E,3,0)","v":"Engine front suspension-right"},"PIECE",1]
[null,12,"5021-08115-DK00","内六花六角法兰面螺栓M8*115","Bolt,Hex.Flange","PIECE",2]
[null,13,"910004-T501-00002","衬套∮10.5*∮20*26.5(发动机下悬挂衬套-右)",{"$f":"VLOOKUP(C15,'[1]Basic Information'!$C:$E,3,0)","v":"Lower Engine Suspension Bushing-Right∮10.5*∮20*26.5"},"PIECE",1]
[null,14,"910004-P200-00002","衬套∮10.5*∮24*5(发动机下悬挂衬套-左)",{"$f":"VLOOKUP(C16,'[1]Basic Information'!$C:$E,3,0)","v":"Bushing ∮10*∮24*5"},"PIECE",1]
[null,15,"5015-03010-SC00","铆钉3.2*10"," Rivet 3.2*10","PIECE",2]
[null,16,"900001-R100-000","车架铭牌","Frame nameplate ","PIECE",1]
[null,17]
[null,18]
[null,19]
[null,20]
["F-2 方向柱 Steering column"]
["PHOTO","NO.","Part CODE","Chinese/English name and specification",null,"UNIT","QTY","PRICE  (excluding tax)"]
[null,1,"5001-14030-YH00","六角法兰面螺栓M14*1.5*30",{"$f":"VLOOKUP(C25,'[1]Basic Information'!$C:$E,3,0)","v":"Bolt,Hex.Flange M14*1.5*30"},"PIECE",1]
[null,2,"5018-15010-SC00","平垫∮15*∮33*1",{"$f":"VLOOKUP(C26,'[1]Basic Information'!$C:$E,3,0)","v":"Washer,Flat∮15*∮33*1"},"PIECE",1]
[null,3,"5021-08035-DK00","内六花六角法兰面螺栓M8*35","Bolt,Hex.Flange","PIECE",4]
[null,4,"370020-T500-00000","上连接板",{"$f":"VLOOKUP(D28,'[1]Basic Information'!$D:$E,2,0)","v":"Connecting Plate, Upper"},"PIECE",1]
[null,5,"350012-T500-00000","上连板线钩",{"$f":"VLOOKUP(D29,[2]Sheet1!$D$1:$G$65536,4,0)","v":"Clip,Upper Connecting Plate"},"PIECE",1]
[null,6,"5021-06012-DK00","内六花六角法兰面螺栓M6*12",{"$f":"VLOOKUP(D30,'[1]Basic Information'!$D:$E,2,0)","v":"Bolt,Hex.Flange M6*12"},"PIECE",2]
[null,7,"350025-T501-00000","油管卡子",{"$f":"VLOOKUP(C31,'[1]Basic Information'!$C:$E,3,0)","v":"Oil pipe clip"},"PIECE",1]
[null,8,"5021-08040-DK00","内六花六角法兰面螺栓M8*40","Bolt,Hex.Flange","PIECE",4]
[null,9,"370102-T501-00000","下连接板",{"$f":"VLOOKUP(C33,'[1]Basic Information'!$C:$E,3,0)","v":"Connecting Plate, Lower"},"PIECE",1]
[null,10,"370101-T501-00000","方向柱",{"$f":"VLOOKUP(C34,'[1]Basic Information'!$C:$E,3,0)","v":"Steering Column"},"PIECE",1]
[null,11,"5010-25100-YH00","4槽调节螺母","Nut, Adjustable 4 Groove ","PIECE",1]
[null,12,"371100-R100-00001","方向柱上防尘盖","Upper Cap,Steering Column Anti-Dust ","PIECE",1]
[null,13,"370600-R100-000","方向上轴承","Bearing, Steering Column Upper","PIECE",1]
[null,14,"370700-R100-000","方向下轴承","Bearing, Steering Column Lower ","PIECE",1]
[null,15,"371200-R100-00001","方向柱下防尘盖","Lower Cap,Steering Column Anti-Dust","PIECE",1]
[null,16]
[null,17]
[null,18]
[null,19]
[null,20]
["F-3 平叉-1 Flat fork-1"]
["PHOTO","NO.","Part CODE","Chinese/English name and specification",null,"UNIT","QTY","PRICE  (excluding tax)"]
[null,1,"410002-T501-00000","平叉轴",{"$f":"VLOOKUP(C47,'[1]Basic Information'!$C:$E,3,0)","v":"Axle,Rear Arm"},"PIECE",1]
[null,2,"5103-303704-000","油封∮30*∮37*4",{"$f":"VLOOKUP(C48,'[1]Basic Information'!$C:$E,3,0)","v":"Oil Seal∮30*∮37*4"},"PIECE",2]
[null,3,"910014-T501-00000","T型轴套∮17*∮22*40",{"$f":"VLOOKUP(C49,'[1]Basic Information'!$C:$E,3,0)","v":"T-bush ∮17*∮22*40"},"PIECE",2]
[null,4,"5106-223603-BS0","推力轴承∮22.2*∮36.5*3.6",{"$f":"VLOOKUP(C50,'[1]Basic Information'!$C:$E,3,0)","v":"Thrust Bearing∮22.2*∮36.5*3.6"},"PIECE",2]
[null,5,"5102-222930-BS0","滚针轴承∮22*∮29*30",{"$f":"VLOOKUP(C51,'[1]Basic Information'!$C:$E,3,0)","v":"Needle Bearing ∮22*∮29*30"},"PIECE",2]
[null,6,"5103-222904-000","油封∮22*∮29*4",{"$f":"VLOOKUP(C52,'[1]Basic Information'!$C:$E,3,0)","v":"Oil Seal∮22*∮29*4"},"PIECE",2]
[null,7,"420019-R201-000","平叉防尘盖",{"$f":"VLOOKUP(C53,'[1]Basic Information'!$C:$E,3,0)","v":"Rear Arm,Anti-dust"},"PIECE",3]
[null,8,"5018-17025-BS00","平垫∮17*∮32*2.5",{"$f":"VLOOKUP(C54,'[1]Basic Information'!$C:$E,3,0)","v":"Washer,Flat ∮17*∮32*2.5"},"PIECE",1]
[null,9,"5010-16110-BS00","前轮轴螺母M16*1.5*11",{"$f":"VLOOKUP(C55,'[1]Basic Information'!$C:$E,3,0)","v":" Nut, Front wheel axle M16*1.5"},"PIECE",1]
[null,10,"360300-T501-00000","平叉",{"$f":"VLOOKUP(C56,'[1]Basic Information'!$C:$E,3,0)","v":"Rear Arm"},"PIECE",1]
[null,11,"370012-T501-00000","链条调节器-右",{"$f":"VLOOKUP(C57,'[1]Basic Information'!$C:$E,3,0)","v":"Chain Adjuster(Right)"},"PIECE",1]
[null,12,"5008-08065-SC00","六角螺母M8",{"$f":"VLOOKUP(C58,'[1]Basic Information'!$C:$E,3,0)","v":"Bolt,Hex M8"},"PIECE",2]
[null,13,"5002-08055-JL00","六角螺栓M8*55",{"$f":"VLOOKUP(D59,'[1]Basic Information'!$D:$E,2,0)","v":"Hex Bolt M8*55"},"PIECE",2]
[null,14,"370011-T501-00000","链条调节器-左",{"$f":"VLOOKUP(C60,'[1]Basic Information'!$C:$E,3,0)","v":"Chain Adjuster(Left)"},"PIECE",1]
[null,15,"360026-T501-00000","导链器",{"$f":"VLOOKUP(C61,'[1]Basic Information'!$C:$E,3,0)","v":"Chain Guide"},"PIECE",1]
[null,16,"5008-06070-SC00","六角法兰面螺母M6",{"$f":"VLOOKUP(C62,'[1]Basic Information'!$C:$E,3,0)","v":"Nut,Hex.Flange M6"},"PIECE",2]
[null,17,"5021-06048-DK00","内六花六角法兰面螺栓M6*48","Bolt,Hex.Flange","PIECE",2]
[null,18,"5021-06012-DK00","内六花六角法兰面螺栓M6*12",{"$f":"VLOOKUP(D64,'[1]Basic Information'!$D:$E,2,0)","v":"Bolt,Hex.Flange M6*12"},"PIECE",1]
[null,19,"420059-T501-00000","导链器橡胶块",{"$f":"VLOOKUP(C65,'[1]Basic Information'!$C:$E,3,0)","v":"Rubber Blocks, Chain guide "},"PIECE",1]
[null,20,"420059-T501-00001","导链器橡胶块",{"$f":"VLOOKUP(C66,'[1]Basic Information'!$C:$E,3,0)","v":"Rubber Block, Chain guide "},"PIECE",1]
["F-2 平叉-3 Flat fork-2"]
["PHOTO","NO.","Part CODE","Chinese/English name and specification",null,"UNIT","QTY","PRICE  (excluding tax)"]
[null,21,"5005-06012-BS00","十字盘头螺钉M6*12","Screw, Cross-Shaped,Cup Head","PIECE",3]
[null,22,"420018-R100-000","链条护卡压板",{"$f":"VLOOKUP(C70,'[1]Basic Information'!$C:$E,3,0)","v":" Protecting Plate Press Plate, Chain"},"PIECE",3]
[null,23,"370017-T501-00000","链条护卡",{"$f":"VLOOKUP(C71,'[1]Basic Information'!$C:$E,3,0)","v":"Bolt,Hex.Flange"},"PIECE",1]
[null,24,"420019-R201-00001","平叉防尘盖",{"$f":"VLOOKUP(D72,'[1]Basic Information'!$D:$E,2,0)","v":"Rear Arm,Anti-dust"},"PIECE",1]
[null,25]
[null,26]
[null,27]
[null,28]
[null,29]
[null,30]
[null,31]
[null,32]
[null,33]
[null,34]
[null,35]
[null,36]
[null,37]
[null,38]
[null,39]
[null,40]
["F-4 后减震器&摇架-1 Rear shock absorber & Cradle-1"]
["PHOTO","NO.","Part CODE","Chinese/English name and specification",null,"UNIT","QTY","PRICE  (excluding tax)"]
[null,1,"5021-10052-DK00","内六花六角法兰面螺栓M10*52",{"$f":"VLOOKUP(D91,'[1]Basic Information'!$D:$E,2,0)","v":"Bolt,Hex.Flange M10x52"},"PIECE",1]
[]
[null,2.2,"371500-T500-00001","后减震器(标准版-渝安减震)","Rear shock absorber (Standard version - Yu 'an Shock Absorber)","PIECE",1]
[]
[null,2.4,"371500-T501-00001","后减震器(高座版-渝安减震)",{"$f":"VLOOKUP(C95,'[1]Basic Information'!$C:$E,3,0)","v":"Rear Shock Absorber(YU'AN Absorber)"},"PIECE",1]
[null,3,"5008-08065-SC00","六角螺母M8",{"$f":"VLOOKUP(C96,'[1]Basic Information'!$C:$E,3,0)","v":"Bolt,Hex M8"},"PIECE",1]
[null,4,"5018-08516-LB01","平垫∮8.5*∮18*1.6","Washer,Flat","PIECE",1]
[null,5,"360800-T501-00000","导链轮总成",{"$f":"VLOOKUP(C98,'[1]Basic Information'!$C:$E,3,0)","v":"Guide Sprocket Assembly"},"PIECE",1]
[null,6,"5007-10061-SC00","导链轮螺栓M10*61(六角厚度8,总长61,内孔M10*16,螺杆M8*36.5,台阶φ16*16.5)","Bolt, Guide sprocket ","PIECE",1]
[null,7,"5103-222804-000","油封∮22*∮28*4",{"$f":"VLOOKUP(C100,'[1]Basic Information'!$C:$E,3,0)","v":"Oil Seal∮22*∮28*4"},"PIECE",2]
[null,8,"5013-10005-SC01","翻边衬套∮10.1*∮22*5",{"$f":"VLOOKUP(C101,'[1]Basic Information'!$C:$E,3,0)","v":"Bushing,Flange∮10.1*∮22*5"},"PIECE",2]
[null,9,"5018-18015-SC01","平垫∮18.1*∮27*1.5","Washer,Flat","PIECE",2]
[null,10,"5102-172420-BS0","滚针轴承∮17*∮24*20",{"$f":"VLOOKUP(C103,'[1]Basic Information'!$C:$E,3,0)","v":"Needle Bearing∮17*∮24*20"},"PIECE",2]
[null,11,"360008-T501-00001","U型摇架",{"$f":"VLOOKUP(C104,'[1]Basic Information'!$C:$E,3,0)","v":"U-shaped Rocker"},"PIECE",1]
[null,12,"910016-T501-00001","U型摇架轴套∮10*∮17*87.5",{"$f":"VLOOKUP(C105,'[1]Basic Information'!$C:$E,3,0)","v":"U-shaped Rocker Bushing ∮10*∮17*87.5"},"PIECE",1]
[null,13,"5001-10130-DK01","六角法兰面螺栓 M10*1.25*130",{"$f":"VLOOKUP(C106,'[1]Basic Information'!$C:$E,3,0)","v":"Bolt,Hex.Flange  M10*1.25*130"},"PIECE",1]
[null,14,"5008-10115-SC00","六角法兰面自锁螺母M10*1.25",{"$f":"VLOOKUP(C107,'[1]Basic Information'!$C:$E,3,0)","v":"Tapping Nut,Hex.Flange M10*1.25"},"PIECE",1]
[null,15,"5103-172603-000","油封∮17.5*∮26*3",{"$f":"VLOOKUP(C108,'[1]Basic Information'!$C:$E,3,0)","v":"Oil Seal∮17.5*∮26*3"},"PIECE",2]
[null,16,"360007-T501-00000","三角摇架",{"$f":"VLOOKUP(C109,'[1]Basic Information'!$C:$E,3,0)","v":"Triangle Rocker"},"PIECE",1]
[null,17,"910015-T501-00001","三角摇架轴套∮12*∮20*37",{"$f":"VLOOKUP(C110,'[1]Basic Information'!$C:$E,3,0)","v":"Triangle Rocker Bushing ∮12*∮20*37"},"PIECE",1]
["F-4 后减震器&摇架-2 Rear shock absorber & Cradle-2"]
["PHOTO","NO.","Part CODE","Chinese/English name and specification",null,"UNIT","QTY","PRICE  (excluding tax)"]
[null,18,"910015-T501-00003","三角摇架轴套∮14*∮19*10.6",{"$f":"VLOOKUP(C113,'[1]Basic Information'!$C:$E,3,0)","v":"Triangle Rocker Bushing∮14*∮19*10.2"},"PIECE",1]
[null,19,"5102-192613-BS0","滚针轴承∮19*∮26*13",{"$f":"VLOOKUP(C114,'[1]Basic Information'!$C:$E,3,0)","v":"Needle Bearing∮19*∮26*13"},"PIECE",1]
[null,20,"5007-10045-DK00","扁头螺栓M10*45",{"$f":"VLOOKUP(D115,'[1]Basic Information'!$D:$E,2,0)","v":"Gib-headed Bolt M10*45"},"PIECE",1]
[null,21,"5007-12085-DK00","扁头螺栓M12*85",{"$f":"VLOOKUP(D116,'[1]Basic Information'!$D:$E,2,0)","v":"Gib-headed Bolt M12×85"},"PIECE",1]
[null,22,"5008-12125-SC00","六角法兰面自锁螺母M12*1.25",{"$f":"VLOOKUP(C117,'[1]Basic Information'!$C:$E,3,0)","v":"Tapping Nut,Hex.Flange M12*1.25"},"PIECE",2]
[null,23,"5103-253204-000","油封∮25*∮32*4",{"$f":"VLOOKUP(C118,'[1]Basic Information'!$C:$E,3,0)","v":"Oil Seal∮25*∮32*4"},"PIECE",4]
[null,24,"5013-12005-SC00","翻边衬套∮12.1*∮25*5",{"$f":"VLOOKUP(D119,'[1]Basic Information'!$D:$E,2,0)","v":"Bushing,Flange∮12.1*∮25*5"},"PIECE",4]
[null,25,"5018-20115-SC00","平垫∮20.1*∮31*1.5",{"$f":"VLOOKUP(C120,'[1]Basic Information'!$C:$E,3,0)","v":"Washer,Flat ∮20.1*∮31*1.5"},"PIECE",4]
[null,26,"5102-202615-BS0","滚针轴承∮20*∮26*15",{"$f":"VLOOKUP(C121,'[1]Basic Information'!$C:$E,3,0)","v":"Needle Bearing ∮20*∮26*15"},"PIECE",4]
[null,27,"910015-T501-00000","三角摇架轴套∮12*∮20*61.5",{"$f":"VLOOKUP(C122,'[1]Basic Information'!$C:$E,3,0)","v":"Triangle Rocker Bushing∮12*∮20*61.5"},"PIECE",1]
[null,28,"5007-12105-DK00","扁头螺栓M12*105",{"$f":"VLOOKUP(D123,'[1]Basic Information'!$D:$E,2,0)","v":"Gib-headed Bolt M12*105"},"PIECE",1]
[null,29,"910017-T501-00001","翻边轴承套∮10*∮14*7.2",{"$f":"VLOOKUP(C124,'[1]Basic Information'!$C:$E,3,0)","v":"Bushing,Flange∮10*∮14*7.2"},"PIECE",2]
[null,30]
[null,31]
[null,32]
[null,33]
[null,34]
[null,35]
[null,36]
[null,37]
["F-5 前网轮 Front net wheel"]
["PHOTO","NO.","Part CODE","Chinese/English name and specification",null,"UNIT","QTY","PRICE  (excluding tax)"]
[null,1,"350027-T500-00000","前轮外胎",{"$f":"VLOOKUP(D135,'[1]Basic Information'!$D:$E,2,0)","v":"Front OuterTire"},"PIECE",1]
[null,2,"350026-T501-00000","前轮内胎(含气门嘴盖及锁紧螺母)","Inner tube of front wheel (including valve nozzle cover and locking nut)","PIECE",1]
[null,3,"352000-T500-00001","前网轮总成",{"$f":"VLOOKUP(D137,'[1]Basic Information'!$D:$E,2,0)","v":"Spoke WheelAssy, Front"},"PIECE",1]
[null,4,"350028-T501-00000","前轮垫带",{"$f":"VLOOKUP(C138,'[1]Basic Information'!$C:$E,3,0)","v":"Front Wheel Cushion"},"PIECE",1]
[null,5,"351700-T501-00000","前碟刹盘",{"$f":"VLOOKUP(C139,'[1]Basic Information'!$C:$E,3,0)","v":"Brake Disc (Front)"},"PIECE",1]
[null,6,"5021-06012-DK00","内六花六角法兰面螺栓M6*12",{"$f":"VLOOKUP(D140,'[1]Basic Information'!$D:$E,2,0)","v":"Bolt,Hex.Flange M6*12"},"PIECE",6]
[null,7,"350023-T500-00000","ABS齿圈-前",{"$f":"VLOOKUP(D141,[2]Sheet1!$D$1:$G$65536,4,0)","v":"ABS Gear Ring(Front)"},"PIECE",1]
[null,8,"5014-05008-BS00","内六角沉头螺钉M5*8","Screw,Inner Hex,Countersunk Head","PIECE",3]
[null,9.1,"410001-T501-00000","前轮轴(长轴,配KYB减震器,长度238)",{"$f":"VLOOKUP(C143,'[1]Basic Information'!$C:$E,3,0)","v":"Axle,Wheel(Front) (KYB Shock Absorber,length 238)"},"PIECE",1]
[null,9.2,"410001-T501-00001","前轮轴(短轴,配渝安减震器,长度229)",{"$f":"VLOOKUP(C144,'[1]Basic Information'!$C:$E,3,0)","v":"Axle,Wheel(Front) (Yu'an Shock Absorber,length229)"},"PIECE",1]
[null,10,"5010-16110-SC00","前轮轴螺母M16*1.5*11","Axle Nut, Front wheel ","PIECE",1]
[null,11,"5104-028015-000","O型圈∮28*1.5","O-ring","PIECE",1]
[null,12,"350041-T500-00000","前轮速传感器支架",{"$f":"VLOOKUP(D147,'[1]Basic Information'!$D:$E,2,0)","v":"Bracket, Front Wheel Speed Sensor "},"PIECE",1]
[null,13,"5103-273707-000","油封∮27*∮37*7",{"$f":"VLOOKUP(C148,'[1]Basic Information'!$C:$E,3,0)","v":"Oil Seal∮27*∮37*7"},"PIECE",2]
[null,14,"910012-T501-00002","前轮衬套-右∮20*∮27*13.5",{"$f":"VLOOKUP(C149,'[1]Basic Information'!$C:$E,3,0)","v":"Bushing,Front Wheel(Right) ∮20*∮27*13.5"},"PIECE",1]
[null,15,"5101-203709-BS0","轴承20*37*9",{"$f":"VLOOKUP(C150,'[1]Basic Information'!$C:$E,3,0)","v":"Bearing 20*37*9"},"PIECE",2]
[null,16,"910004-T501-00000","衬套∮20.3*∮27*71",{"$f":"VLOOKUP(C151,'[1]Basic Information'!$C:$E,3,0)","v":"Collar∮20.3*∮27*71"},"PIECE",1]
[null,17,"910001-T500-00000","前轮衬套-左",{"$f":"VLOOKUP(C152,'[1]Basic Information'!$C:$E,3,0)","v":"Bushing,Front Wheel(Left)"},"PIECE",1]
[null,18]
[null,19]
["F-6 后网轮 Rear net wheel"]
["PHOTO","NO.","Part CODE","Chinese/English name and specification",null,"UNIT","QTY","PRICE  (excluding tax)"]
[null,1,"350030-T500-00000","后轮外胎",{"$f":"VLOOKUP(D157,'[1]Basic Information'!$D:$E,2,0)","v":"Rear Wheel Outer Tire"},"PIECE",1]
[null,2,"350029-T501-00000","后轮内胎(含气门嘴盖及锁紧螺母)","Inner tube of rear wheel (including valve nozzle cover and locking nut)","PIECE",1]
[null,3,"352100-T500-00001","后网轮总成",{"$f":"VLOOKUP(D159,'[1]Basic Information'!$D:$E,2,0)","v":"Spoke WheelAssy, Rear "},"PIECE",1]
[null,4,"350031-T501-00000","后轮垫带",{"$f":"VLOOKUP(C160,'[1]Basic Information'!$C:$E,3,0)","v":"Rear Wheel Cushion"},"PIECE",1]
[null,5,"351800-T501-00000","后碟刹盘",{"$f":"VLOOKUP(C161,'[1]Basic Information'!$C:$E,3,0)","v":"Brake Disc (Rear)"},"PIECE",1]
[null,6,"5021-06016-DK01","内六花六角法兰面螺栓M6*12",{"$f":"VLOOKUP(D162,'[1]Basic Information'!$D:$E,2,0)","v":"Bolt,Hex.Flange M6*12"},"PIECE",4]
[null,7,"350023-T500-00000","ABS齿圈-前",{"$f":"VLOOKUP(D163,[2]Sheet1!$D$1:$G$65536,4,0)","v":"ABS Gear Ring(Front)"},"PIECE",1]
[null,8,"5014-05008-BS00","内六角沉头螺钉M5*8","Screw,Inner Hex,Countersunk Head","PIECE",3]
[null,9,"350038-T500-00000","后轮速传感器支架","Rear wheel speed sensor bracket","PIECE",1]
[null,10,"400006-T500-00000","线钩",{"$f":"VLOOKUP(D166,'[1]Basic Information'!$D:$E,2,0)","v":"wire hook"},"PIECE",1]
[null,11,"420008-R100-000","工字胶圈",{"$f":"VLOOKUP(C167,'[1]Basic Information'!$C:$E,3,0)","v":"Ring, Rubber I-Shaped ∮9*∮19.5*9"},"PIECE",1]
[null,12,"5001-06016-SC00","六角法兰面螺栓M6*16","Bolt,Hex.Flange","PIECE",2]
[null,13,"410003-T501-00000","后轮轴",{"$f":"VLOOKUP(C169,'[1]Basic Information'!$C:$E,3,0)","v":"Axle,Wheel(Rear)"},"PIECE",1]
[null,14,"910002-T500-00000","后轮衬套-左",{"$f":"VLOOKUP(C170,'[1]Basic Information'!$C:$E,3,0)","v":"Bushing,Rear Wheel(Left)"},"PIECE",1]
[null,15,"910003-T500-00000","后轮衬套-右",{"$f":"VLOOKUP(C171,'[1]Basic Information'!$C:$E,3,0)","v":"Bushing,Rear Wheel(Right)"},"PIECE",1]
[null,16,"5018-22520-SC00","平垫∮22.5*∮35*2",{"$f":"VLOOKUP(D172,'[1]Basic Information'!$D:$E,2,0)","v":"Washer,Flat∮22.5*∮35*2"},"PIECE",1]
[null,17,"5010-22125-SC00","后轮轴螺母",{"$f":"VLOOKUP(C173,'[1]Basic Information'!$C:$E,3,0)","v":"Nut,Wheel Axle(Rear) M22*1.5"},"PIECE",1]
[null,18,"5101-255215-BS0","轴承",{"$f":"VLOOKUP(C174,'[1]Basic Information'!$C:$E,3,0)","v":"Bearing 25*52*15"},"PIECE",2]
[null,19,"910004-T501-00001","衬套∮25.3*∮32*95",{"$f":"VLOOKUP(C175,'[1]Basic Information'!$C:$E,3,0)","v":"Collar∮25.3*∮32*95"},"PIECE",1]
[null,20,"5103-325207-000","油封∮32*∮52*7",{"$f":"VLOOKUP(C176,'[1]Basic Information'!$C:$E,3,0)","v":"Oil Seal∮32*∮52*7"},"PIECE",1]
["F-7 发动机下护板 Engine lower guard"]
["PHOTO","NO.","Part CODE","Chinese/English name and specification",null,"UNIT","QTY","PRICE  (excluding tax)"]
[null,1,"390097-T501-00000","油冷格栅",{"$f":"VLOOKUP(C179,'[1]Basic Information'!$C:$E,3,0)","v":"Oil Cooling Grille"},"PIECE",1]
[null,2,"5021-06013-DK00","内六花六角法兰面螺栓M6*13","Bolt,Hex.Flange","PIECE",5]
[null,3,"5021-05012-DK00","内六花六角法兰面螺栓M5*12",{"$f":"VLOOKUP(D181,'[1]Basic Information'!$D:$E,2,0)","v":"Bolt,Hex.Flange M5*12"},"PIECE",2]
[null,4,"5009-05070-DK00","螺纹夹板M5*1.0*7*14",{"$f":"VLOOKUP(C182,'[1]Basic Information'!$C:$E,3,0)","v":"Clip, Screw Thread M5"},"PIECE",2]
[null,5,"5009-06093-BS00","搭扣6×25×25",{"$f":"VLOOKUP(C183,'[1]Basic Information'!$C:$E,3,0)","v":"Buckle"},"PIECE",1]
[null,6,"390078-T501-00000","工具盒盖",{"$f":"VLOOKUP(C184,'[1]Basic Information'!$C:$E,3,0)","v":"Cover, Tool Box"},"PIECE",1]
[null,7,"5018-06520-BS00","平垫∮6.5*∮20*2",{"$f":"VLOOKUP(C185,'[1]Basic Information'!$C:$E,3,0)","v":"Washer,Flat∮6.5*∮20*2"},"PIECE",1]
[null,8,"5007-06016-HX00","1/4转快锁式螺栓",{"$f":"VLOOKUP(C186,'[1]Basic Information'!$C:$E,3,0)","v":"1/4 Quick-lock Bolt"},"PIECE",1]
[null,9,"5020-05405-BS00","挡圈∮5.4*∮12.5*0.5",{"$f":"VLOOKUP(C187,'[1]Basic Information'!$C:$E,3,0)","v":"Collar∮5.4*∮12.5*0.5"},"PIECE",1]
[null,10,"390029-T501-00000","发动机下护板",{"$f":"VLOOKUP(C188,'[1]Basic Information'!$C:$E,3,0)","v":"Protecting Plate, Engine"},"PIECE",1]
[null,11,"900005-T501-00000","耐磨贴",{"$f":"VLOOKUP(C189,'[1]Basic Information'!$C:$E,3,0)","v":"Wear-resisting Stick"},"PIECE",6]
[null,12]
[null,13]
[null,14]
[null,15]
[null,16]
[null,17]
[null,18]
[null,19]
[null,20]
["F-8 前油箱-左-1 Front tank - left-1"]
["PHOTO","NO.","Part CODE","Chinese/English name and specification",null,"UNIT","QTY","PRICE  (excluding tax)"]
[null,1,"5003-08020-SC00","内六角圆柱头螺钉",{"$f":"VLOOKUP(D201,[2]Sheet1!$D$1:$G$65536,4,0)","v":"Screw,Inner Hex.Column Head"},"PIECE",1]
[null,2,"910013-T501-00000","前油箱安装衬套",{"$f":"VLOOKUP(C202,'[1]Basic Information'!$C:$E,3,0)","v":"Front Fuel Tank Mounting Bushing"},"PIECE",3]
[null,3,"420008-T501-00001","工字胶圈∮29*∮19.5*25",{"$f":"VLOOKUP(C203,'[1]Basic Information'!$C:$E,3,0)","v":"Ring, Rubber I-Shaped ∮29*∮19.5*25"},"PIECE",2]
[null,4,"5021-05012-DK00","内六花六角法兰面螺栓M5*12",{"$f":"VLOOKUP(D204,'[1]Basic Information'!$D:$E,2,0)","v":"Bolt,Hex.Flange M5*12"},"PIECE",2]
[null,5,"5009-06093-BS00","搭扣6×25×25",{"$f":"VLOOKUP(C205,'[1]Basic Information'!$C:$E,3,0)","v":"Buckle"},"PIECE",1]
[null,6,"360045-T501-00000","油箱前护板支架",{"$f":"VLOOKUP(C206,'[1]Basic Information'!$C:$E,3,0)","v":"Fuel Tank Front Guard Bracket"},"PIECE",1]
[null,7,"311200-T501-00000","前油箱-左",{"$f":"VLOOKUP(D207,'[1]Basic Information'!$D:$E,2,0)","v":"Front Fuel Tank - Left"},"PIECE",1]
[null,8,"5003-08030-SC00","内六角圆柱头螺钉M8*30",{"$f":"VLOOKUP(D208,'[1]Basic Information'!$D:$E,2,0)","v":"Screw,Inner Hex.Column Head M8*30"},"PIECE",2]
[null,9,"5008-16030-SC00","六角螺母M16*1,厚3",{"$f":"VLOOKUP(C209,'[1]Basic Information'!$C:$E,3,0)","v":"Bolt,Hex M16*1,THK: 3"},"PIECE",2]
[null,10,"360047-T501-00000","前油箱安装螺母(台阶6)","Front oil tank mounting nut","PIECE",1]
[null,11,"360047-T501-00001","前油箱安装螺母(台阶11)","Front oil tank mounting nut","PIECE",1]
[null,12,"420008-T501-00002","工字胶圈∮29*∮19.5*29.5",{"$f":"VLOOKUP(C212,'[1]Basic Information'!$C:$E,3,0)","v":"Ring, Rubber I-Shaped∮29*∮19.5*29.5"},"PIECE",1]
[null,13,"5021-08010-DK00","内六花六角法兰面螺栓M8*10","Bolt,Hex.Flange","PIECE",1]
[null,14,"360046-T501-00000","前油箱支架",{"$f":"VLOOKUP(C214,'[1]Basic Information'!$C:$E,3,0)","v":"Front Fuel Tank Bracket"},"PIECE",1]
[null,15,"5027-08020-BS00","橡胶螺栓M8*20",{"$f":"VLOOKUP(C215,'[1]Basic Information'!$C:$E,3,0)","v":"Elastic Rubber,  Bolts   M8*20"},"PIECE",1]
[null,16,"5014-05010-BS00","内六角沉头螺钉M5*10",{"$f":"VLOOKUP(D216,'[1]Basic Information'!$D:$E,2,0)","v":"Screw,Inner Hex,Countersunk Head M5*10"},"PIECE",4]
[null,17,"310011-T501-00000","油管接头安装板",{"$f":"VLOOKUP(C217,'[1]Basic Information'!$C:$E,3,0)","v":"Fuel Pipe Union Mounting Plate"},"PIECE",2]
[null,18,"5104-012020-000","O型圈∮12*∮2",{"$f":"VLOOKUP(C218,'[1]Basic Information'!$C:$E,3,0)","v":"O-Ring ∮12*∮2"},"PIECE",2]
[null,19,"310006-T501-00001","前油箱盖",{"$f":"VLOOKUP(C219,'[1]Basic Information'!$C:$E,3,0)","v":" Fuel Tank Cover, Front"},"PIECE",1]
[null,20,"420061-T501-00000","油箱盖密封圈",{"$f":"VLOOKUP(C220,'[1]Basic Information'!$C:$E,3,0)","v":"Cover Seal Ring, Fuel Tank "},"PIECE",1]
["F-8 前油箱-左-2 Front tank - left-2"]
["PHOTO","NO.","Part CODE","Chinese/English name and specification",null,"UNIT","QTY","PRICE  (excluding tax)"]
[null,21,"5005-05012-HX00","十字大盘头螺钉M5*12",{"$f":"VLOOKUP(C223,'[1]Basic Information'!$C:$E,3,0)","v":"Screw, Cross-Shaped,Cup Head M5*12"},"PIECE",2]
[null,22,"360036-T501-00000","燃油滤清器支架",{"$f":"VLOOKUP(C224,'[1]Basic Information'!$C:$E,3,0)","v":"Fuel Filter Bracket"},"PIECE",1]
[null,23,"421800-T500-00001","油箱通气管总成",{"$f":"VLOOKUP(D225,'[1]Basic Information'!$D:$E,2,0)","v":"Fuel Tank Vent Pipe Assembly"},"PIECE",1]
[null,24,"310402-T500-00000","油位传感器",{"$f":"VLOOKUP(C226,'[1]Basic Information'!$C:$E,3,0)","v":"Oil Level Sensor"},"PIECE",1]
[null,25]
[null,26]
[null,27]
[null,28]
[null,29]
[null,30]
[null,31]
[null,32]
[null,33]
[null,34]
[null,35]
[null,36]
[null,37]
[null,38]
[null,39]
[null,40]
["F-9 前油箱-右 Front tank - right"]
["PHOTO","NO.","Part CODE","Chinese/English name and specification",null,"UNIT","QTY","PRICE  (excluding tax)"]
[null,1,"5003-08020-SC00","内六角圆柱头螺钉M8*20","Screw,Inner Hex.Column Head","PIECE",1]
[null,2,"910013-T501-00000","前油箱安装衬套",{"$f":"VLOOKUP(C246,'[1]Basic Information'!$C:$E,3,0)","v":"Front Fuel Tank Mounting Bushing"},"PIECE",3]
[null,3,"420008-T501-00001","工字胶圈∮29*∮19.5*25",{"$f":"VLOOKUP(C247,'[1]Basic Information'!$C:$E,3,0)","v":"Ring, Rubber I-Shaped ∮29*∮19.5*25"},"PIECE",2]
[null,4,"5021-05012-DK00","内六花六角法兰面螺栓M5*12",{"$f":"VLOOKUP(D248,'[1]Basic Information'!$D:$E,2,0)","v":"Bolt,Hex.Flange M5*12"},"PIECE",2]
[null,5,"5009-06093-BS00","搭扣6×25×25",{"$f":"VLOOKUP(C249,'[1]Basic Information'!$C:$E,3,0)","v":"Buckle"},"PIECE",1]
[null,6,"360045-T501-00000","油箱前护板支架",{"$f":"VLOOKUP(C250,'[1]Basic Information'!$C:$E,3,0)","v":"Fuel Tank Front Guard Bracket"},"PIECE",1]
[null,7,"311300-T501-00000","前油箱-右",{"$f":"VLOOKUP(C251,'[1]Basic Information'!$C:$E,3,0)","v":"Front Fuel Tank-Rght"},"PIECE",1]
[null,8,"5003-08030-SC00","内六角圆柱头螺钉M8*30",{"$f":"VLOOKUP(D252,'[1]Basic Information'!$D:$E,2,0)","v":"Screw,Inner Hex.Column Head M8*30"},"PIECE",2]
[null,9,"5008-16030-SC00","六角螺母M16*1,厚3",{"$f":"VLOOKUP(C253,'[1]Basic Information'!$C:$E,3,0)","v":"Bolt,Hex M16*1,THK: 3"},"PIECE",2]
[null,10,"360047-T501-00000","前油箱安装螺母(台阶6)","Front oil tank mounting nut","PIECE",1]
[null,11,"360047-T501-00001","前油箱安装螺母(台阶11)","Front oil tank mounting nut","PIECE",1]
[null,12,"5027-08020-BS00","橡胶螺栓M8*20",{"$f":"VLOOKUP(C256,'[1]Basic Information'!$C:$E,3,0)","v":"Elastic Rubber,  Bolts   M8*20"},"PIECE",1]
[null,13,"360046-T501-00000","前油箱支架",{"$f":"VLOOKUP(C257,'[1]Basic Information'!$C:$E,3,0)","v":"Front Fuel Tank Bracket"},"PIECE",1]
[null,14,"5021-08010-DK00","内六花六角法兰面螺栓M8*10","Bolt,Hex.Flange","PIECE",1]
[null,15,"420008-T501-00002","工字胶圈∮29*∮19.5*29.5",{"$f":"VLOOKUP(C259,'[1]Basic Information'!$C:$E,3,0)","v":"Ring, Rubber I-Shaped∮29*∮19.5*29.5"},"PIECE",1]
[null,16,"5014-05010-BS00","内六角沉头螺钉M5*10",{"$f":"VLOOKUP(D260,'[1]Basic Information'!$D:$E,2,0)","v":"Screw,Inner Hex,Countersunk Head M5*10"},"PIECE",2]
[null,17,"310011-T501-00000","油管接头安装板",{"$f":"VLOOKUP(C261,'[1]Basic Information'!$C:$E,3,0)","v":"Fuel Pipe Union Mounting Plate"},"PIECE",1]
[null,18,"5104-012020-000","O型圈∮12*∮2",{"$f":"VLOOKUP(C262,'[1]Basic Information'!$C:$E,3,0)","v":"O-Ring ∮12*∮2"},"PIECE",1]
[null,19,"900005-T501-00000","耐磨贴",{"$f":"VLOOKUP(C263,'[1]Basic Information'!$C:$E,3,0)","v":"Wear-resisting Stick"},"PIECE",1]
[null,20,"420061-T501-00000","油箱盖密封圈",{"$f":"VLOOKUP(C264,'[1]Basic Information'!$C:$E,3,0)","v":"Cover Seal Ring, Fuel Tank "},"PIECE",1]
["F-9 前油箱-右-1 Front tank - right"]
["PHOTO","NO.","Part CODE","Chinese/English name and specification",null,"UNIT","QTY","PRICE  (excluding tax)"]
[null,21,"310006-T501-00001","前油箱盖",{"$f":"VLOOKUP(C267,'[1]Basic Information'!$C:$E,3,0)","v":" Fuel Tank Cover, Front"},"PIECE",1]
[null,22,"400006-R100-000","线钩",{"$f":"VLOOKUP(C268,'[1]Basic Information'!$C:$E,3,0)","v":"wire hook"},"PIECE",1]
[null,23]
[null,24]
[null,25]
[null,26]
[null,27]
[null,28]
[null,29]
[null,30]
[null,31]
[null,32]
[null,33]
[null,34]
[null,35]
[null,36]
[null,37]
[null,38]
[null,39]
[null,40]
["F-10 后油箱-1 Rear oil tank-1"]
["PHOTO","NO.","Part CODE","Chinese/English name and specification",null,"UNIT","QTY","PRICE  (excluding tax)"]
[null,1,"5007-08011-BS00","后油箱安装螺栓M8*11,台阶高25","Rear tank mounting bolts M8*11, step height 25","PIECE",4]
[null,2,"420049-T501-00000","后油箱支撑胶",{"$f":"VLOOKUP(C290,'[1]Basic Information'!$C:$E,3,0)","v":"Rear Fuel Tank Support Rubber"},"PIECE",4]
[null,3,"310007-T501-00001","后油箱盖",{"$f":"VLOOKUP(C291,'[1]Basic Information'!$C:$E,3,0)","v":"Cover, Rear Fuel Tank"},"PIECE",1]
[null,4,"420061-T501-00000","油箱盖密封圈",{"$f":"VLOOKUP(C292,'[1]Basic Information'!$C:$E,3,0)","v":"Cover Seal Ring, Fuel Tank "},"PIECE",1]
[null,5,"311400-T501-00000","后油箱",{"$f":"VLOOKUP(C293,'[1]Basic Information'!$C:$E,3,0)","v":"Rear Fuel Tank"},"PIECE",1]
[null,6,"310008-T501-00000","后油箱通气管接头",{"$f":"VLOOKUP(C294,'[1]Basic Information'!$C:$E,3,0)","v":"Rear Fuel Tank Vent Pipe Connector"},"PIECE",1]
[null,7,"5104-005020-000","O型圈∮5*∮2",{"$f":"VLOOKUP(C295,'[1]Basic Information'!$C:$E,3,0)","v":"O-Ring∮5*∮2"},"PIECE",1]
[null,8,"420048-T501-00000","侧支架挂钩",{"$f":"VLOOKUP(C296,'[1]Basic Information'!$C:$E,3,0)","v":"Side Stand Hook"},"PIECE",1]
[null,9,"360048-T501-00000","侧支架挂钩支架",{"$f":"VLOOKUP(C297,'[1]Basic Information'!$C:$E,3,0)","v":"Side Stand Hook Bracket"},"PIECE",1]
[null,10,"5021-05012-DK00","内六花六角法兰面螺栓M5*12",{"$f":"VLOOKUP(D298,'[1]Basic Information'!$D:$E,2,0)","v":"Bolt,Hex.Flange M5*12"},"PIECE",2]
[null,11,"5004-06012-BS01","内六角台阶螺钉M6*12,台阶8.5*3.5",{"$f":"VLOOKUP(D299,'[1]Basic Information'!$D:$E,2,0)","v":"Stepping Screw,Inner Hex. M6*12, Stepping 8.5*3.5"},"PIECE",2]
[null,12,"390083-T501-00000","后轮挡水皮",{"$f":"VLOOKUP(C300,'[1]Basic Information'!$C:$E,3,0)","v":"Rear wheel water barrier leather"},"PIECE",1]
[null,13,"390082-T501-00000","后油箱保护罩",{"$f":"VLOOKUP(C301,'[1]Basic Information'!$C:$E,3,0)","v":"Rear Fuel Tank Protection Cover"},"PIECE",1]
[null,14,"5014-06012-BS00","内六角沉头螺钉M6*12",{"$f":"VLOOKUP(D302,'[1]Basic Information'!$D:$E,2,0)","v":"Screw,Inner Hex,Countersunk Head M6*12"},"PIECE",5]
[null,15,"360041-T501-00000","消声器安装支架",{"$f":"VLOOKUP(C303,'[1]Basic Information'!$C:$E,3,0)","v":"Muffler mounting bracket"},"PIECE",1]
[null,16,"910011-R100-000","衬管∮8*∮12.5*29",{"$f":"VLOOKUP(C304,'[1]Basic Information'!$C:$E,3,0)","v":"Sleeve∮8*∮12.5*29"},"PIECE",1]
[null,17,"371001-R201-000","后脚蹬安装工字胶∮12*∮23.5*30",{"$f":"VLOOKUP(C305,'[1]Basic Information'!$C:$E,3,0)","v":"I-Shaped Installation Rubber,  Rear Foot Pedal   ∮12*∮23.5*30"},"PIECE",1]
[null,18,"5021-06013-DK00","内六花六角法兰面螺栓M6*13","Bolt,Hex.Flange","PIECE",{"$f":"4+4","v":8}]
[null,19,"5014-05010-BS00","内六角沉头螺钉M5*10",{"$f":"VLOOKUP(D307,'[1]Basic Information'!$D:$E,2,0)","v":"Screw,Inner Hex,Countersunk Head M5*10"},"PIECE",2]
[null,20,"5104-012020-000","O型圈∮12*∮2",{"$f":"VLOOKUP(C308,'[1]Basic Information'!$C:$E,3,0)","v":"O-Ring ∮12*∮2"},"PIECE",1]
["F-10 后油箱-2 Rear oil tank-2"]
["PHOTO","NO.","Part CODE","Chinese/English name and specification",null,"UNIT","QTY","PRICE  (excluding tax)"]
[null,21,"310011-T501-00000","油管接头安装板",{"$f":"VLOOKUP(C311,'[1]Basic Information'!$C:$E,3,0)","v":"Fuel Pipe Union Mounting Plate"},"PIECE",1]
[null,22,"360049-T501-00000","后油箱下支架",{"$f":"VLOOKUP(C312,'[1]Basic Information'!$C:$E,3,0)","v":"Lower Bracket, Rear Fuel Tank"},"PIECE",2]
[null,23,"360051-T501-00000","后油箱加强支架-右",{"$f":"VLOOKUP(C313,'[1]Basic Information'!$C:$E,3,0)","v":"Reinforcement  Support Right, Rear Fuel Tank"},"PIECE",1]
[null,24,"5021-06013-DK00","内六花六角法兰面螺栓",{"$f":"VLOOKUP(D314,[2]Sheet1!$D$1:$G$65536,4,0)","v":"Bolt,Hex.Flange"},"PIECE",8]
[null,25,"360050-T501-00000","后油箱加强支架-左",{"$f":"VLOOKUP(C315,'[1]Basic Information'!$C:$E,3,0)","v":"Reinforcement  Support Left, Rear Fuel Tank"},"PIECE",1]
[null,26,"311700-T501-00000","单向透气阀",{"$f":"VLOOKUP(C316,'[1]Basic Information'!$C:$E,3,0)","v":"One-way Went Valve"},"PIECE",1]
[null,27]
[null,28]
[null,29]
[null,30]
[null,31]
[null,32]
[null,33]
[null,34]
[null,35]
[null,36]
[null,37]
[null,38]
[null,39]
[null,40]
["F-11 电器元件-1 Electrical components-1"]
["PHOTO","NO.","Part CODE","Chinese/English name and specification",null,"UNIT","QTY","PRICE  (excluding tax)"]
[null,1,"420900-T501-00001","电瓶绑带",{"$f":"VLOOKUP(D333,'[1]Basic Information'!$D:$E,2,0)","v":"Battery straps"},"PIECE",1]
[null,2,"331400-T501-00001","电瓶",{"$f":"VLOOKUP(C334,'[1]Basic Information'!$C:$E,3,0)","v":"Battery"},"PIECE",1]
[null,3,"332600-T501-00000","点火线圈",{"$f":"VLOOKUP(C335,'[1]Basic Information'!$C:$E,3,0)","v":"Ignition Coil"},"PIECE",1]
[null,4,"380600-T501-00000","座垫锁拉索",{"$f":"VLOOKUP(C336,'[1]Basic Information'!$C:$E,3,0)","v":"Seat Lock Cable"},"PIECE",1]
[null,5,"5004-06020-BS01","内六角花型盘头螺钉M6*20",{"$f":"VLOOKUP(C337,'[1]Basic Information'!$C:$E,3,0)","v":"Screw,Inner Hex.Flat Head M6*20"},"PIECE",4]
[null,6,"420008-R100-000","工字胶圈∮9*∮19.5*9",{"$f":"VLOOKUP(C338,'[1]Basic Information'!$C:$E,3,0)","v":"Ring, Rubber I-Shaped ∮9*∮19.5*9"},"PIECE",4]
[null,7,"330100-R100-00001","启动继电器",{"$f":"VLOOKUP(C339,'[1]Basic Information'!$C:$E,3,0)","v":"Starting Relay"},"PIECE",1]
[null,8,"5006-04013-HX00","自攻钉M4.2X13",{"$f":"VLOOKUP(C340,'[1]Basic Information'!$C:$E,3,0)","v":"Tapping Screw M4.2X13"},"PIECE",2]
[null,9,"331300-R100-00001","USB充电器",{"$f":"VLOOKUP(D341,[2]Sheet1!$D$1:$G$65536,4,0)","v":"USB Charger"},"PIECE",1]
[null,10,"330600-T501-00001","喇叭",{"$f":"VLOOKUP(C342,'[1]Basic Information'!$C:$E,3,0)","v":"Horn"},"PIECE",1]
[null,11,"5021-06012-DK00","内六花六角法兰面螺栓M6*12",{"$f":"VLOOKUP(D343,'[1]Basic Information'!$D:$E,2,0)","v":"Bolt,Hex.Flange M6*12"},"PIECE",1]
[null,12,"331600-T500-00000","继电器",{"$f":"VLOOKUP(D344,'[1]Basic Information'!$D:$E,2,0)","v":"Relay"},"PIECE",1]
[null,13,"350004-R100-000","双线卡",{"$f":"VLOOKUP(D345,[2]Sheet1!$D$1:$G$65536,4,0)","v":"Clip, dual wires"},"PIECE",7]
[null,14,"5021-06012-DK00","内六花六角法兰面螺栓M6*12",{"$f":"VLOOKUP(D346,'[1]Basic Information'!$D:$E,2,0)","v":"Bolt,Hex.Flange M6*12"},"PIECE",1]
[null,15,"351500-T500-00000","前轮速传感器(前轮用）","Front wheel speed sensor","PIECE",1]
[null,16,"360900-T501-00000","电器安装支架总成",{"$f":"VLOOKUP(C348,'[1]Basic Information'!$C:$E,3,0)","v":"Electrical components Mounting Bracket Assembly"},"PIECE",1]
[null,17,"5009-05070-DK00","螺纹夹板M5*1.0*7*14",{"$f":"VLOOKUP(C349,'[1]Basic Information'!$C:$E,3,0)","v":"Clip, Screw Thread M5"},"PIECE",2]
[null,18,"332000-R201-000","侧倾传感器",{"$f":"VLOOKUP(C350,'[1]Basic Information'!$C:$E,3,0)","v":"Sensor,Toppling"},"PIECE",1]
[null,19,"5018-05008-SC00","平垫φ5",{"$f":"VLOOKUP(C351,'[1]Basic Information'!$C:$E,3,0)","v":"Washer,Flat φ5"},"PIECE",2]
[null,20,"5005-05025-SC00","十字盘头螺钉M5*25","Screw, Cross-Shaped,Cup Head","PIECE",2]
["F-11 电器元件-2 Electrical components-2"]
["PHOTO","NO.","Part CODE","Chinese/English name and specification",null,"UNIT","QTY","PRICE  (excluding tax)"]
[null,21,"5004-06016-BS00","内六角大盘头螺钉M6*16","Screw,Inner Hex.Flat Head","PIECE",1]
[null,22,"370500-R100-000","侧支架熄火开关",{"$f":"VLOOKUP(D356,[2]Sheet1!$D$1:$G$65536,4,0)","v":"Engine Cutoff Switch,Side Stand"},"PIECE",1]
[null,23,"5021-06025-DK00","内六花六角法兰面螺栓M6*25","Bolt,Hex.Flange","PIECE",2]
[null,24,"5009-06080-DK00","螺纹夹板M6*1.0*8*16",{"$f":"VLOOKUP(C358,'[1]Basic Information'!$C:$E,3,0)","v":"Clip, Screw Thread M6"},"PIECE",2]
[null,25,"330200-T501-00000","调压整流器",{"$f":"VLOOKUP(D359,'[1]Basic Information'!$D:$E,2,0)","v":"Rectifier & Regulator Assy"},"PIECE",1]
[null,26,"310200-T501-00000","ECU",{"$f":"VLOOKUP(C360,'[1]Basic Information'!$C:$E,3,0)","v":"ECU"},"PIECE",1]
[null,27,"5005-05012-HX00","十字大盘头螺钉M5*12",{"$f":"VLOOKUP(C361,'[1]Basic Information'!$C:$E,3,0)","v":"Screw, Cross-Shaped,Cup Head M5*12"},"PIECE",2]
[null,28,"5003-08020-SC00","内六角圆柱头螺钉M8*20","Screw,Inner Hex.Flat Head","PIECE",2]
[null,29,"331800-T500-00000","全车套锁总成",{"$f":"VLOOKUP(D363,[2]Sheet1!$D$1:$G$65536,4,0)","v":"Lock Assy"},"PIECE",1]
[null,30,"5014-06020-BS00","内六角沉头螺钉M6*20",{"$f":"VLOOKUP(D364,'[1]Basic Information'!$D:$E,2,0)","v":"Screw,Inner Hex,Countersunk Head M6*20"},"PIECE",2]
[null,31,"5021-06016-DK01","内六花六角法兰面螺栓M6*16","Bolt,Hex.Flange","PIECE",1]
[null,32,"330700-R102-000","闪光器",{"$f":"VLOOKUP(D366,[2]Sheet1!$D$1:$G$65536,4,0)","v":"Flasher"},"PIECE",1]
[null,33,"351300-T500-00000","ABS总成",{"$f":"VLOOKUP(D367,[2]Sheet1!$D$1:$G$65536,4,0)","v":"ABS Assy"},"PIECE",1]
[null,34,"351500-R110-00000","前轮速传感器(后轮用）","Front wheel speed sensor","PIECE",1]
[null,35,"350700-T500-00000","后制动开关",{"$f":"VLOOKUP(D369,'[1]Basic Information'!$D:$E,2,0)","v":"Rear brake switch"},"PIECE",2]
[null,36,"331600-R110-00000","继电器",{"$f":"VLOOKUP(C370,'[1]Basic Information'!$C:$E,3,0)","v":"Relay"},"PIECE",1]
[null,37]
[null,38]
[null,39]
[null,40]
["F-12 电器元件-3 Electrical components-3"]
["PHOTO","NO.","Part CODE","Chinese/English name and specification",null,"UNIT","QTY","PRICE  (excluding tax)"]
[null,1,"380500-T501-00001","离合拉索",{"$f":"VLOOKUP(C377,'[1]Basic Information'!$C:$E,3,0)","v":"Clutch Cable"},"PIECE",1]
[null,2,"331700-T500-00002","主电缆(配TFT仪表，不带大灯开关)","Main cable (with TFT meter, without headlight switch)","PIECE",1]
[null,3,"311900-T500-00000","油门拉索总成",{"$f":"VLOOKUP(D379,'[1]Basic Information'!$D:$E,2,0)","v":"Throttle Cable Assembly"},"PIECE",1]
[null,4]
[null,5]
[null,6]
[null,7]
[null,8]
[null,9]
[null,10]
[null,11]
[null,12]
[null,13]
[null,14]
[null,15]
[null,16]
[null,17]
[null,18]
[null,19]
[null,20]
["F-13 碳罐 Carbon canister"]
["PHOTO","NO.","Part CODE","Chinese/English name and specification",null,"UNIT","QTY","PRICE  (excluding tax)"]
[null,1,"420300-T500-00000","碳罐连接管2(直管4*8*617)","Connecting pipe 2,Carbon Canister (straight pipe 4*8*617)","PIECE",1]
[null,2,"320400-R100-000","碳罐",{"$f":"VLOOKUP(D400,[2]Sheet1!$D$1:$G$65536,4,0)","v":"Carbon Canister"},"PIECE",1]
[null,3,"420400-T500-00002","碳罐连接管3",{"$f":"VLOOKUP(D401,[2]Sheet1!$D$1:$G$65536,4,0)","v":"Connecting pipe 3,Carbon Canister"},"PIECE",1]
[null,4,"330500-R100-000","倾倒阀",{"$f":"VLOOKUP(D402,[2]Sheet1!$D$1:$G$65536,4,0)","v":"Toppling Valve"},"PIECE",1]
[null,5]
[null,6]
[null,7]
[null,8]
[null,9]
[null,10]
[null,11]
[null,12]
[null,13]
[null,14]
[null,15]
[null,16]
[null,17]
[null,18]
[null,19]
[null,20]
["F-14 前挡泥板 Front fender"]
["PHOTO","NO.","Part CODE","Chinese/English name and specification",null,"UNIT","QTY","PRICE  (excluding tax)"]
[null,1,"5013-06006-BS00","翻边衬套∮6*∮9*∮6",{"$f":"VLOOKUP(C421,'[1]Basic Information'!$C:$E,3,0)","v":"Bushing,Flange Φ6xΦ9x6"},"PIECE",4]
[null,2,"390015-T501-00000","前挡泥板",{"$f":"VLOOKUP(C422,'[1]Basic Information'!$C:$E,3,0)","v":"Front Fender"},"PIECE",1]
[null,3,"5018-06015-SC00","平垫∮6.3*∮18*1.5","Washer,Flat","PIECE",4]
[null,4,"5021-06020-DK00","内六花六角法兰面螺栓M6*20","Bolt,Hex.Flange","PIECE",4]
[null,5]
[null,6]
[null,7]
[null,8]
[null,9]
[null,10]
[null,11]
[null,12]
[null,13]
[null,14]
[null,15]
[null,16]
[null,17]
[null,18]
[null,19]
[null,20]
["F-15 节气门"]
["PHOTO","NO.","Part CODE","Chinese/English name and specification",null,"UNIT","QTY","PRICE  (excluding tax)"]
[null,1,"5021-06020-DK00","内六花六角法兰面螺栓M6*20","Bolt,Hex.Flange","PIECE",1]
[null,2,"310012-T501-00000","喷油器帽",{"$f":"VLOOKUP(C444,'[1]Basic Information'!$C:$E,3,0)","v":"Fuel Injector Cap"},"PIECE",1]
[null,3,"310101-T501-00000","喷油器",{"$f":"VLOOKUP(C445,'[1]Basic Information'!$C:$E,3,0)","v":"Fuel Injector "},"PIECE",1]
[null,4,"310005-P200-00000","喷油器卡夹",{"$f":"VLOOKUP(C446,'[1]Basic Information'!$C:$E,3,0)","v":"Fuel Injector Clamp"},"PIECE",1]
[null,5,"310100-T501-00000","节气门总成",{"$f":"VLOOKUP(C447,'[1]Basic Information'!$C:$E,3,0)","v":"Throttle Body Assy"},"PIECE",1]
[null,6,"320500-T501-00000","进气管总成",{"$f":"VLOOKUP(C448,'[1]Basic Information'!$C:$E,3,0)","v":"Intake Pipe Assy"},"PIECE",1]
[null,7]
[null,8]
[null,9]
[null,10]
[null,11]
[null,12]
[null,13]
[null,14]
[null,15]
[null,16]
[null,17]
[null,18]
[null,19]
[null,20]
["F-16 燃油蒸发系统-1 Fuel evaporation system"]
["PHOTO","NO.","Part CODE","Chinese/English name and specification",null,"UNIT","QTY","PRICE  (excluding tax)"]
[null,1,"350100-R100-000","快速接头",{"$f":"VLOOKUP(C465,'[1]Basic Information'!$C:$E,3,0)","v":"Quick Coupling"},"PIECE",2]
[null,2,"5011-01570-BS00","单耳无极卡箍",{"$f":"VLOOKUP(C466,'[1]Basic Information'!$C:$E,3,0)","v":"Clip"},"PIECE",2]
[null,3,"420054-T501-00000","燃油管6",{"$f":"VLOOKUP(C467,'[1]Basic Information'!$C:$E,3,0)","v":"Fuel Pipe 6"},"PIECE",1]
[null,4,"5011-01400-BS00","单耳无极卡箍",{"$f":"VLOOKUP(D468,'[1]Basic Information'!$D:$E,2,0)","v":"Clip"},"PIECE",2]
[null,5,"310500-R100-000","燃油滤清器",{"$f":"VLOOKUP(C469,'[1]Basic Information'!$C:$E,3,0)","v":"Fuel Filter"},"PIECE",1]
[null,6,"420046-P200-00000","燃油滤清器胶套",{"$f":"VLOOKUP(C470,'[1]Basic Information'!$C:$E,3,0)","v":"Fuel Filter Sleeve"},"PIECE",1]
[null,7,"420053-T501-00000","燃油管5",{"$f":"VLOOKUP(C471,'[1]Basic Information'!$C:$E,3,0)","v":"Fuel Pipe 5"},"PIECE",1]
[null,8,"310400-T501-00000","燃油泵",{"$f":"VLOOKUP(C472,'[1]Basic Information'!$C:$E,3,0)","v":"Fuel Pump"},"PIECE",1]
[null,9,"5005-05020-SC00","十字盘头螺钉M5*20",{"$f":"VLOOKUP(C473,'[1]Basic Information'!$C:$E,3,0)","v":"Screw,Inner Hex.Flat Head M5*20"},"PIECE",4]
[null,10]
[null,11]
[null,12]
[null,13]
[null,14]
[null,15]
[null,16]
[null,17]
[null,18]
[null,19]
[null,20]
["F-17 燃油蒸发系统-1 Fuel evaporation system-1"]
["PHOTO","NO.","Part CODE","Chinese/English name and specification",null,"UNIT","QTY","PRICE  (excluding tax)"]
[null,1,"350002-R100-000","铜垫圈∮10*∮15*1.5",{"$f":"VLOOKUP(C487,'[1]Basic Information'!$C:$E,3,0)","v":"Copper Washer ∮10*∮15*1.5"},"PIECE",6]
[null,2,"350001-T501-00003","过油螺栓M10*1*20",{"$f":"VLOOKUP(D488,'[1]Basic Information'!$D:$E,2,0)","v":"Oil Bolt M10*1.0*20"},"PIECE",3]
[null,3,"5011-01330-BS00","单耳无极卡箍",{"$f":"VLOOKUP(D489,'[1]Basic Information'!$D:$E,2,0)","v":"Clip"},"PIECE",10]
[null,4,"420001-T501-00000","燃油管1",{"$f":"VLOOKUP(C490,'[1]Basic Information'!$C:$E,3,0)","v":"Fuel Pipe 1"},"PIECE",1]
[null,5,"311000-T501-00000","快速插头公头",{"$f":"VLOOKUP(C491,'[1]Basic Information'!$C:$E,3,0)","v":"Quick Plug Male Head"},"PIECE",2]
[null,6,"311100-T501-00000","快速插头母头",{"$f":"VLOOKUP(C492,'[1]Basic Information'!$C:$E,3,0)","v":"Quick Plug Female Head"},"PIECE",2]
[null,7,"420002-T501-00000","燃油管2",{"$f":"VLOOKUP(C493,'[1]Basic Information'!$C:$E,3,0)","v":"Fuel Pipe 2"},"PIECE",2]
[null,8,"310010-T501-00000","球形油管接头",{"$f":"VLOOKUP(C494,'[1]Basic Information'!$C:$E,3,0)","v":"Spherical Tubing Joint"},"PIECE",4]
[null,9,"311800-T501-00000","单向阀",{"$f":"VLOOKUP(C495,'[1]Basic Information'!$C:$E,3,0)","v":"One-way Valve"},"PIECE",1]
[null,10,"420051-T501-00000","燃油管3",{"$f":"VLOOKUP(C496,'[1]Basic Information'!$C:$E,3,0)","v":"Fuel Pipe  3"},"PIECE",1]
[null,11,"420052-T501-00000","燃油管4",{"$f":"VLOOKUP(C497,'[1]Basic Information'!$C:$E,3,0)","v":"Fuel Pipe  4"},"PIECE",1]
[null,12]
[null,13]
[null,14]
[null,15]
[null,16]
[null,17]
[null,18]
[null,19]
[null,20]
["F-18 大灯支架 Headlight bracket"]
["PHOTO","NO.","Part CODE","Chinese/English name and specification",null,"UNIT","QTY","PRICE  (excluding tax)"]
[null,1,"5003-05012-SC00","内六角圆柱头螺钉",{"$f":"VLOOKUP(D509,[2]Sheet1!$D$1:$G$65536,4,0)","v":"Screw,Inner Hex.Column Head"},"PIECE",4]
[null,2,"360022-R201-000","大灯支架压板",{"$f":"VLOOKUP(C510,'[1]Basic Information'!$C:$E,3,0)","v":"Press-plate,Headlight Bracket"},"PIECE",2]
[null,3,"360014-T501-00000","大灯支架",{"$f":"VLOOKUP(C511,'[1]Basic Information'!$C:$E,3,0)","v":"Bracket, Headlight"},"PIECE",1]
[null,4,"420036-R201-000","大灯支架胶套",{"$f":"VLOOKUP(C512,'[1]Basic Information'!$C:$E,3,0)","v":"Rubber,Headlight Bracket ∮8*∮11/∮13*12.8"},"PIECE",2]
[null,5,"5007-06021-HX00","1/4转快锁式螺栓",{"$f":"VLOOKUP(C513,'[1]Basic Information'!$C:$E,3,0)","v":"1/4Turn fast locking bolt"},"PIECE",4]
[null,6,"5012-07024-FH00","弹出弹簧∮7.63*∮11.43*24.13",{"$f":"VLOOKUP(C514,'[1]Basic Information'!$C:$E,3,0)","v":"Pop-up spring ∮7.63*∮11.43*24.13"},"PIECE",4]
[null,7,"5018-07035-BS00","杯形垫圈∮7*∮24*3.5",{"$f":"VLOOKUP(C515,'[1]Basic Information'!$C:$E,3,0)","v":"cup washer ∮7*∮24*3.5"},"PIECE",4]
[null,8,"5018-07035-BS00","挡圈∮5.4*∮12.5*0.5",{"$f":"VLOOKUP(C516,'[1]Basic Information'!$C:$E,3,0)","v":"cup washer ∮7*∮24*3.5"},"PIECE",4]
[null,9,"5009-06093-BS00","搭扣M6*9.3,宽25长25",{"$f":"VLOOKUP(C517,'[1]Basic Information'!$C:$E,3,0)","v":"Buckle"},"PIECE",4]
[null,10,"5021-06013-DK00","内六花六角法兰面螺栓M6*13","Bolt,Hex.Flange","PIECE",3]
[null,11,"5027-06012-BS00","橡胶螺栓M6*12",{"$f":"VLOOKUP(C519,'[1]Basic Information'!$C:$E,3,0)","v":"Rubber Bolt M6*12"},"PIECE",3]
[null,12,"5007-06040-BS00","大灯调节螺钉M6*40","Headlight adjustment screw","PIECE",2]
[null,13,"5009-06080-DK00","螺纹夹板M6*1.0*8*16",{"$f":"VLOOKUP(C521,'[1]Basic Information'!$C:$E,3,0)","v":"Clip, Screw Thread M6"},"PIECE",2]
[null,14,"5012-01036-SC00","大灯调节弹簧∮1.4*∮8.6*36",{"$f":"VLOOKUP(C522,'[1]Basic Information'!$C:$E,3,0)","v":"Adjusting Spring,Headlight ∮1.4*∮8.6*36"},"PIECE",2]
[null,15,"5015-03020-SC00","开口销R3*20",{"$f":"VLOOKUP(C523,'[1]Basic Information'!$C:$E,3,0)","v":"Pin,Split ∮0.9"},"PIECE",2]
[null,16,"360044-T501-00000","大灯安装支架",{"$f":"VLOOKUP(C524,'[1]Basic Information'!$C:$E,3,0)","v":"Headlight Mounting Bracket"},"PIECE",1]
[null,17]
[null,18]
[null,19]
[null,20]
["F-19 发动机 Engine"]
["PHOTO","NO.","Part CODE","Chinese/English name and specification",null,"UNIT","QTY","PRICE  (excluding tax)"]
[null,1,"5001-10030-SC00","六角法兰面螺栓M10*1.25*30",{"$f":"VLOOKUP(D531,'[1]Basic Information'!$D:$E,2,0)","v":"Bolt,Hex.Flange M10*1.25*130"},"PIECE",2]
[null,2,"AEDT01-B09","发动机总成",{"$f":"VLOOKUP(C532,'[1]Basic Information'!$C:$E,3,0)","v":"Engine Assy. (NC450S, Oil cooling pipe connection M10*1.25)"},"PIECE",1]
[null,3,"5021-06012-DK00","内六花六角法兰面螺栓M6*12",{"$f":"VLOOKUP(D533,'[1]Basic Information'!$D:$E,2,0)","v":"Bolt,Hex.Flange M6*12"},"PIECE",1]
[null,4,"360088-T501-00000","高压包压板",{"$f":"VLOOKUP(C534,'[1]Basic Information'!$C:$E,3,0)","v":"Pressing Pate, Coil to Spark Plug"},"PIECE",1]
[null,5,"421700-T501-00000","废气管总成",{"$f":"VLOOKUP(C535,'[1]Basic Information'!$C:$E,3,0)","v":"Exhaust Pipe Assembly"},"PIECE",1]
[null,6,"390023-T501-00000","发动机小链轮盖",{"$f":"VLOOKUP(C536,'[1]Basic Information'!$C:$E,3,0)","v":"Cover,Engine Sprocket"},"PIECE",1]
[null,7,"5001-06030-SC01","六角法兰面螺栓M6*30","Bolt,Hex.Flange","PIECE",2]
[null,8,"352300-T500-00000","链条",{"$f":"VLOOKUP(D538,'[1]Basic Information'!$D:$E,2,0)","v":"Chain"},"PIECE",1]
[null,9,"5021-06020-DK00","内六花六角法兰面螺栓M6*20","Bolt,Hex.Flange","PIECE",1]
[null,10,"370200-T501-00000","变档踏板总成",{"$f":"VLOOKUP(C540,'[1]Basic Information'!$C:$E,3,0)","v":"Pedal,Gear Shift Assy"},"PIECE",1]
[null,11,"5008-10115-SC00","六角法兰面自锁螺母",{"$f":"VLOOKUP(C541,'[1]Basic Information'!$C:$E,3,0)","v":"Tapping Nut,Hex.Flange M10*1.25"},"PIECE",3]
[null,12,"5001-10145-DK00","六角法兰面螺栓M10*145",{"$f":"VLOOKUP(D542,'[1]Basic Information'!$D:$E,2,0)","v":"Bolt,Hex.Flange  M10x1.25*145"},"PIECE",2]
[null,13,"5001-10130-DK01","六角法兰面螺栓M10*130",{"$f":"VLOOKUP(C543,'[1]Basic Information'!$C:$E,3,0)","v":"Bolt,Hex.Flange  M10*1.25*130"},"PIECE",1]
[null,14,"400006-T501-00000","线钩",{"$f":"VLOOKUP(D544,'[1]Basic Information'!$D:$E,2,0)","v":"wire hook"},"PIECE",1]
[null,15]
[null,16]
[null,17]
[null,18]
[null,19]
[null,20]
["F-20 方向把、后视镜-1 Steering handle, rearview mirror-1"]
["PHOTO","NO.","Part CODE","Chinese/English name and specification",null,"UNIT","QTY","PRICE  (excluding tax)"]
[null,1,"400100-T500-00000","后视镜总成-左",{"$f":"VLOOKUP(D553,[2]Sheet1!$D$1:$G$65536,4,0)","v":"Rear View Mirror(Left)"},"PIECE",1]
[null,2,"330800-T500-00001","仪表总成",{"$f":"VLOOKUP(D554,[2]Sheet1!$D$1:$G$65536,4,0)","v":"Speedometer Assy"},"PIECE",1]
[null,3,"400200-T500-00000","后视镜总成-右",{"$f":"VLOOKUP(D555,[2]Sheet1!$D$1:$G$65536,4,0)","v":"Rear View Mirror(Right)"},"PIECE",1]
[null,4,"380100-T500-00001","手把胶-左",{"$f":"VLOOKUP(D556,'[1]Basic Information'!$D:$E,2,0)","v":"Grip(Left),Handle Bar"},"PIECE",1]
[null,5,"5021-08045-SC00","内六花六角法兰面螺栓M8*45","Bolt,Hex.Flange","PIECE",4]
[null,6,"420033-T501-00002","方向把缓冲胶套(EPDM,黑色)",{"$f":"VLOOKUP(C558,'[1]Basic Information'!$C:$E,3,0)","v":"Handle Bar Rubber Cover"},"PIECE",4]
[null,7,"420033-T501-00003","方向把缓冲胶套(TPU,黄色)",{"$f":"VLOOKUP(C559,'[1]Basic Information'!$C:$E,3,0)","v":"Handle Bar Rubber Cover"},"PIECE",4]
[null,8,"370024-T501-00001","方向把下卡座缓冲块",{"$f":"VLOOKUP(C560,'[1]Basic Information'!$C:$E,3,0)","v":"Buffer Holder, Handle Bar Lower"},"PIECE",4]
[null,9,"370002-T501-00001","方向把上卡子",{"$f":"VLOOKUP(C561,'[1]Basic Information'!$C:$E,3,0)","v":"Clip, Handle Bar Upper"},"PIECE",2]
[null,10,"380200-T500-00001","手把胶总成-右",{"$f":"VLOOKUP(D562,[2]Sheet1!$D$1:$G$65536,4,0)","v":"Grip(Right),Handle Bar"},"PIECE",1]
[null,11,"330900-T500-00000","离合手柄总成",{"$f":"VLOOKUP(D563,'[1]Basic Information'!$D:$E,2,0)","v":"Lever,Clutch Assy"},"PIECE",1]
[null,12,"330901-T500-00000","离合手柄卡座",{"$f":"VLOOKUP(D564,'[1]Basic Information'!$D:$E,2,0)","v":"Holder,Lever Clutch"},"PIECE",1]
[null,13,"5021-06020-DK00","内六花六角法兰面螺栓M6*20","Bolt,Hex.Flange","PIECE",4]
[null,14,"331000-T500-00002","手把开关-左(配TFT仪表，不带背光)","Handlebar switch - left (with TFT meter, no backlight)","PIECE",1]
[null,15,"370001-T501-00001","方向把下卡座",{"$f":"VLOOKUP(C567,'[1]Basic Information'!$C:$E,3,0)","v":"Clip, Handle Bar Lower"},"PIECE",2]
[null,16,"370026-T501-00001","方向把下活动卡子",{"$f":"VLOOKUP(C568,'[1]Basic Information'!$C:$E,3,0)","v":"Movable Clips, Handle Bar Lower"},"PIECE",2]
[null,17,"370016-T501-00001","方向把下活动卡子固定块",{"$f":"VLOOKUP(C569,'[1]Basic Information'!$C:$E,3,0)","v":"Movable Clips Fixed Block, Handle Bar Lower"},"PIECE",2]
[null,18,"5003-10035-DK00","内六花圆柱头螺钉M10*35","Screw,Inner Hex.Column Head","PIECE",4]
[null,19,"370023-T501-00000","方向把下卡子增高块",{"$f":"VLOOKUP(C571,'[1]Basic Information'!$C:$E,3,0)","v":"Clip Heightening block, Handle Bar Lower"},"PIECE",4]
[null,20,"380900-T500-00000","加油器",{"$f":"VLOOKUP(D572,'[1]Basic Information'!$D:$E,2,0)","v":"Fueler"},"PIECE",1]
["F-20 方向把、后视镜-2 Steering handle, rearview mirror-2"]
["PHOTO","NO.","Part CODE","Chinese/English name and specification",null,"UNIT","QTY","PRICE  (excluding tax)"]
[null,21,"331100-T500-00002","手把开关-右(不带大灯开关)","Handle switch - right (without headlight switch)","PIECE",1]
[null,22,"380300-T500-00001","方向把(配小体积右开关)","Direction handle (with small volume right switch)","PIECE",1]
[null,23,"350202-T500-00000","制动手柄卡座",{"$f":"VLOOKUP(D577,'[1]Basic Information'!$D:$E,2,0)","v":"Brake handle Holder"},"PIECE",1]
[null,24,"350200-T501-00000","前制动泵",{"$f":"VLOOKUP(C578,'[1]Basic Information'!$C:$E,3,0)","v":"Bumper Assy,Front Brake"},"PIECE",1]
[null,25]
[null,26]
[null,27]
[null,28]
[null,29]
[null,30]
[null,31]
[null,32]
[null,33]
[null,34]
[null,35]
[null,36]
[null,37]
[null,38]
[null,39]
[null,40]
["F-21 后挡泥板后段 Rear section of rear fender"]
["PHOTO","NO.","Part CODE","Chinese/English name and specification",null,"UNIT","QTY","PRICE  (excluding tax)"]
[null,1,"5007-08015-BS00","尾包安装螺栓M8*15,台阶5.5","Tail pack mounting bolt","PIECE",2]
[null,2,"5004-05016-BS01","内六角盘头螺钉M5*16",{"$f":"VLOOKUP(D598,'[1]Basic Information'!$D:$E,2,0)","v":"Screw,Inner Hex.Flat Head M5*16"},"PIECE",2]
[null,3,"390004-T500-00000","后尾盖",{"$f":"VLOOKUP(D599,'[1]Basic Information'!$D:$E,2,0)","v":"Cap, Rear Tail"},"PIECE",1]
[null,4,"5001-08025-SC00","六角法兰面螺栓M8*25","Bolt,Hex.Flange","PIECE",4]
[null,5,"390020-T500-00000","后挡泥后段",{"$f":"VLOOKUP(D601,'[1]Basic Information'!$D:$E,2,0)","v":"Rear Part,Rear Fender"},"PIECE",1]
[null,6,"341100-T500-00001","后转向灯-右",{"$f":"VLOOKUP(D602,[2]Sheet1!$D$1:$G$65536,4,0)","v":"Rear Turning Light(Right)"},"PIECE",1]
[null,7,"5009-04040-SC00","自攻夹ST4.8*1.6*4*12.5","Clip, Tapping Screw","PIECE",3]
[null,8,"390002-T500-00000","后挡泥内衬板",{"$f":"VLOOKUP(D604,[2]Sheet1!$D$1:$G$65536,4,0)","v":"Inner Liner,Rear Fender"},"PIECE",1]
[null,9,"5006-04015-HX00","自攻钉ST4.8*15","Tapping Screw","PIECE",4]
[null,10,"340700-R102-000","后反射器",{"$f":"VLOOKUP(D606,[2]Sheet1!$D$1:$G$65536,4,0)","v":"Rear Reflector"},"PIECE",1]
[null,11,"420009-R100-000","后牌照缓冲胶∮8*∮10*11","Rear Licence Cushion","PIECE",1]
[null,12,"5008-05050-SC00","六角法兰面螺母M5",{"$f":"VLOOKUP(C608,'[1]Basic Information'!$C:$E,3,0)","v":"Bolt,Hex.Flange M6"},"PIECE",2]
[null,13,"340300-T501-00001","牌照灯总成",{"$f":"VLOOKUP(D609,[2]Sheet1!$D$1:$G$65536,4,0)","v":"License Light Assy"},"PIECE",1]
[null,14,"5005-05012-HX00","十字大盘头螺钉M5*12",{"$f":"VLOOKUP(C610,'[1]Basic Information'!$C:$E,3,0)","v":"Screw, Cross-Shaped,Cup Head M5*12"},"PIECE",2]
[null,15,"340200-T501-00001","尾灯总成",{"$f":"VLOOKUP(C611,'[1]Basic Information'!$C:$E,3,0)","v":"Tail light assembly"},"PIECE",1]
[null,16,"341000-T500-00001","后转向灯-左",{"$f":"VLOOKUP(D612,[2]Sheet1!$D$1:$G$65536,4,0)","v":"Rear Turning Light(Left)"},"PIECE",1]
[null,17,"5005-05012-HX00","十字大盘头螺钉M5*12",{"$f":"VLOOKUP(C613,'[1]Basic Information'!$C:$E,3,0)","v":"Screw, Cross-Shaped,Cup Head M5*12"},"PIECE",3]
[null,18]
[null,19]
[null,20]
["F-22 座垫 Cushion"]
["PHOTO","NO.","Part CODE","Chinese/English name and specification",null,"UNIT","QTY","PRICE  (excluding tax)"]
[null,1,"360700-T500-00000","座垫总成",{"$f":"VLOOKUP(D619,'[1]Basic Information'!$D:$E,2,0)","v":" Cushion"},"PIECE",1]
[null,2]
[null,3]
[null,4]
[null,5]
[null,6]
[null,7]
[null,8]
[null,9]
[null,10]
[null,11]
[null,12]
[null,13]
[null,14]
[null,15]
[null,16]
[null,17]
[null,18]
[null,19]
[null,20]
["F-23 缓冲体 Buffer"]
["PHOTO","NO.","Part CODE","Chinese/English name and specification",null,"UNIT","QTY","PRICE  (excluding tax)"]
[null,1,"5008-08085-SC00","六角法兰面自锁螺母M8",{"$f":"VLOOKUP(C641,'[1]Basic Information'!$C:$E,3,0)","v":"Tapping Nut,Hex.Flange M8*1.25"},"PIECE",6]
[null,2,"351902-T501-00000","大链轮",{"$f":"VLOOKUP(C642,'[1]Basic Information'!$C:$E,3,0)","v":"Large sprocket"},"PIECE",1]
[null,3,"5023-08027-DK00","内六花沉头螺钉M8x27","Internal six-flower countersunk head screws","PIECE",6]
[null,4,"351901-T500-00000","T型衬套",{"$f":"VLOOKUP(C644,'[1]Basic Information'!$C:$E,3,0)","v":"T-shape bushing"},"PIECE",1]
[null,5,"5101-305513-BS0","轴承30*55*13",{"$f":"VLOOKUP(C645,'[1]Basic Information'!$C:$E,3,0)","v":"bearing 30*55*13"},"PIECE",2]
[null,6,"5103-405504-000","油封∮40.9*∮55*4",{"$f":"VLOOKUP(C646,'[1]Basic Information'!$C:$E,3,0)","v":"oil seal∮40.9*∮55*4"},"PIECE",1]
[null,7,"350022-T501-00000","后链轮缓冲胶",{"$f":"VLOOKUP(C647,'[1]Basic Information'!$C:$E,3,0)","v":"Rear Chain Wheel Buffer"},"PIECE",6]
[null,8,"351900-T500-00000","缓冲体总成",{"$f":"VLOOKUP(D648,'[1]Basic Information'!$D:$E,2,0)","v":"Buffer assembly"},"PIECE",1]
[null,9]
[null,10]
[null,11]
[null,12]
[null,13]
[null,14]
[null,15]
[null,16]
[null,17]
[null,18]
[null,19]
[null,20]
["F-24 空滤器 Air filter"]
["PHOTO","NO.","Part CODE","Chinese/English name and specification",null,"UNIT","QTY","PRICE  (excluding tax)"]
[null,1,"5021-06012-DK00","内六花六角法兰面螺栓M6*12,","Bolt,Hex.Flange","PIECE",4]
[null,2,"320300-T501-00001","空滤器总成",{"$f":"VLOOKUP(C664,'[1]Basic Information'!$C:$E,3,0)","v":"Air filter assembly"},"PIECE",1]
[null,3,"5018-06526-SC00","平垫∮6.5*∮16*2.6","Washer,Flat","PIECE",3]
[null,4]
[null,5]
[null,6]
[null,7]
[null,8]
[null,9]
[null,10]
[null,11]
[null,12]
[null,13]
[null,14]
[null,15]
[null,16]
[null,17]
[null,18]
[null,19]
[null,20]
["F-25 前大灯 Headlights"]
["PHOTO","NO.","Part CODE","Chinese/English name and specification",null,"UNIT","QTY","PRICE  (excluding tax)"]
[null,1,"341700-T501-00000","前大灯总成-右",{"$f":"VLOOKUP(C685,'[1]Basic Information'!$C:$E,3,0)","v":"Headlight assembly-right"},"PIECE",1]
[null,2,"5021-05012-DK00","内六花六角法兰面螺栓M5*12",{"$f":"VLOOKUP(D686,'[1]Basic Information'!$D:$E,2,0)","v":"Bolt,Hex.Flange M5*12"},"PIECE",4]
[null,3,"341600-T501-00000","前大灯总成-左",{"$f":"VLOOKUP(C687,'[1]Basic Information'!$C:$E,3,0)","v":"Headlight assembly-left"},"PIECE",1]
[null,4,"341701-T501-00000","前大灯胶套-右",{"$f":"VLOOKUP(C688,'[1]Basic Information'!$C:$E,3,0)","v":"Front headlight rubber cover-right"},"PIECE",1]
[null,5,"341601-T501-00000","前大灯胶套-左",{"$f":"VLOOKUP(C689,'[1]Basic Information'!$C:$E,3,0)","v":"Front headlight rubber cover-left"},"PIECE",1]
[null,6,"390081-T501-00000","大灯装饰件",{"$f":"VLOOKUP(C690,'[1]Basic Information'!$C:$E,3,0)","v":"Headlight decoration piece"},"PIECE",1]
[null,7,"5004-06012-BS01","内六角盘头螺钉M6*12","Screw,Inner Hex.Flat Head","PIECE",4]
[null,8,"330008-T501-00001","大灯控制模块",{"$f":"VLOOKUP(D692,'[1]Basic Information'!$D:$E,2,0)","v":"Headlight control module"},"PIECE",1]
[null,9]
[null,10]
[null,11]
[null,12]
[null,13]
[null,14]
[null,15]
[null,16]
[null,17]
[null,18]
[null,19]
[null,20]
["F-26 制动踏板 Brake pedal assembly"]
["PHOTO","NO.","Part CODE","Chinese/English name and specification",null,"UNIT","QTY","PRICE  (excluding tax)"]
[null,1,"5018-08210-SC00","平垫∮8.2*∮26*1",{"$f":"VLOOKUP(D707,'[1]Basic Information'!$D:$E,2,0)","v":"Flat pad∮8.2*∮26*1"},"PIECE",1]
[null,2,"5103-122002-000","油封∮12.6*∮20.4*2.5","Oil Seal ∮12.6*∮20.4*2.5","PIECE",2]
[null,3,"5007-08016-SC00","制动臂螺栓M8(台阶高度φ12*18.2)","Brake arm bolt","PIECE",1]
[null,4,"5012-01048-LB00","后制动回位簧∮1.6*∮8*48",{"$f":"VLOOKUP(C710,'[1]Basic Information'!$C:$E,3,0)","v":"Rear brake return spring ∮1.6*∮8*48"},"PIECE",1]
[null,5,"370010-T501-00000","刹车摇臂",{"$f":"VLOOKUP(C711,'[1]Basic Information'!$C:$E,3,0)","v":"Brake rocker arm"},"PIECE",1]
[null,6,"5021-05012-DK00","内六花六角法兰面螺栓M5*12",{"$f":"VLOOKUP(D712,'[1]Basic Information'!$D:$E,2,0)","v":"Bolt,Hex.Flange M5*12"},"PIECE",2]
[null,7,"350009-T500-00000","后制动踏板",{"$f":"VLOOKUP(D713,'[1]Basic Information'!$D:$E,2,0)","v":"Rear brake pedal"},"PIECE",1]
[null,8]
[null,9]
[null,10]
[null,11]
[null,12]
[null,13]
[null,14]
[null,15]
[null,16]
[null,17]
[null,18]
[null,19]
[null,20]
["F-27 前减震器 Front shock absorber"]
["PHOTO","NO.","Part CODE","Chinese/English name and specification",null,"UNIT","QTY","PRICE  (excluding tax)"]
[]
[]
[null,1.3,"371300-T500-00001","前减震器-左(标准版-渝安减震)","Front shock absorber - Left (Standard version - Yu 'an Shock Absorber)","PIECE",1]
[null,1.4,"371300-T501-00001","前减震器-左(高座版-渝安减震)",{"$f":"VLOOKUP(C732,'[1]Basic Information'!$C:$E,3,0)","v":"Front shock absorber - Left (Yu 'an shock absorber)"},"PIECE",1]
[]
[]
[null,2.3,"371400-T500-00001","前减震器-右(标准版-渝安减震)","Front shock absorber - Right (Standard version - Yu 'an Shock Absorber)","PIECE",1]
[null,2.4,"371400-T501-00001","前减震器-右(高座版-渝安减震)",{"$f":"VLOOKUP(C736,'[1]Basic Information'!$C:$E,3,0)","v":"Front shock absorber -right (Yu 'an shock absorber)"},"PIECE",1]
[null,3,"5006-04012-SC00","自攻钉ST4.8*12",{"$f":"VLOOKUP(C737,'[1]Basic Information'!$C:$E,3,0)","v":" Self Tapping ST4.8*12"},"PIECE",2]
[null,4,"350035-T501-00000","前制动油管压板",{"$f":"VLOOKUP(C738,'[1]Basic Information'!$C:$E,3,0)","v":"Front brake tubing press plate"},"PIECE",1]
[null,5,"390062-T501-00000","前减震器装饰罩-右",{"$f":"VLOOKUP(C739,'[1]Basic Information'!$C:$E,3,0)","v":"Front shock absorber decoration cover - right"},"PIECE",1]
[null,6,"390055-T501-00000","前减震器装饰罩-左",{"$f":"VLOOKUP(C740,'[1]Basic Information'!$C:$E,3,0)","v":"Front shock absorber decoration cover - left"},"PIECE",1]
[null,7,"5004-06010-BS00","内六角盘头螺钉M6*10","Screw,Inner Hex.Flat Head","PIECE",6]
[null,8,"5021-08025-DK00","内六花六角法兰面螺栓M8*25","Bolt,Hex.Flange","PIECE",4]
[null,9,"340600-T501-00000","侧反射器",{"$f":"VLOOKUP(D743,[2]Sheet1!$D$1:$G$65536,4,0)","v":"Side Reflector"},"PIECE",2]
[null,10]
[null,11]
[null,12]
[null,13]
[null,14]
["F-28 散热器 Radiator"]
["PHOTO","NO.","Part CODE","Chinese/English name and specification",null,"UNIT","QTY","PRICE  (excluding tax)"]
[null,1,"5021-05012-DK00","内六花六角法兰面螺栓M5*12",{"$f":"VLOOKUP(D751,'[1]Basic Information'!$D:$E,2,0)","v":"Bolt,Hex.Flange M5*12"},"PIECE",4]
[null,2,"300302-T501-00000","散热器格栅-左",{"$f":"VLOOKUP(C752,'[1]Basic Information'!$C:$E,3,0)","v":"Radiator grille. - Left"},"PIECE",1]
[null,3,"300300-T501-00001","散热器总成-左",{"$f":"VLOOKUP(C753,'[1]Basic Information'!$C:$E,3,0)","v":"Radiator Assembly - Left"},"PIECE",1]
[null,4,"420056-T501-00000","水箱连接管",{"$f":"VLOOKUP(C754,'[1]Basic Information'!$C:$E,3,0)","v":"Water tank connection pipe"},"PIECE",1]
[null,5,"300400-T501-00001","散热器总成-右",{"$f":"VLOOKUP(C755,'[1]Basic Information'!$C:$E,3,0)","v":"Radiator Assembly - Right"},"PIECE",1]
[null,6,"300402-T501-00000","散热器格栅-右",{"$f":"VLOOKUP(C756,'[1]Basic Information'!$C:$E,3,0)","v":"Radiator grille. - Right"},"PIECE",1]
[null,7,"300200-T501-00001","储水壶总成",{"$f":"VLOOKUP(C757,'[1]Basic Information'!$C:$E,3,0)","v":"Cooling Tank Assy"},"PIECE",1]
[null,8,"5021-06025-DK00","内六花六角法兰面螺栓M6*25","Bolt,Hex.Flange","PIECE",4]
[null,9,"5018-06015-SC00","平垫∮6.3*∮18*1.5","Washer,Flat","PIECE",2]
[null,10,"5004-06012-BS01","内六角台阶螺钉M6*12,台阶8.5*3.5",{"$f":"VLOOKUP(D760,'[1]Basic Information'!$D:$E,2,0)","v":"Stepping Screw,Inner Hex. M6*12, Stepping 8.5*3.5"},"PIECE",2]
[null,11,"420020-T501-00000","进水管(左散热器)",{"$f":"VLOOKUP(C761,'[1]Basic Information'!$C:$E,3,0)","v":"Inlet pipe (left radiator)"},"PIECE",1]
[null,12,"420020-T501-00001","进水管(右散热器)",{"$f":"VLOOKUP(C762,'[1]Basic Information'!$C:$E,3,0)","v":"inlet pipe (right radiator)"},"PIECE",1]
[null,13,"420021-T501-00000","出水管",{"$f":"VLOOKUP(C763,'[1]Basic Information'!$C:$E,3,0)","v":"outlet pipe"},"PIECE",1]
[null,14,"420027-T501-00000","泄压管",{"$f":"VLOOKUP(C764,'[1]Basic Information'!$C:$E,3,0)","v":"Pressure Relif Pipe"},"PIECE",1]
[null,15,"420700-T501-00000","储水壶排水管",{"$f":"VLOOKUP(C765,'[1]Basic Information'!$C:$E,3,0)","v":"Drain Pipe,Cooling Tank Assy"},"PIECE",1]
[null,16]
[null,17]
[null,18]
[null,19]
[null,20]
["F-29 油冷器 Oil cooler"]
["PHOTO","NO.","Part CODE","Chinese/English name and specification",null,"UNIT","QTY","PRICE  (excluding tax)"]
[null,1,"5021-06025-DK00","内六花六角法兰面螺栓M6*25","Bolt,Hex.Flange","PIECE",1]
[null,2,"5018-06015-SC00","平垫∮6.3*∮18*1.5","Washer,Flat","PIECE",1]
[null,3,"311600-T501-00000","油冷器(油管接头M10*1.25,配4颗M10*1.25*25过油螺栓,配8个∮10铜垫圈)",{"$f":"VLOOKUP(C775,'[1]Basic Information'!$C:$E,3,0)","v":"Oil cooler"},"PIECE",1]
[null,4,"420057-T501-00000","油冷器进油管","Oil cooler inlet pipe","PIECE",1]
[null,5,"420058-T501-00000","油冷器出油管","Oil cooler outlet pipe","PIECE",1]
[null,6]
[null,7]
[null,8]
[null,9]
[null,10]
[null,11]
[null,12]
[null,13]
[null,14]
[null,15]
[null,16]
[null,17]
[null,18]
[null,19]
[null,20]
["F-30 消声器 Muffler"]
["PHOTO","NO.","Part CODE","Chinese/English name and specification",null,"UNIT","QTY","PRICE  (excluding tax)"]
[null,1,"320200-T500-00000","消声器后段总成",{"$f":"VLOOKUP(D795,'[1]Basic Information'!$D:$E,2,0)","v":"Rear Part,Muffler Assy"},"PIECE",1]
[null,2,"5008-08085-SC00","六角法兰面自锁螺母M8",{"$f":"VLOOKUP(C796,'[1]Basic Information'!$C:$E,3,0)","v":"Tapping Nut,Hex.Flange M8*1.25"},"PIECE",1]
[null,3,"5018-08420-SC00","平垫∮8.4*∮24*2","Washer,Flat","PIECE",1]
[null,4,"5021-08045-DK00","内六花六角法兰面螺栓M8*45","Bolt,Hex.Flange","PIECE",1]
[null,5,"320800-T500-00001","消声器中段总成",{"$f":"VLOOKUP(D799,'[1]Basic Information'!$D:$E,2,0)","v":"Muffler middle section assembly"},"PIECE",1]
[null,6,"5021-08030-DK00","内六花六角法兰面螺栓M8*30","Bolt,Hex.Flange","PIECE",1]
[null,7,"5018-08420-SC00","平垫∮8.4*∮24*2","Washer,Flat","PIECE",1]
[null,8,"420011-T501-00001","消声器安装工字胶24.5*30.5*19",{"$f":"VLOOKUP(C802,'[1]Basic Information'!$C:$E,3,0)","v":"Installment Rubber,Muffler I-Shaped"},"PIECE",1]
[null,9,"5013-15019-YH00","翻边衬套15*8.5*20.5",{"$f":"VLOOKUP(C803,'[1]Basic Information'!$C:$E,3,0)","v":"Bushing,Flange 15*8.5*20.5"},"PIECE",1]
[null,10,"310900-T500-00000","氧传感器",{"$f":"VLOOKUP(C804,'[1]Basic Information'!$C:$E,3,0)","v":"oxygen sensor"},"PIECE",1]
[null,11,"5008-08165-SC00","盖形螺母M8*1.25*14",{"$f":"VLOOKUP(C805,'[1]Basic Information'!$C:$E,3,0)","v":"cap nut M8*1.25*14"},"PIECE",2]
[null,12,"320100-T500-00000","消声器前段总成",{"$f":"VLOOKUP(D806,'[1]Basic Information'!$D:$E,2,0)","v":"Exhausting Pipe,Muffler Assy"},"PIECE",1]
[null,13,"320001-T501-00000","消声器密封垫",{"$f":"VLOOKUP(C807,'[1]Basic Information'!$C:$E,3,0)","v":"Seal Gasket,Muffer Assy"},"PIECE",1]
[null,14,"400006-R100-000","线钩",{"$f":"VLOOKUP(C808,'[1]Basic Information'!$C:$E,3,0)","v":"wire hook"},"PIECE",1]
[null,15]
[null,16]
[null,17]
[null,18]
[null,19]
[null,20]
["F-31 前挡风与油箱装饰件 Windshield and fuel tank trim"]
["PHOTO","NO.","Part CODE","Chinese/English name and specification",null,"UNIT","QTY","PRICE  (excluding tax)"]
[null,1,"5007-06021-HX00","1/4转快锁式螺栓M6*21",{"$f":"VLOOKUP(C817,'[1]Basic Information'!$C:$E,3,0)","v":"1/4Turn fast locking bolt"},"PIECE",2]
[null,2,"5012-07024-FH00","弹出弹簧∮7.63*∮11.43*24.13",{"$f":"VLOOKUP(C818,'[1]Basic Information'!$C:$E,3,0)","v":"Pop-up spring ∮7.63*∮11.43*24.13"},"PIECE",2]
[null,3,"5018-07035-BS00","杯形垫圈∮7*∮24*3.5",{"$f":"VLOOKUP(C819,'[1]Basic Information'!$C:$E,3,0)","v":"cup washer ∮7*∮24*3.5"},"PIECE",2]
[null,4,"5020-05405-BS00","挡圈∮5.4*∮12.5*0.5",{"$f":"VLOOKUP(C820,'[1]Basic Information'!$C:$E,3,0)","v":"Collar∮5.4*∮12.5*0.5"},"PIECE",6]
[null,5,"390028-T500-00000","前挡风",{"$f":"VLOOKUP(D821,'[1]Basic Information'!$D:$E,2,0)","v":"front windshield"},"PIECE",1]
[null,6,"420008-R201-000","工字胶圈2.85+2.6+2.85",{"$f":"VLOOKUP(C822,'[1]Basic Information'!$C:$E,3,0)","v":"Ring, Rubber I-Shaped"},"PIECE",2]
[null,7,"5028-05013-BS00","内六花台阶螺钉M5*13","Stepping Screw,Inner Hex.","PIECE",6]
[null,8,"5018-08007-BS00","平垫∮8*∮14*0.7",{"$f":"VLOOKUP(C824,'[1]Basic Information'!$C:$E,3,0)","v":"Flat pad (nylon )"},"PIECE",6]
[null,9,"420024-R100-000","橡胶螺母",{"$f":"VLOOKUP(C825,'[1]Basic Information'!$C:$E,3,0)","v":"Rubber nut"},"PIECE",6]
[null,10,"5007-06016-HX00","1/4转快锁式螺栓M6*16",{"$f":"VLOOKUP(C826,'[1]Basic Information'!$C:$E,3,0)","v":"1/4 Quick-lock Bolt"},"PIECE",4]
[null,11,"5018-06520-BS00","平垫∮6.5*∮24*2",{"$f":"VLOOKUP(C827,'[1]Basic Information'!$C:$E,3,0)","v":"Washer,Flat∮6.5*∮20*2"},"PIECE",4]
[null,12,"390076-T500-00000","油箱前装饰件-左",{"$f":"VLOOKUP(D828,'[1]Basic Information'!$D:$E,2,0)","v":"Tank front decoration piece - left"},"PIECE",1]
[null,13,"390077-T500-00000","油箱前装饰件-右",{"$f":"VLOOKUP(D829,'[1]Basic Information'!$D:$E,2,0)","v":"Tank front decoration piece - right"},"PIECE",1]
[null,14,"341000-P200-00000","后转向灯-左",{"$f":"VLOOKUP(D830,[2]Sheet1!$D$1:$G$65536,4,0)","v":"Rear Turning Light(Left)"},"PIECE",1]
[null,15,"341100-P200-00000","后转向灯-右",{"$f":"VLOOKUP(D831,[2]Sheet1!$D$1:$G$65536,4,0)","v":"Rear Turning Light(Right)"},"PIECE",1]
[null,16]
[null,17]
[null,18]
[null,19]
[null,20]
["F-32 制动系统-1 Braking system-1"]
["PHOTO","NO.","Part CODE","Chinese/English name and specification",null,"UNIT","QTY","PRICE  (excluding tax)"]
[null,1,"350501-T501-00000","后刹车片",{"$f":"VLOOKUP(C839,'[1]Basic Information'!$C:$E,3,0)","v":"Rear brake pad"},"PIECE",2]
[null,2,"350500-T501-00000","后制动卡钳总成",{"$f":"VLOOKUP(C840,'[1]Basic Information'!$C:$E,3,0)","v":"Rear brake caliper assembly"},"PIECE",1]
[null,3,"5005-05012-HX00","十字大盘头螺钉M5*12",{"$f":"VLOOKUP(C841,'[1]Basic Information'!$C:$E,3,0)","v":"Screw, Cross-Shaped,Cup Head M5*12"},"PIECE",4]
[null,4,"350025-T501-00001","油管卡子",{"$f":"VLOOKUP(C842,'[1]Basic Information'!$C:$E,3,0)","v":"Oil pipe clip"},"PIECE",2]
[null,5,"350002-R100-000","铜垫圈∮10*∮15*1.5",{"$f":"VLOOKUP(C843,'[1]Basic Information'!$C:$E,3,0)","v":"Copper Washer ∮10*∮15*1.5"},"PIECE",14]
[null,6,"350800-T500-00000","制动油管1(前制动泵连ABS)","Brake Tubing 1(front brake pump with ABS)","PIECE",1]
[null,7,"350001-R100-000","过油螺栓",{"$f":"VLOOKUP(D845,[2]Sheet1!$D$1:$G$65536,4,0)","v":"Oil Bolt"},"PIECE",3]
[null,8,"350900-T500-00001","制动油管2(前卡钳连ABS)","Brake Tubing 2(Front caliper with ABS)","PIECE",1]
[null,9,"5021-08035-SC00","内六花六角法兰面螺栓M8*35","Bolt,Hex.Flange","PIECE",2]
[null,10,"350301-T501-00000","前刹车片",{"$f":"VLOOKUP(C848,'[1]Basic Information'!$C:$E,3,0)","v":"Front brake pads"},"PIECE",2]
[null,11,"352600-T501-00000","前制动卡钳总成",{"$f":"VLOOKUP(C849,'[1]Basic Information'!$C:$E,3,0)","v":"Front brake caliper assembly"},"PIECE",1]
[null,12,"350001-R100-001","过油螺栓",{"$f":"VLOOKUP(D850,[2]Sheet1!$D$1:$G$65536,4,0)","v":"Oil Bolt"},"PIECE",4]
[null,13,"351000-T500-00000","制动油管3(后制动泵连ABS)","Brake Tubing 3(rear brake pump with ABS)","PIECE",1]
[null,14,"5004-06016-BS00","内六角大盘头螺钉M6*16","Screw,Inner Hex.Flat Big Head","PIECE",2]
[null,15,"350600-T501-00000","后制动泵总成",{"$f":"VLOOKUP(C853,'[1]Basic Information'!$C:$E,3,0)","v":"Rear brake pump assembly"},"PIECE",1]
[null,16,"350033-T501-00000","后制动泵销轴",{"$f":"VLOOKUP(C854,'[1]Basic Information'!$C:$E,3,0)","v":"Rear brake pump pin"},"PIECE",1]
[null,17,"350034-T501-00000","后制动泵拨叉",{"$f":"VLOOKUP(C855,'[1]Basic Information'!$C:$E,3,0)","v":"Rear brake pump fork"},"PIECE",1]
[null,18,"5018-08012-BS00","平垫∮8*∮16*1",{"$f":"VLOOKUP(C856,'[1]Basic Information'!$C:$E,3,0)","v":"washer, flat ∮8*∮16*1"},"PIECE",1]
[null,19,"5015-01016-SC00","开口销1.2*16",{"$f":"VLOOKUP(C857,'[1]Basic Information'!$C:$E,3,0)","v":"Pin,Split 1.2*16"},"PIECE",1]
[null,20,"351100-T500-00000","制动油管4(后卡钳连ABS)","Brake Tubing 4(Rear caliper with ABS)","PIECE",1]
["F-32 制动系统-2 Braking system-2"]
["PHOTO","NO.","Part CODE","Chinese/English name and specification",null,"UNIT","QTY","PRICE  (excluding tax)"]
[null,21,"5021-06012-DK00","内六花六角法兰面螺栓M6*12",{"$f":"VLOOKUP(D861,'[1]Basic Information'!$D:$E,2,0)","v":"Bolt,Hex.Flange M6*12"},"PIECE",2]
[null,22,"390080-T501-00000","后制动卡钳装饰件",{"$f":"VLOOKUP(C862,'[1]Basic Information'!$C:$E,3,0)","v":"Rear brake caliper decoration piece"},"PIECE",1]
[null,23,"350036-T501-00000","前卡钳支架",{"$f":"VLOOKUP(C863,'[1]Basic Information'!$C:$E,3,0)","v":"Front caliper bracket ( for KYB shock absorption)"},"PIECE",1]
[null,24,"350602-T501-00000","后制动泵油杯盖",{"$f":"VLOOKUP(C864,'[1]Basic Information'!$C:$E,3,0)","v":"oil cup cover, Rear brake pump "},"PIECE",1]
[null,25]
[null,26]
[null,27]
[null,28]
[null,29]
[null,30]
[null,31]
[null,32]
[null,33]
[null,34]
[null,35]
[null,36]
[null,37]
[null,38]
[null,39]
[null,40]
["F-33 前脚蹬 Front pedal"]
["PHOTO","NO.","Part CODE","Chinese/English name and specification",null,"UNIT","QTY","PRICE  (excluding tax)"]
[null,1,"370400-T501-00000","前脚蹬-右",{"$f":"VLOOKUP(C883,'[1]Basic Information'!$C:$E,3,0)","v":"Front pedal. - Right"},"PIECE",1]
[null,2,"370014-T501-00002","销∮2","Pin","PIECE",2]
[null,3,"370300-T501-00000","前脚蹬-左",{"$f":"VLOOKUP(C885,'[1]Basic Information'!$C:$E,3,0)","v":"Front pedal. -Left"},"PIECE",1]
[null,4,"370004-T501-00000","脚蹬扭簧-右",{"$f":"VLOOKUP(C886,'[1]Basic Information'!$C:$E,3,0)","v":"Foot twist spring. - Right"},"PIECE",1]
[null,5,"370003-T501-00000","脚蹬扭簧-左",{"$f":"VLOOKUP(C887,'[1]Basic Information'!$C:$E,3,0)","v":"Foot twist spring. - Left"},"PIECE",1]
[null,6,"5018-10515-LB00","平垫∮10.5*∮20*1.5",{"$f":"VLOOKUP(D888,'[1]Basic Information'!$D:$E,2,0)","v":"washer flat∮10.5*∮20*1.5"},"PIECE",2]
[null,7,"5015-01016-SC00","开口销1.2*16",{"$f":"VLOOKUP(C889,'[1]Basic Information'!$C:$E,3,0)","v":"Pin,Split 1.2*16"},"PIECE",2]
[null,8]
[null,9]
[null,10]
[null,11]
[null,12]
[null,13]
[null,14]
[null,15]
[null,16]
[null,17]
[null,18]
[null,19]
[null,20]
["F-34 侧支架  Side stand "]
["PHOTO","NO.","Part CODE","Chinese/English name and specification",null,"UNIT","QTY","PRICE  (excluding tax)"]
[null,1,"360057-T501-00000","侧支架安装挂板",{"$f":"VLOOKUP(C905,'[1]Basic Information'!$C:$E,3,0)","v":"Side Stand mounting pendant plate"},"PIECE",1]
[null,2,"5008-10115-SC00","六角法兰面自锁螺母M10*1.25",{"$f":"VLOOKUP(C906,'[1]Basic Information'!$C:$E,3,0)","v":"Tapping Nut,Hex.Flange M10*1.25"},"PIECE",1]
[null,3.1,"370013-T500-00000","侧支架(标准版-KYB减震-渝安减震)","Side stand (Standard version -KYB damping - Yu 'an damping)","PIECE",1]
[null,3.2,"370013-T501-00001","侧支架(高座版-KYB减震-渝安减震)",{"$f":"VLOOKUP(C908,'[1]Basic Information'!$C:$E,3,0)","v":"Side Stand"},"PIECE",1]
[null,4,"5007-10042-SC00","侧支架专用螺栓",{"$f":"VLOOKUP(D909,[2]Sheet1!$D$1:$G$65536,4,0)","v":"Bolt,Side Stand"},"PIECE",1]
[null,5,"360020-T501-00000","侧支架簧∮15*110,线径2.5mm",{"$f":"VLOOKUP(C910,'[1]Basic Information'!$C:$E,3,0)","v":"Spring, Side Stand∮9.5,  Line Diameter 1.6mm"},"PIECE",1]
[null,6,"360020-T501-00001","侧支架簧∮9.5,线径1.6mm",{"$f":"VLOOKUP(C911,'[1]Basic Information'!$C:$E,3,0)","v":"Spring, Side Stand∮9.5,  Line Diameter 1.6mm"},"PIECE",1]
[null,7]
[null,8]
[null,9]
[null,10]
[null,11]
[null,12]
[null,13]
[null,14]
[null,15]
[null,16]
[null,17]
[null,18]
[null,19]
["F-35 头罩支架 Hood bracket"]
["PHOTO","NO.","Part CODE","Chinese/English name and specification",null,"UNIT","QTY","PRICE  (excluding tax)"]
[null,1,"5005-05020-SC00","十字盘头螺钉M5*20",{"$f":"VLOOKUP(C927,'[1]Basic Information'!$C:$E,3,0)","v":"Screw,Inner Hex.Flat Head M5*20"},"PIECE",4]
[null,2,"5018-05515-SC00","平垫φ5",{"$f":"VLOOKUP(C928,'[1]Basic Information'!$C:$E,3,0)","v":"Washer,Flat φ5"},"PIECE",4]
[null,3,"420008-R201-000","工字胶圈",{"$f":"VLOOKUP(C929,'[1]Basic Information'!$C:$E,3,0)","v":"Ring, Rubber I-Shaped"},"PIECE",4]
[null,4,"5013-06008-SC01","翻边衬套∮6*∮9*∮18*8.5","Bushing,Flange","PIECE",4]
[null,5,"5021-05012-DK00","内六花六角法兰面螺栓M5*12",{"$f":"VLOOKUP(D931,'[1]Basic Information'!$D:$E,2,0)","v":"Bolt,Hex.Flange M5*12"},"PIECE",8]
[null,6,"5001-08020-SC00","内六花六角法兰面螺栓M8*20","Bolt,Hex.Flange","PIECE",4]
[null,7,"360060-T500-00000","挡线板","Wire stopper","PIECE",1]
[null,8,"421000-R100-000","膨胀胶钉",{"$f":"VLOOKUP(D934,[2]Sheet1!$D$1:$G$65536,4,0)","v":"Rubber Nail, Expansion"},"PIECE",2]
[null,9,"360058-T500-00000","头罩支架-左","Hood bracket. - Left","PIECE",1]
[null,10,"360059-T500-00000","头罩支架-右","Hood bracket. - Right","PIECE",1]
[null,11]
[null,12]
[null,13]
[null,14]
[null,15]
[null,16]
[null,17]
[null,18]
[null,19]
[null,20]